BEGIN:VCALENDAR
VERSION:2.0
PRODID:-//Livemacher GmbH - ECPv6.15.20//NONSGML v1.0//EN
CALSCALE:GREGORIAN
METHOD:PUBLISH
X-ORIGINAL-URL:https://www.livemacher.de
X-WR-CALDESC:Veranstaltungen für Livemacher GmbH
REFRESH-INTERVAL;VALUE=DURATION:PT1H
X-Robots-Tag:noindex
X-PUBLISHED-TTL:PT1H
BEGIN:VTIMEZONE
TZID:Europe/Berlin
BEGIN:DAYLIGHT
TZOFFSETFROM:+0100
TZOFFSETTO:+0200
TZNAME:CEST
DTSTART:20190331T010000
END:DAYLIGHT
BEGIN:STANDARD
TZOFFSETFROM:+0200
TZOFFSETTO:+0100
TZNAME:CET
DTSTART:20191027T010000
END:STANDARD
BEGIN:DAYLIGHT
TZOFFSETFROM:+0100
TZOFFSETTO:+0200
TZNAME:CEST
DTSTART:20200329T010000
END:DAYLIGHT
BEGIN:STANDARD
TZOFFSETFROM:+0200
TZOFFSETTO:+0100
TZNAME:CET
DTSTART:20201025T010000
END:STANDARD
BEGIN:DAYLIGHT
TZOFFSETFROM:+0100
TZOFFSETTO:+0200
TZNAME:CEST
DTSTART:20210328T010000
END:DAYLIGHT
BEGIN:STANDARD
TZOFFSETFROM:+0200
TZOFFSETTO:+0100
TZNAME:CET
DTSTART:20211031T010000
END:STANDARD
END:VTIMEZONE
BEGIN:VEVENT
DTSTART;TZID=Europe/Berlin:20200306T200000
DTEND;TZID=Europe/Berlin:20200306T200000
DTSTAMP:20260424T140454
CREATED:20190417T081242Z
LAST-MODIFIED:20200308T093426Z
UID:10049822-1583524800-1583524800@www.livemacher.de
SUMMARY:Die Füenf - „005 im Dienste ihrer Mayonnaise“ Großbottwar\, Wunnensteinhalle
DESCRIPTION:Hallenverlegung                            \n                            \n                        \n                        \n                        \n                        \n                                                Der für Freitag\, den 06.03.2020 angesetzte Auftritt von die füenf in der Harzberghalle in Großbottwar wurde aus organisatorischen Gründen in die  gegenüberliegende Wunnensteinhalle verlegt.\n                        \n                        \n                        \n                    \n                \n            \n        \n\n    \n    \n\n\n005 im Dienste ihrer Mayonnaise\n Sing und Unsing \nDie Monotonie will mal wieder die Weltherrschaft? Aber nicht mit uns! Füenf\, die tonsicherste Einheiztruppe ihrer Haihaut wagt es einmal öfter\, sich eurem Einerlei mit Sing und Unsing wacker in den Weg zu stellen. \nFüenf machten gesungene Musicomedy deutschlandweit populär und werden und werden nicht müde. Sie haben die Lizenz zum Blödeln in gereimter Mission\, juxgefährlich\, uninstrumental\, scherzgewaltig! \nAuch ihre 10. Show feiert wieder den tagtäglichen Irrsinn zwischen den Zeilen der Vernunft\, scharfzüngig und lachkrampferprobt\, natürlich mit einem neuen Liebeshorst\, Raritäten aus der Recyclingtonne\, Liedern fürs Auge\, Gags & Sex fürs Ohr im wie gewohnt unnachahmlichen Freestyle Deutschlands lustigster A-cappella-Band.
URL:https://www.livemacher.de/event/die-fueenf-005-im-dienste-ihrer-mayonnaise-grossbottwar-wunnensteinhalle/
LOCATION:Wunnensteinhalle Großbottwar\, In den Frauengärten 10\, Großbottwar\, Baden-Württemberg\, 71723\, Deutschland
CATEGORIES:Bühne,Jazz-Pop-Rock
ATTACH;FMTTYPE=image/jpeg:https://www.livemacher.de/wp-content/uploads/2019/04/web_20200306_GRB_FUEENF_1000x1000_01.jpg
ORGANIZER;CN="Livemacher GmbH":MAILTO:info@livemacher.de
GEO:49.004249;9.285502
X-APPLE-STRUCTURED-LOCATION;VALUE=URI;X-ADDRESS=Wunnensteinhalle Großbottwar In den Frauengärten 10 Großbottwar Baden-Württemberg 71723 Deutschland;X-APPLE-RADIUS=500;X-TITLE=In den Frauengärten 10:geo:9.285502,49.004249
END:VEVENT
END:VCALENDAR