BEGIN:VCALENDAR
VERSION:2.0
PRODID:-//Livemacher GmbH - ECPv6.15.20//NONSGML v1.0//EN
CALSCALE:GREGORIAN
METHOD:PUBLISH
X-WR-CALNAME:Livemacher GmbH
X-ORIGINAL-URL:https://www.livemacher.de
X-WR-CALDESC:Veranstaltungen für Livemacher GmbH
REFRESH-INTERVAL;VALUE=DURATION:PT1H
X-Robots-Tag:noindex
X-PUBLISHED-TTL:PT1H
BEGIN:VTIMEZONE
TZID:Europe/Berlin
BEGIN:DAYLIGHT
TZOFFSETFROM:+0100
TZOFFSETTO:+0200
TZNAME:CEST
DTSTART:20190331T010000
END:DAYLIGHT
BEGIN:STANDARD
TZOFFSETFROM:+0200
TZOFFSETTO:+0100
TZNAME:CET
DTSTART:20191027T010000
END:STANDARD
BEGIN:DAYLIGHT
TZOFFSETFROM:+0100
TZOFFSETTO:+0200
TZNAME:CEST
DTSTART:20200329T010000
END:DAYLIGHT
BEGIN:STANDARD
TZOFFSETFROM:+0200
TZOFFSETTO:+0100
TZNAME:CET
DTSTART:20201025T010000
END:STANDARD
BEGIN:DAYLIGHT
TZOFFSETFROM:+0100
TZOFFSETTO:+0200
TZNAME:CEST
DTSTART:20210328T010000
END:DAYLIGHT
BEGIN:STANDARD
TZOFFSETFROM:+0200
TZOFFSETTO:+0100
TZNAME:CET
DTSTART:20211031T010000
END:STANDARD
END:VTIMEZONE
BEGIN:VEVENT
DTSTART;TZID=Europe/Berlin:20200209T100000
DTEND;TZID=Europe/Berlin:20200209T180000
DTSTAMP:20260420T103343
CREATED:20221109T165744Z
LAST-MODIFIED:20221109T165744Z
UID:10010068-1581242400-1581271200@www.livemacher.de
SUMMARY:KÖRPERWELTEN Wien\, Stadthalle
DESCRIPTION:Eine Reise unter die Haut „KÖRPERWELTEN – Eine Herzenssache“ in Wien.  \nPlastinator Dr. Gunther von Hagens und Kuratorin Dr. Angelina Whalley präsentieren ab 4. Oktober 2019 erstmals ihre aktuelle Ausstellung in der Wiener Stadthalle: „KÖRPERWELTEN – Eine Herzenssache“! Tickets ab 4. September bei allen bekannten Vorverkaufsstellen. \nKÖRPERWELTEN ist eine Ausstellung\, die den Blick auf uns selbst und unsere Lebensweise nachhaltig verändert. Mehr als 48 Millionen Menschen weltweit haben sich bereits auf diese Selbstentdeckungsreise begeben. Beginnend vom Skelett über das Zusammenwirken der Muskulatur bis hin zur Entwicklung im Mutterleib erhält der Besucher ein detailliertes Bild über den Aufbau seines Innenlebens. Anhand faszinierender Präparate werden für jedermann verständlich Organfunktionen und häufige Erkrankungen erläutert. Rund 200 Ausstellungsstücke gibt es in Wien zu sehen\, darunter 20 Ganzkörperexponate sowie Teilplastinate\, transparente Körperscheiben und einzelne Organe. \nThematischer Schwerpunkt dieser Ausstellung ist das Herz mit seinem weit verzweigten Gefäßsystem. Das Hochleistungsorgan des Körpers ist der Motor des Lebens\, aber durch Dauerbelastung Funktionsstörungen und Verschleißerscheinungen ausgesetzt. Krankheiten des Blutkreislauf-Systems sind heute die häufigste Todesursache. „Sie sind jedoch vermeidbar“\, so die Ärztin und Kuratorin Dr. Angelina Whalley.„Auf unser Herz\, dieses lebenswichtige Organ\, achten wir oft erst\, wenn es erkrankt oder unter großer Belastung leidet. Ich wünsche mir\, dass die Ausstellung Besucher anregt\, herzbewusster und herzgesünder zu leben.“
URL:https://www.livemacher.de/event/koerperwelten-wien/2020-02-09/
LOCATION:Wiener Stadthalle\, Roland-Rainer-Platz 1\, Wien\, 1150\, Österreich
CATEGORIES:Ausstellung
ATTACH;FMTTYPE=image/jpeg:https://www.livemacher.de/wp-content/uploads/2019/09/kw-neues-bild-e1580241794904.jpg
ORGANIZER;CN="Livemacher GmbH":MAILTO:info@livemacher.de
GEO:48.202361;16.3328959
X-APPLE-STRUCTURED-LOCATION;VALUE=URI;X-ADDRESS=Wiener Stadthalle Roland-Rainer-Platz 1 Wien 1150 Österreich;X-APPLE-RADIUS=500;X-TITLE=Roland-Rainer-Platz 1:geo:16.3328959,48.202361
END:VEVENT
BEGIN:VEVENT
DTSTART;TZID=Europe/Berlin:20200207T090000
DTEND;TZID=Europe/Berlin:20200207T180000
DTSTAMP:20260420T103343
CREATED:20190911T084821Z
LAST-MODIFIED:20221117T145351Z
UID:10010028-1581066000-1581098400@www.livemacher.de
SUMMARY:KÖRPERWELTEN Wien\, Stadthalle
DESCRIPTION:Eine Reise unter die Haut „KÖRPERWELTEN – Eine Herzenssache“ in Wien.  \nPlastinator Dr. Gunther von Hagens und Kuratorin Dr. Angelina Whalley präsentieren ab 4. Oktober 2019 erstmals ihre aktuelle Ausstellung in der Wiener Stadthalle: „KÖRPERWELTEN – Eine Herzenssache“! Tickets ab 4. September bei allen bekannten Vorverkaufsstellen. \nKÖRPERWELTEN ist eine Ausstellung\, die den Blick auf uns selbst und unsere Lebensweise nachhaltig verändert. Mehr als 48 Millionen Menschen weltweit haben sich bereits auf diese Selbstentdeckungsreise begeben. Beginnend vom Skelett über das Zusammenwirken der Muskulatur bis hin zur Entwicklung im Mutterleib erhält der Besucher ein detailliertes Bild über den Aufbau seines Innenlebens. Anhand faszinierender Präparate werden für jedermann verständlich Organfunktionen und häufige Erkrankungen erläutert. Rund 200 Ausstellungsstücke gibt es in Wien zu sehen\, darunter 20 Ganzkörperexponate sowie Teilplastinate\, transparente Körperscheiben und einzelne Organe. \nThematischer Schwerpunkt dieser Ausstellung ist das Herz mit seinem weit verzweigten Gefäßsystem. Das Hochleistungsorgan des Körpers ist der Motor des Lebens\, aber durch Dauerbelastung Funktionsstörungen und Verschleißerscheinungen ausgesetzt. Krankheiten des Blutkreislauf-Systems sind heute die häufigste Todesursache. „Sie sind jedoch vermeidbar“\, so die Ärztin und Kuratorin Dr. Angelina Whalley.„Auf unser Herz\, dieses lebenswichtige Organ\, achten wir oft erst\, wenn es erkrankt oder unter großer Belastung leidet. Ich wünsche mir\, dass die Ausstellung Besucher anregt\, herzbewusster und herzgesünder zu leben.“
URL:https://www.livemacher.de/event/koerperwelten-wien-2/2020-02-07/
LOCATION:Wiener Stadthalle\, Roland-Rainer-Platz 1\, Wien\, 1150\, Österreich
CATEGORIES:Ausstellung
ATTACH;FMTTYPE=image/jpeg:https://www.livemacher.de/wp-content/uploads/2019/09/kw-neues-bild-e1580241794904.jpg
ORGANIZER;CN="Livemacher GmbH":MAILTO:info@livemacher.de
GEO:48.202361;16.3328959
X-APPLE-STRUCTURED-LOCATION;VALUE=URI;X-ADDRESS=Wiener Stadthalle Roland-Rainer-Platz 1 Wien 1150 Österreich;X-APPLE-RADIUS=500;X-TITLE=Roland-Rainer-Platz 1:geo:16.3328959,48.202361
END:VEVENT
END:VCALENDAR