BEGIN:VCALENDAR
VERSION:2.0
PRODID:-//Livemacher GmbH - ECPv6.15.20//NONSGML v1.0//EN
CALSCALE:GREGORIAN
METHOD:PUBLISH
X-ORIGINAL-URL:https://www.livemacher.de
X-WR-CALDESC:Veranstaltungen für Livemacher GmbH
REFRESH-INTERVAL;VALUE=DURATION:PT1H
X-Robots-Tag:noindex
X-PUBLISHED-TTL:PT1H
BEGIN:VTIMEZONE
TZID:Europe/Berlin
BEGIN:DAYLIGHT
TZOFFSETFROM:+0100
TZOFFSETTO:+0200
TZNAME:CEST
DTSTART:20170326T010000
END:DAYLIGHT
BEGIN:STANDARD
TZOFFSETFROM:+0200
TZOFFSETTO:+0100
TZNAME:CET
DTSTART:20171029T010000
END:STANDARD
BEGIN:DAYLIGHT
TZOFFSETFROM:+0100
TZOFFSETTO:+0200
TZNAME:CEST
DTSTART:20180325T010000
END:DAYLIGHT
BEGIN:STANDARD
TZOFFSETFROM:+0200
TZOFFSETTO:+0100
TZNAME:CET
DTSTART:20181028T010000
END:STANDARD
BEGIN:DAYLIGHT
TZOFFSETFROM:+0100
TZOFFSETTO:+0200
TZNAME:CEST
DTSTART:20190331T010000
END:DAYLIGHT
BEGIN:STANDARD
TZOFFSETFROM:+0200
TZOFFSETTO:+0100
TZNAME:CET
DTSTART:20191027T010000
END:STANDARD
BEGIN:DAYLIGHT
TZOFFSETFROM:+0100
TZOFFSETTO:+0200
TZNAME:CEST
DTSTART:20200329T010000
END:DAYLIGHT
BEGIN:STANDARD
TZOFFSETFROM:+0200
TZOFFSETTO:+0100
TZNAME:CET
DTSTART:20201025T010000
END:STANDARD
END:VTIMEZONE
BEGIN:VEVENT
DTSTART;TZID=Europe/Berlin:20190119T200000
DTEND;TZID=Europe/Berlin:20190119T200000
DTSTAMP:20260420T115249
CREATED:20180312T102553Z
LAST-MODIFIED:20191202T085706Z
UID:10049057-1547928000-1547928000@www.livemacher.de
SUMMARY:Dui do on de Sell - „Das Zauberwort heisst Bitte“ Buchen
DESCRIPTION:Als Putzfrauen eroberten Petra Binder und Doris Reichenauer die süddeutsche Kabarett-Welt. Inzwischen sorgen die beiden Damen des schwäbischen Duos „Dui do on de Sell“ kontinuierlich für ausverkaufte Hallen und begeisterte Zuschauer. In ihrem Programm „Das Zauberwort heißt BITTE!“ lassen die beiden Schwertgoschen die Kittelschürzen hinter sich und werfen einen kabarettistischen Blick durch anderer Leute Küchenfenster. Dabei kommt zutage\, was sonst säuberlich hinter wackelnden Vorhängen verborgen bleibt: Nörgelnde Ehemänner\, die nur durch ihre Kofferpack- Inkompetenz vor dem Rauswurf bewahrt werden. Yoga-Ausflüge\, um den fortschreitenden körperlichen Verfall aufzuhalten. Und Angst vor verfrühten Oma- Freuden\, weil der Sprössling das Thema Verhütung heutzutage nur noch anhand von Internet-Metaphern kapiert. In „Das Zauberwort heißt BITTE!“ geben Petra Binder und Doris Reichenauer auf brillante Weise die schwäbische Variante der Desperate Housewives und machen jeden Gang zum Therapeuten überflüssig. Denn die Kreuzung aus Lästerstunde und Comedy-Talk ist grandios unterhaltsam und vor allem: herrlich authentisch.
URL:https://www.livemacher.de/event/dui-do-on-de-sell-das-zauberwort-heisst-bitte-buchen/
LOCATION:Stadthalle Buchen\, Schützenstraße 1\, Buchen\, Baden-Württemberg\, 74722\, Deutschland
CATEGORIES:Bühne
ATTACH;FMTTYPE=image/jpeg:https://www.livemacher.de/wp-content/uploads/2018/03/dui-do-on-abgesagt.jpg
ORGANIZER;CN="Livemacher GmbH":MAILTO:info@livemacher.de
GEO:49.5237317;9.3258611
X-APPLE-STRUCTURED-LOCATION;VALUE=URI;X-ADDRESS=Stadthalle Buchen Schützenstraße 1 Buchen Baden-Württemberg 74722 Deutschland;X-APPLE-RADIUS=500;X-TITLE=Schützenstraße 1:geo:9.3258611,49.5237317
END:VEVENT
BEGIN:VEVENT
DTSTART;TZID=Europe/Berlin:20181216T190000
DTEND;TZID=Europe/Berlin:20181216T190000
DTSTAMP:20260420T115249
CREATED:20180119T120729Z
LAST-MODIFIED:20191202T085728Z
UID:10048847-1544986800-1544986800@www.livemacher.de
SUMMARY:ABBA World Revival - "A Tribute to ABBA!" Buchen
DESCRIPTION:Wenn Sie die Songs von ABBA in höchster Annäherung ans Original hören wollen\, sind Sie hier richtig. Es erwartet Sie eine tolle Bühenshow mit allen Hits von ABBA. Die Darbietung ist zu 100% live. Es werden keinerlei Zuspielungen oder Playback-Techniken verwendet. Das Repertoire von ABBA World Revival umfasst mehr als 30 der bekanntesten Songs der legendären schwedischen Mega-Band der 70er Jahre. \n10 Profimusiker haben sich zusammengetan\, um die Musik von ABBA\, die sie alle lieben und bewundern\, zu spielen und zu singen. \nDie Live Show bietet nicht nur höchste Perfektion in musikalischer Hinsicht\, auch die Bühnenshow\, die Kostüme und die Bühnen Choreographie sind auf höchstem Niveau und dem Original perfekt nachempfunden. \nExtravagante Kostüme und eine mit Tanzeinlagen und Lichteffekten angereicherte Bühnenshow\, aber das sind nur schmückende Elemente am Rande. Im Mittelpunkt steht die zeitlose Musik von ABBA\, in allen ihren Facetten von der treibenden Disco-Nummer\, bei der man spontan aufspringt und mittanzt\, bis zur anrührenden Ballade\, die das Publikum mäuschenstill werden und die Feuerzeuge zücken lässt. \nABBA WORLD REVIVAL ist eine Band\, der man anmerkt\, dass sie die Musik von ABBA liebt.
URL:https://www.livemacher.de/event/abba-world-revial-a-tribute-to-abba-buchen/
LOCATION:Stadthalle Buchen\, Schützenstraße 1\, Buchen\, Baden-Württemberg\, 74722\, Deutschland
CATEGORIES:Jazz-Pop-Rock,Show
ATTACH;FMTTYPE=image/jpeg:https://www.livemacher.de/wp-content/uploads/2018/01/MAP_2143-abgesagt.jpg
ORGANIZER;CN="Livemacher GmbH":MAILTO:info@livemacher.de
GEO:49.5237317;9.3258611
X-APPLE-STRUCTURED-LOCATION;VALUE=URI;X-ADDRESS=Stadthalle Buchen Schützenstraße 1 Buchen Baden-Württemberg 74722 Deutschland;X-APPLE-RADIUS=500;X-TITLE=Schützenstraße 1:geo:9.3258611,49.5237317
END:VEVENT
END:VCALENDAR