BEGIN:VCALENDAR
VERSION:2.0
PRODID:-//Livemacher GmbH - ECPv6.15.20//NONSGML v1.0//EN
CALSCALE:GREGORIAN
METHOD:PUBLISH
X-WR-CALNAME:Livemacher GmbH
X-ORIGINAL-URL:https://www.livemacher.de
X-WR-CALDESC:Veranstaltungen für Livemacher GmbH
REFRESH-INTERVAL;VALUE=DURATION:PT1H
X-Robots-Tag:noindex
X-PUBLISHED-TTL:PT1H
BEGIN:VTIMEZONE
TZID:Europe/Berlin
BEGIN:DAYLIGHT
TZOFFSETFROM:+0100
TZOFFSETTO:+0200
TZNAME:CEST
DTSTART:20180325T010000
END:DAYLIGHT
BEGIN:STANDARD
TZOFFSETFROM:+0200
TZOFFSETTO:+0100
TZNAME:CET
DTSTART:20181028T010000
END:STANDARD
BEGIN:DAYLIGHT
TZOFFSETFROM:+0100
TZOFFSETTO:+0200
TZNAME:CEST
DTSTART:20190331T010000
END:DAYLIGHT
BEGIN:STANDARD
TZOFFSETFROM:+0200
TZOFFSETTO:+0100
TZNAME:CET
DTSTART:20191027T010000
END:STANDARD
BEGIN:DAYLIGHT
TZOFFSETFROM:+0100
TZOFFSETTO:+0200
TZNAME:CEST
DTSTART:20200329T010000
END:DAYLIGHT
BEGIN:STANDARD
TZOFFSETFROM:+0200
TZOFFSETTO:+0100
TZNAME:CET
DTSTART:20201025T010000
END:STANDARD
END:VTIMEZONE
BEGIN:VEVENT
DTSTART;TZID=Europe/Berlin:20190811T200000
DTEND;TZID=Europe/Berlin:20190811T200000
DTSTAMP:20260423T142321
CREATED:20190309T102005Z
LAST-MODIFIED:20200213T104728Z
UID:10049041-1565553600-1565553600@www.livemacher.de
SUMMARY:Pangea – The Beatles Live Show & mundARTmonika Bönnigheim Open Air
DESCRIPTION:Die „Beatles“ sind mit Sicherheit die berühmteste Band aller Zeiten. Auch wenn ihre Ära nur zehn Jahre währte\, ist der Erfolg und die Begeisterung für ihre Musik auch fast 45 Jahre nach ihrer Auflösung ungebrochen. \nBereits 1992 gründeten die vier tschechischen Musiker\, aus purer Liebe zur Musik\, die Beatles-Revival-Band „PANGEA“. Seither begeistern sie Fans aller Generationen in ganz Europa. 2011 und 2013 wurden PANGEA für die legendäre Beatlesweek in Liverpool gebucht und begeisterten im berühmten Cavern Club das fachkundige Publikum.\nBei der Beatles-Revival-Show von „PANGEA“ scheint es\, als stünden Paul McCartney\, John Lennon\, Ringo Starr und George Harrison höchstpersönlich auf der Bühne. Mit authentische Outfits\, original Instrumenten und einer atemberaubenden Performance sorgen die vier Musiker für absolute Gänsehaut-Momente. PANGEA lassen eine Zeit wiederaufleben\, die voller Leben\, voller neuer Ideen und voll von dem Wunsch nach Veränderung war.! \nKeine Band hat die Welt je so verändert\, wie es die Beatles getan haben. Zu Hits wie „Let It Be“\, „Help“\, „Love me do“\, „Yesterday“ oder „Hey Jude“ werden die Beatles an diesem Abend wieder zum Leben erweckt. Welcome back to the sixties. \nmundARTmonika: Vier Stimmen – Vier Freunde\nTimo Mühlbacher (Countertenor)\, Robert Wanek (Tenor)\, Christian Schmierer (Bariton) und Maximilian Knörzer (Bass) ziehen seit nun mehr als 13 Jahren durch das Unterland. Mit im Gepäck haben sie ein vielseitiges Programm: kecke deutschsprachige Eigenkompositionen\, originelle Coverversionen aktueller Hits aber auch altes Liedgut im neuen Gewand.\nMit ihrem Musikstil\, den sie selbst als „Vocal Pop Comedy“ bezeichnen\, gelingt ihnen der Spagat zwischen Gesangskunst und unterhaltsamer Bühnenshow. Mit ihrem Gesang\, der witzig-selbstironischen Moderation und ihrem ganzen Charme sorgen sie für beste Unterhaltung\, die immer mit einem Augenzwinkern daherkommt. \nmundARTmonika sind die musikalischen Botschafter der Bundesgartenschau Heilbronn 2019. \n\n\n    \n\n            \n        \n        \n\n\n    \n        \n\n            \n            \n            \n            \n                                                \n                            \n        \n\n    \n    \n        \n        \n    \n    \n\n        \n\n                    \n        \n        \n\n\n    \n        \n\n            \n            \n            \n            \n                                                \n                            \n        \n\n    \n    \n        \n        \n    \n    \n\n        \n\n                    \n        \n        \n\n\n    \n        \n\n            \n            \n            \n            \n                                                \n                            \n        \n\n    \n    \n        \n        \n    \n    \n\n        \n\n                    \n        \n        \n\n\n    \n        \n\n            \n            \n            \n            \n                                                \n                            \n        \n\n    \n    \n        \n        \n    \n    \n\n        \n\n            \n    \n\n\n\n\n\n 
URL:https://www.livemacher.de/event/pangea-the-beatles-live-show-und-mundartmonikaboennigheim-open-air/
LOCATION:Schlosshof\, Stadionsches Schloss in Bönnigheim\, Hauptstraße 15\, Bönnigheim\, Baden-Württemberg\, 74357\, Deutschland
CATEGORIES:Jazz-Pop-Rock
ATTACH;FMTTYPE=image/jpeg:https://www.livemacher.de/wp-content/uploads/2019/03/web_LM_20190811_BOEN_Openair_Pangea_1000x1000_01.jpg
ORGANIZER;CN="Livemacher GmbH":MAILTO:info@livemacher.de
GEO:49.04034;9.09339
X-APPLE-STRUCTURED-LOCATION;VALUE=URI;X-ADDRESS=Schlosshof Stadionsches Schloss in Bönnigheim Hauptstraße 15 Bönnigheim Baden-Württemberg 74357 Deutschland;X-APPLE-RADIUS=500;X-TITLE=Hauptstraße 15:geo:9.09339,49.04034
END:VEVENT
BEGIN:VEVENT
DTSTART;TZID=Europe/Berlin:20190810T200000
DTEND;TZID=Europe/Berlin:20190810T200000
DTSTAMP:20260423T142321
CREATED:20190309T100156Z
LAST-MODIFIED:20191202T085135Z
UID:10049040-1565467200-1565467200@www.livemacher.de
SUMMARY:Witz vom Olli - Live Bönnigheim Open Air
DESCRIPTION:Witz vom Olli – der Spaßvogel und Malermeister Gimber hautnah…. \nOliver Gimbers Witze sind im Internet längst zum Kult geworden. Der Handwerker aus Pforzheim bringt seine Fans regelmäßig zum Lachen. Er sitzt im Auto\, richtet seine Handykamera auf sich und erzählt mit erhobenem Zeigefinger einen Witz. Dabei lacht er so charmant von Herzen\, dass man gar nicht anders reagieren kann\, als sich mit ihm zu freuen. Oliver Gimber hat sich in den vergangenen Monaten zu einem echten Youtube-Phänomen entwickelt. „Witz vom Olli“ heißen die selbst gedrehten Filmchen\, welche sich zumeist junge Menschen per Whats-App gegenseitig aufs Handy schicken. Zu sehen sind die Videos auch auf der Internetplattform Youtube und im sozialen Netzwerk Facebook. Auf Youtube wurden seine Witze schon über 2 Millionen mal angeschaut\, täglich kommen knapp 30.000 neue Klicks hinzu. \nGimber ist eigentlich Malermeister. Er betreibt in Pforzheim einen Malerbetrieb\, den er von seinem Vater übernommen hat. Von ihm hat er wohl auch das Talent geerbt\, Witze zu erzählen. Auf der Straße wird er nach Selfies und Autogramm gefragt – das ist neu für den sympathischen Mann mit markanter Brille. Und jetzt gibt´s den Olli endlich live auf der Bühne. \n\n\n    \n\n            \n        \n        \n\n\n    \n        \n\n            \n            \n            \n            \n                                                \n                            \n        \n\n    \n    \n        \n        \n    \n    \n\n        \n\n                    \n        \n        \n\n\n    \n        \n\n            \n            \n            \n            \n                                                \n                            \n        \n\n    \n    \n        \n        \n    \n    \n\n        \n\n                    \n        \n        \n\n\n    \n        \n\n            \n            \n            \n            \n                                                \n                            \n        \n\n    \n    \n        \n        \n    \n    \n\n        \n\n                    \n        \n        \n\n\n    \n        \n\n            \n            \n            \n            \n                                                \n                            \n        \n\n    \n    \n        \n        \n    \n    \n\n        \n\n            \n    \n\n\n\n\n\n 
URL:https://www.livemacher.de/event/witz-vom-olli-live-boennigheim-open-air/
LOCATION:Schlosshof\, Stadionsches Schloss in Bönnigheim\, Hauptstraße 15\, Bönnigheim\, Baden-Württemberg\, 74357\, Deutschland
CATEGORIES:Bühne
ATTACH;FMTTYPE=image/jpeg:https://www.livemacher.de/wp-content/uploads/2019/03/web_LM_20190810_BOEN_Openair_Witz_vom_Olli_1000x1000_01.jpg
ORGANIZER;CN="Livemacher GmbH":MAILTO:info@livemacher.de
GEO:49.04034;9.09339
X-APPLE-STRUCTURED-LOCATION;VALUE=URI;X-ADDRESS=Schlosshof Stadionsches Schloss in Bönnigheim Hauptstraße 15 Bönnigheim Baden-Württemberg 74357 Deutschland;X-APPLE-RADIUS=500;X-TITLE=Hauptstraße 15:geo:9.09339,49.04034
END:VEVENT
END:VCALENDAR