BEGIN:VCALENDAR
VERSION:2.0
PRODID:-//Livemacher GmbH - ECPv6.15.20//NONSGML v1.0//EN
CALSCALE:GREGORIAN
METHOD:PUBLISH
X-WR-CALNAME:Livemacher GmbH
X-ORIGINAL-URL:https://www.livemacher.de
X-WR-CALDESC:Veranstaltungen für Livemacher GmbH
REFRESH-INTERVAL;VALUE=DURATION:PT1H
X-Robots-Tag:noindex
X-PUBLISHED-TTL:PT1H
BEGIN:VTIMEZONE
TZID:Europe/Berlin
BEGIN:DAYLIGHT
TZOFFSETFROM:+0100
TZOFFSETTO:+0200
TZNAME:CEST
DTSTART:20230326T010000
END:DAYLIGHT
BEGIN:STANDARD
TZOFFSETFROM:+0200
TZOFFSETTO:+0100
TZNAME:CET
DTSTART:20231029T010000
END:STANDARD
BEGIN:DAYLIGHT
TZOFFSETFROM:+0100
TZOFFSETTO:+0200
TZNAME:CEST
DTSTART:20240331T010000
END:DAYLIGHT
BEGIN:STANDARD
TZOFFSETFROM:+0200
TZOFFSETTO:+0100
TZNAME:CET
DTSTART:20241027T010000
END:STANDARD
BEGIN:DAYLIGHT
TZOFFSETFROM:+0100
TZOFFSETTO:+0200
TZNAME:CEST
DTSTART:20250330T010000
END:DAYLIGHT
BEGIN:STANDARD
TZOFFSETFROM:+0200
TZOFFSETTO:+0100
TZNAME:CET
DTSTART:20251026T010000
END:STANDARD
END:VTIMEZONE
BEGIN:VEVENT
DTSTART;TZID=Europe/Berlin:20240229T200000
DTEND;TZID=Europe/Berlin:20240229T230000
DTSTAMP:20260420T182547
CREATED:20231016T080028Z
LAST-MODIFIED:20240201T135935Z
UID:10050872-1709236800-1709247600@www.livemacher.de
SUMMARY:Planet Floyd - The German Pink Floyd Tribute Show in Nürnberg\, Meistersingerhalle
DESCRIPTION:Termin ersatzlos abgesagt                            \n                            \n                        \n                        \n                        \n                        \n                                                Die Veranstaltung wurde ersatzlos abgesagt. Die für Donnerstag\, den 29.02.2024 angesetzte Veranstaltung 'Planet Floyd - The German Pink Floyd Tribute Show' in der Meistersingerhalle in Nürnberg\, wurde ersatzlos abgesagt. Die für diese Veranstaltung erworbenen Tickets können bei der Vorverkaufsstelle\, bei der Sie diese Tickets erworben haben\, zurückgegeben werden und Sie bekommen Ihr Geld erstattet. \n\n                        \n                        \n                        \n                                        \n                    \n                \n            \n        \n\n    \n    \n\n\nPink Floyd\, sie wurden als Giganten des Progressive- bzw. Art-Rock bezeichnet\, sie verknüpften als Erste Musik- und Lightshow sowie eine Videoshow mit auf die Songs zugeschnittenen Filmen zu einem klanggewaltigen\, emotionalen Gesamtkunstwerk. Kritische und gefühlvolle Texte wurden von einer emotionalen Musik getragen. Die Live Shows von Pink Floyd waren Ereignisse\, zu denen Millionen begeisterter Fans pilgerten. Will man das Werk von Syd Barret\, David Gilmour\, Roger Waters\, Nick Mason und Richard Wright beschreiben\, gehen einem die Superlative aus. Dieses umfangreiche und in der Komplexität unerreichte Werk heute live\, authentisch und emotional auf die Bühne zu bringen\, grenzt an ein zum Scheitern verurteiltes Unterfangen. Demzufolge gibt es weltweit auch nur sehr wenige Bands\, die sich dieser Herausforderung stellen. Mit 9 Musikern und 4 eigenen Technikern schafft es die im Großraum Stuttgart und Heilbronn beheimatete Band Planet Floyd bei jedem Konzert aufs Neue\, das Publikum in die magische Welt von Pink Floyd eintauchen zu lassen. \nJetzt Tickets sichern! \nErleben Sie einen Abend mit der Stimmung und den Emotionen der Songs von Pink Floyd Planet Floyd haben passend zu den Songs Videos produziert\, die auf der berühmten runden Leinwand die stimmungsvoll dargebotenen Songs dieser Supergruppe unterstützen. Tauchen Sie ein in den Sound\, schließen Sie die Augen um zu genießen und öffnen Sie sie wieder\, um zu staunen! Erinnerungen an die psychedelischen Konzerte werden wach\, man glaubt den süßlichen Geruch\, der die Konzerte von Pink Floyd immer begleitet hat\, förmlich zu riechen. Gänsehautfeeling bei Titeln wie „Comfortably numb“ oder „The great gig in the sky“. Lassen Sie sich mit „Shine on you crazy diamond“ in Dimensionen fernab vom Alltag entführen. Spüren Sie die Gedanken und die Kritik in den Texten von „Us and them“ und „Pigs“\, die heute fast mehr als damals Aktualität besitzen\, und tauchen Sie bei „Echoes“ ein in 22 Minuten Psychedelic pur. \nEin Kritiker schrieb zur Show: „Zweierlei lösen Planet Floyd ein: Sie leisten ein Wiederhören mit Pink Floyd… und Planet Floyd haben Stil! Bei aller instrumentalen Fertigkeit. Sie dürfen das!“
URL:https://www.livemacher.de/event/planet-floyd-the-german-pink-floyd-tribute-show-in-nuernberg-meistersingerhalle/
LOCATION:Nürnberg\, Meistersingerhalle\, Münchener Str. 21\, Nürnberg\, Bayern\, 90478
CATEGORIES:Kultur
ATTACH;FMTTYPE=image/jpeg:https://www.livemacher.de/wp-content/uploads/2023/10/web_20240302-MAR-Planet-Floyd-1600x1600_abgesagt.jpg
ORGANIZER;CN="Livemacher GmbH":MAILTO:info@livemacher.de
END:VEVENT
BEGIN:VEVENT
DTSTART;TZID=Europe/Berlin:20240104T200000
DTEND;TZID=Europe/Berlin:20240104T223000
DTSTAMP:20260420T182547
CREATED:20230705T133726Z
LAST-MODIFIED:20250226T153705Z
UID:10050850-1704398400-1704407400@www.livemacher.de
SUMMARY:Best of Musicals - "Highlights aus über 20 Musicals" Nürnberg\, Meistersingerhalle
DESCRIPTION:BEST OF MUSICALS. Der Erfolg geht weiter…. \nHerausragende Darsteller mit kraftvollen Stimmen verzaubern die Zuschauer mit den erfolgreichsten Hits der beliebtesten Musicalproduktionen. Mit schillernden Kostümen\, schauspielerischem Talent\, einem Tanzensemble der Spitzenklasse und einem ausgefeilten Licht- und Soundkonzept entführt das Team von BEST OF MUSICALS in die bunte Traumwelt von 50 Jahren Musicalgeschichte. \nJetzt Tickets sichern! \nDas Publikum erlebt einen Streifzug durch gefühlvolle Balladen bei EVITA oder ELISABETH\, mitreißende Hits aus den Musicals GREASE und MAMMA MIA sowie bei WE WILL ROCK YOU. Die Top-Solisten lassen keine Wünsche offen und vereinen auch moderne Stücke wie DIE EISKÖNIGIN\, SISTER ACT und KÖNIG DER LÖWEN zu einem fesselnden Gesamtkunstwerk. Höhepunkte wie die unvergleichbaren Songs von TANZ DER VAMPIRE oder der Klassiker das PHANTOM DER OPER lassen die Besucher innehalten und sorgen für Gänsehautmomente. \nDas Ensemble um den Profi-Entertainer Espen Nowacki liebt das humoristische Zusammenbringen von Publikum und Bühne. Es führt mit Selbstironie und witzig-frivolem Schmiss durch den Abend. Bei BEST OF MUSICALS kommt auch bei weniger hartgesottenen Musical-Fans allerbeste Laune auf. Der immer wieder aufblitzende Humor und Flirt mit dem Publikum während und zwischen den Darbietungen lassen die Gäste und Darsteller für ein paar Stunden zu einer großen Familie werden. Unmöglich sich dieser Stimmung zu entziehen. Erstaunt fragen Zuschauer nach drei Stunden Glanzleistungen: „Wie\, schon vorbei?“ \nEin unvergesslicher Abend mit einem Mix aus gefühlvollen Balladen und rockigen Hits in deutscher Sprache\, eingebettet in ein grandioses Bühnenbild lädt alle Altersgruppen zum Erleben und Genießen ein.
URL:https://www.livemacher.de/event/best-of-musicals-highlights-aus-ueber-20-musicals-nuernberg-meistersingerhalle/
LOCATION:Nürnberg\, Meistersingerhalle\, Münchener Str. 21\, Nürnberg\, Bayern\, 90478
CATEGORIES:Musical
ATTACH;FMTTYPE=image/jpeg:https://www.livemacher.de/wp-content/uploads/2023/07/1600x1600px_BOM.jpeg
ORGANIZER;CN="Livemacher GmbH":MAILTO:info@livemacher.de
END:VEVENT
END:VCALENDAR