BEGIN:VCALENDAR
VERSION:2.0
PRODID:-//Livemacher GmbH - ECPv6.15.20//NONSGML v1.0//EN
CALSCALE:GREGORIAN
METHOD:PUBLISH
X-ORIGINAL-URL:https://www.livemacher.de
X-WR-CALDESC:Veranstaltungen für Livemacher GmbH
REFRESH-INTERVAL;VALUE=DURATION:PT1H
X-Robots-Tag:noindex
X-PUBLISHED-TTL:PT1H
BEGIN:VTIMEZONE
TZID:Europe/Berlin
BEGIN:DAYLIGHT
TZOFFSETFROM:+0100
TZOFFSETTO:+0200
TZNAME:CEST
DTSTART:20190331T010000
END:DAYLIGHT
BEGIN:STANDARD
TZOFFSETFROM:+0200
TZOFFSETTO:+0100
TZNAME:CET
DTSTART:20191027T010000
END:STANDARD
BEGIN:DAYLIGHT
TZOFFSETFROM:+0100
TZOFFSETTO:+0200
TZNAME:CEST
DTSTART:20200329T010000
END:DAYLIGHT
BEGIN:STANDARD
TZOFFSETFROM:+0200
TZOFFSETTO:+0100
TZNAME:CET
DTSTART:20201025T010000
END:STANDARD
BEGIN:DAYLIGHT
TZOFFSETFROM:+0100
TZOFFSETTO:+0200
TZNAME:CEST
DTSTART:20210328T010000
END:DAYLIGHT
BEGIN:STANDARD
TZOFFSETFROM:+0200
TZOFFSETTO:+0100
TZNAME:CET
DTSTART:20211031T010000
END:STANDARD
BEGIN:DAYLIGHT
TZOFFSETFROM:+0100
TZOFFSETTO:+0200
TZNAME:CEST
DTSTART:20220327T010000
END:DAYLIGHT
BEGIN:STANDARD
TZOFFSETFROM:+0200
TZOFFSETTO:+0100
TZNAME:CET
DTSTART:20221030T010000
END:STANDARD
END:VTIMEZONE
BEGIN:VEVENT
DTSTART;TZID=Europe/Berlin:20201216T090000
DTEND;TZID=Europe/Berlin:20210425T180000
DTSTAMP:20260422T161926
CREATED:20201211T144001Z
LAST-MODIFIED:20210203T170809Z
UID:10050181-1608109200-1619373600@www.livemacher.de
SUMMARY:KÖRPERWELTEN Salzburg\, Messezentrum Salzburg
DESCRIPTION:Wiedereröffnung der KÖRPERWELTEN in Salzburg ab dem 8. Februar\n\n\n\nEndlich kann es weitergehen bei der Salzburger Ausstellung „KÖRPERWELTEN – Am Puls der Zeit“ im Messezentrum (Halle 4)! Im Zuge des Corona-Lockdowns musste die bekannteste Anatomie-Ausstellung der Welt am 26. Dezember nach nur neun Öffnungstagen vorübergehend schließen. Am Montag\, 8. Februar 2021 öffnen sich die Tore wieder täglich! Und nicht nur das: Die Ausstellungszeit\, die ursprünglich bis 7. März ging\, wird bis zum 25. April 2021 verlängert. In allen Ausstellungsbereichen ist das Tragen einer FFP2-Maske für Besucher ab 14 Jahren verpflichtend. Kinder ab 6 Jahren (und unter 14 Jahren) müssen stattdessen einen Mund-Nasen-Schutz (MNS) tragen. Ausgenommen sind in beiden Fällen Personen\, denen das Tragen einer FFP2-Maske bzw. eines MNS aus gesundheitlichen Gründen nicht zumutbar ist. Hier ist auf Nachfrage ein entsprechender Nachweis vorzulegen (z.B. ärztliche Bestätigung). Nähere Infos finden Sie unter Informationen zum Coronavirus \n\n\n\nEuropa-Premiere in Salzburg: KÖRPERWELTEN – Am Puls der Zeit\n\n\n\nJetzt Tickets sichern! \nKÖRPERWELTEN ist eine Ausstellung\, die den Blick auf uns selbst und unsere Lebensweise nachhaltig verändert. Mehr als 50 Millionen Menschen weltweit haben sich bereits auf diese Selbstentdeckungsreise begeben. Beginnend vom Skelett des Menschen über das Zusammenwirken der Muskulatur bis hin zur Entwicklung im Mutterleib erhält der Besucher ein detailliertes Bild über den Aufbau seines Innenlebens. Anhand faszinierender Präparate werden für jedermann verständlich Organfunktionen und häufige Erkrankungen erläutert. Rund 200 Exponate gibt es in Salzburg zu sehen\, darunter 20 Ganzkörperexponate sowie Teilplastinate\, transparente Körperscheiben und einzelne Organe. \nUnter Einhaltung von Hygiene- und Abstandsregeln können sich Besucher auf eine faszinierende Reise ins Innere des menschlichen Körpers begeben. Um Einlass und Besucherführung zu optimieren\, ist beim Ticketkauf im Vorverkauf die Buchung eines Zeitfensters erforderlich. Mit dem Zeitfenster-Ticket ist der Zugang zur Ausstellung innerhalb des gebuchten Time-Slots möglich\, die Verweildauer ist zeitlich unbegrenzt. \nWer flexibel bleiben oder Tickets ohne zeitliche Bindung verschenken möchte\, für den sind Flex-Tickets die richtige Alternative. Mit ihnen ist der Zugang zur Ausstellung jederzeit möglich\, sie sind jedoch coronabedingt nur in begrenzter Anzahl verfügbar. \nBereits gekaufte Karten für die Zeit\, in der nicht eröffnet werden konnte\, behalten ihre Gültigkeit und müssen nicht umgetauscht werden: Sie werden automatisch und ohne Aufpreis in Flex-Tickets für die restliche Ausstellungszeit umgewandelt.
URL:https://www.livemacher.de/event/koerperwelten-salzburg-messezentrum-salzburg/
LOCATION:Messezentrum Salzburg\, Am Messezentrum 1\, Salzburg\, Baden-Württemberg\, 5020\, Österreich
CATEGORIES:Ausstellung
ATTACH;FMTTYPE=image/jpeg:https://www.livemacher.de/wp-content/uploads/2020/12/web_KW_Salzburg_800x800_01.jpg
ORGANIZER;CN="Livemacher GmbH":MAILTO:info@livemacher.de
END:VEVENT
END:VCALENDAR