BEGIN:VCALENDAR
VERSION:2.0
PRODID:-//Livemacher GmbH - ECPv6.15.20//NONSGML v1.0//EN
CALSCALE:GREGORIAN
METHOD:PUBLISH
X-WR-CALNAME:Livemacher GmbH
X-ORIGINAL-URL:https://www.livemacher.de
X-WR-CALDESC:Veranstaltungen für Livemacher GmbH
REFRESH-INTERVAL;VALUE=DURATION:PT1H
X-Robots-Tag:noindex
X-PUBLISHED-TTL:PT1H
BEGIN:VTIMEZONE
TZID:Europe/Berlin
BEGIN:DAYLIGHT
TZOFFSETFROM:+0100
TZOFFSETTO:+0200
TZNAME:CEST
DTSTART:20210328T010000
END:DAYLIGHT
BEGIN:STANDARD
TZOFFSETFROM:+0200
TZOFFSETTO:+0100
TZNAME:CET
DTSTART:20211031T010000
END:STANDARD
BEGIN:DAYLIGHT
TZOFFSETFROM:+0100
TZOFFSETTO:+0200
TZNAME:CEST
DTSTART:20220327T010000
END:DAYLIGHT
BEGIN:STANDARD
TZOFFSETFROM:+0200
TZOFFSETTO:+0100
TZNAME:CET
DTSTART:20221030T010000
END:STANDARD
BEGIN:DAYLIGHT
TZOFFSETFROM:+0100
TZOFFSETTO:+0200
TZNAME:CEST
DTSTART:20230326T010000
END:DAYLIGHT
BEGIN:STANDARD
TZOFFSETFROM:+0200
TZOFFSETTO:+0100
TZNAME:CET
DTSTART:20231029T010000
END:STANDARD
END:VTIMEZONE
BEGIN:VEVENT
DTSTART;TZID=Europe/Berlin:20220717T100000
DTEND;TZID=Europe/Berlin:20220717T180000
DTSTAMP:20260419T175746
CREATED:20221116T132213Z
LAST-MODIFIED:20221116T132213Z
UID:10015004-1658052000-1658080800@www.livemacher.de
SUMMARY:KÖRPERWELTEN Messepark Trier
DESCRIPTION:Trier wird zur Herzenssache \nKÖRPERWELTEN ab März 2022 erstmals in Trier\n\n\n\nMehr als 50 Millionen Menschen rund um den Globus haben die faszinierende Ausstellung bereits gesehen. Ab 25. März 2022 machen die KÖRPERWELTEN erstmals Station in Trier\, wo Plastinator Dr. Gunther von Hagens und Kuratorin Dr. Angelina Whalley im Messepark ihre aktuelle Ausstellung präsentieren: „KÖRPERWELTEN – Eine Herzenssache“! \nJetzt Tickets sichern! \nKÖRPERWELTEN ist eine Ausstellung\, die den Blick auf uns selbst und unsere Lebensweise nachhaltig verändert. Als Selbstentdeckungsreise konzipiert\, nimmt uns die Ausstellung mit auf eine unvergessliche Reise durch den menschlichen Körper. Die faszinierenden Exponate\, darunter viele Ganzkörperplastinate\, ermöglichen Einblicke in den komplexen Aufbau unseres Innenlebens und erklären leicht verständlich Funktionsweise und Zusammenspiel der einzelnen Systeme und Organe\, aber auch häufige Erkrankungen. \nThematischer Schwerpunkt dieser Ausstellung ist das Herz\, der unentwegte Motor des Lebens mit seinem weit verzweigten Gefäßsystem von unglaublichen 96.500 Kilometern Länge. Aber das Hochleistungsorgan unseres Körpers ist auch Dauerbelastungen ausgesetzt\, die oft in Funktionsstörungen und Verschleißerscheinungen resultieren. So sind Krankheiten des Blut- Kreislaufsystems heute die häufigste Todesursache. „Sie sind jedoch vermeidbar“\, sagt die Ärztin und Kuratorin Dr. Angelina Whalley. „Auf unser Herz\, dieses lebenswichtige Organ\, achten wir oft erst\, wenn es erkrankt oder unter großer Belastung leidet. Ich wünsche mir\, dass die Ausstellung unsere Besucher anregt\, herzbewusster und herzgesünder zu leben.“
URL:https://www.livemacher.de/event/koerperwelten-messepark-trier/2022-07-17/
LOCATION:Messepark Tier\, In den Moselauen 1\, Trier\, Baden-Württemberg\, 54294\, Deutschland
CATEGORIES:Ausstellung
ATTACH;FMTTYPE=image/jpeg:https://www.livemacher.de/wp-content/uploads/2022/02/KW-Trier_Website-Bild_1600x1600px.jpg
ORGANIZER;CN="Livemacher GmbH":MAILTO:info@livemacher.de
END:VEVENT
BEGIN:VEVENT
DTSTART;TZID=Europe/Berlin:20220715T090000
DTEND;TZID=Europe/Berlin:20220715T180000
DTSTAMP:20260419T175746
CREATED:20220218T103625Z
LAST-MODIFIED:20220218T105448Z
UID:10014968-1657875600-1657908000@www.livemacher.de
SUMMARY:KÖRPERWELTEN Messepark Trier
DESCRIPTION:Trier wird zur Herzenssache \nKÖRPERWELTEN ab März 2022 erstmals in Trier\n\n\n\nMehr als 50 Millionen Menschen rund um den Globus haben die faszinierende Ausstellung bereits gesehen. Ab 25. März 2022 machen die KÖRPERWELTEN erstmals Station in Trier\, wo Plastinator Dr. Gunther von Hagens und Kuratorin Dr. Angelina Whalley im Messepark ihre aktuelle Ausstellung präsentieren: „KÖRPERWELTEN – Eine Herzenssache“! \nJetzt Tickets sichern! \nKÖRPERWELTEN ist eine Ausstellung\, die den Blick auf uns selbst und unsere Lebensweise nachhaltig verändert. Als Selbstentdeckungsreise konzipiert\, nimmt uns die Ausstellung mit auf eine unvergessliche Reise durch den menschlichen Körper. Die faszinierenden Exponate\, darunter viele Ganzkörperplastinate\, ermöglichen Einblicke in den komplexen Aufbau unseres Innenlebens und erklären leicht verständlich Funktionsweise und Zusammenspiel der einzelnen Systeme und Organe\, aber auch häufige Erkrankungen. \nThematischer Schwerpunkt dieser Ausstellung ist das Herz\, der unentwegte Motor des Lebens mit seinem weit verzweigten Gefäßsystem von unglaublichen 96.500 Kilometern Länge. Aber das Hochleistungsorgan unseres Körpers ist auch Dauerbelastungen ausgesetzt\, die oft in Funktionsstörungen und Verschleißerscheinungen resultieren. So sind Krankheiten des Blut- Kreislaufsystems heute die häufigste Todesursache. „Sie sind jedoch vermeidbar“\, sagt die Ärztin und Kuratorin Dr. Angelina Whalley. „Auf unser Herz\, dieses lebenswichtige Organ\, achten wir oft erst\, wenn es erkrankt oder unter großer Belastung leidet. Ich wünsche mir\, dass die Ausstellung unsere Besucher anregt\, herzbewusster und herzgesünder zu leben.“
URL:https://www.livemacher.de/event/koerperwelten-messepark-trier/2022-07-15/
LOCATION:Messepark Tier\, In den Moselauen 1\, Trier\, Baden-Württemberg\, 54294\, Deutschland
CATEGORIES:Ausstellung
ATTACH;FMTTYPE=image/jpeg:https://www.livemacher.de/wp-content/uploads/2022/02/KW-Trier_Website-Bild_1600x1600px.jpg
ORGANIZER;CN="Livemacher GmbH":MAILTO:info@livemacher.de
END:VEVENT
END:VCALENDAR