BEGIN:VCALENDAR
VERSION:2.0
PRODID:-//Livemacher GmbH - ECPv6.15.20//NONSGML v1.0//EN
CALSCALE:GREGORIAN
METHOD:PUBLISH
X-WR-CALNAME:Livemacher GmbH
X-ORIGINAL-URL:https://www.livemacher.de
X-WR-CALDESC:Veranstaltungen für Livemacher GmbH
REFRESH-INTERVAL;VALUE=DURATION:PT1H
X-Robots-Tag:noindex
X-PUBLISHED-TTL:PT1H
BEGIN:VTIMEZONE
TZID:Europe/Berlin
BEGIN:DAYLIGHT
TZOFFSETFROM:+0100
TZOFFSETTO:+0200
TZNAME:CEST
DTSTART:20180325T010000
END:DAYLIGHT
BEGIN:STANDARD
TZOFFSETFROM:+0200
TZOFFSETTO:+0100
TZNAME:CET
DTSTART:20181028T010000
END:STANDARD
BEGIN:DAYLIGHT
TZOFFSETFROM:+0100
TZOFFSETTO:+0200
TZNAME:CEST
DTSTART:20190331T010000
END:DAYLIGHT
BEGIN:STANDARD
TZOFFSETFROM:+0200
TZOFFSETTO:+0100
TZNAME:CET
DTSTART:20191027T010000
END:STANDARD
BEGIN:DAYLIGHT
TZOFFSETFROM:+0100
TZOFFSETTO:+0200
TZNAME:CEST
DTSTART:20200329T010000
END:DAYLIGHT
BEGIN:STANDARD
TZOFFSETFROM:+0200
TZOFFSETTO:+0100
TZNAME:CET
DTSTART:20201025T010000
END:STANDARD
END:VTIMEZONE
BEGIN:VEVENT
DTSTART;TZID=Europe/Berlin:20190825T100000
DTEND;TZID=Europe/Berlin:20190825T180000
DTSTAMP:20260422T105048
CREATED:20221130T165818Z
LAST-MODIFIED:20221130T165818Z
UID:10048953-1566727200-1566756000@www.livemacher.de
SUMMARY:KÖRPERWELTEN Freiburg
DESCRIPTION:Von 17. Mai bis 25. August 2019 präsentieren Plastinator Dr. Gunther von Hagens und Kuratorin Dr. Angelina Whalley erstmals ihre aktuelle Ausstellung in der Messe Freiburg: \nKÖRPERWELTEN – Eine Herzenssache. \nKÖRPERWELTEN ist eine Ausstellung\, die den Blick auf uns selbst und unsere Lebensweise nachhaltig verändert. Mehr als 47 Millionen Menschen weltweit haben sich bereits auf diese Selbstentdeckungsreise begeben. Beginnend vom Skelett des Menschen über das Zusammenwirken der Muskulatur bis hin zur Entwicklung im Mutterleib erhält der Besucher ein detailliertes Bild über den Aufbau seines Innenlebens. Anhand faszinierender Präparate werden für jedermann verständlich Organfunktionen und häufige Erkrankungen erläutert. Rund 200 Exponate gibt es in der Freiburger Ausstellung zu sehen\, darunter 20 Ganzkörperexponate sowie Teilplastinate\, transparente Körperscheiben und einzelne Organe. \nThematischer Schwerpunkt der Ausstellung ist das Herz mit seinem weit verzweigten Gefäßsystem. Das Hochleistungsorgan des Körpers ist der Motor des Lebens\, aber durch die Dauerbelastung Funktionsstörungen und Verschleißerscheinungen ausgesetzt. Krankheiten des Blut-Kreislaufsystems sind heute die häufigste Todesursache. „Sie sind jedoch vermeidbar“\, so die Ärztin und Kuratorin Dr. Angelina Whalley. „Auf unser Herz\, dieses lebenswichtige Organ\, achten wir oft erst\, wenn es erkrankt oder unter großer Belastung leidet. Ich wünsche mir\, dass die Ausstellung Besucher anregt\, herzbewusster und herzgesünder zu leben.“ \nGrundlage der KÖRPERWELTEN ist das Körperspende-Programm des Instituts für Plastination in Heidelberg. Alle in den Ausstellungen gezeigten Plastinate stammen von Menschen\, die zu Lebzeiten erklärt haben\, dass ihr Körper nach dem Ableben zur medizinischen Aufklärung in den KÖRPERWELTEN Ausstellungen gezeigt werden darf. In dem lizenzierten Körperspende-Programm zur Plastination sind bis heute mehr als 18.000 Spender registriert.
URL:https://www.livemacher.de/event/koerperwelten-freiburg/2019-08-25/
LOCATION:Messe Freiburg\, Neuer Messplatz 1\, Freiburg im Breisgau\, Baden-Württemberg\, 79108\, Deutschland
CATEGORIES:Ausstellung
ATTACH;FMTTYPE=image/jpeg:https://www.livemacher.de/wp-content/uploads/2018/11/web_KW_Freiburg_800x800_02.jpg
ORGANIZER;CN="Livemacher GmbH":MAILTO:info@livemacher.de
GEO:48.0156785;7.8403115
X-APPLE-STRUCTURED-LOCATION;VALUE=URI;X-ADDRESS=Messe Freiburg Neuer Messplatz 1 Freiburg im Breisgau Baden-Württemberg 79108 Deutschland;X-APPLE-RADIUS=500;X-TITLE=Neuer Messplatz 1:geo:7.8403115,48.0156785
END:VEVENT
BEGIN:VEVENT
DTSTART;TZID=Europe/Berlin:20190705T190000
DTEND;TZID=Europe/Berlin:20190705T190000
DTSTAMP:20260422T105048
CREATED:20190401T103502Z
LAST-MODIFIED:20191202T085140Z
UID:10049042-1562353200-1562353200@www.livemacher.de
SUMMARY:Oberpräparator Alfred Riepertinger bei den KÖRPERWELTEN Freiburg
DESCRIPTION:Er hatte sie alle auf dem Tisch: Franz-Josef Strauß\, Rudolph Moshammer\, Roy Black. Riepertinger vom Institut für Pathologie am Klinikum Schwabing erzählt im ersten Teil seines Vortrags aus seinem täglichen Leben mit den Toten. Den zweiten Teil widmet er dem von Gunther von Hagens entwickelten Konservierungsverfahren der Plastination. Riepertinger gibt Einblicke in diese faszinierende Technik.
URL:https://www.livemacher.de/event/oberpraeparator-alfred-riepertinger-bei-den-koerperwelten-freiburg/
LOCATION:Messe Freiburg\, Neuer Messplatz 1\, Freiburg im Breisgau\, Baden-Württemberg\, 79108\, Deutschland
CATEGORIES:Ausstellung,Vortrag und Lesung
ATTACH;FMTTYPE=image/jpeg:https://www.livemacher.de/wp-content/uploads/2019/04/web_KW_Freiburg_reservix-event-SonderVAs_800x800_012.jpg
ORGANIZER;CN="Livemacher GmbH":MAILTO:info@livemacher.de
GEO:48.0156785;7.8403115
X-APPLE-STRUCTURED-LOCATION;VALUE=URI;X-ADDRESS=Messe Freiburg Neuer Messplatz 1 Freiburg im Breisgau Baden-Württemberg 79108 Deutschland;X-APPLE-RADIUS=500;X-TITLE=Neuer Messplatz 1:geo:7.8403115,48.0156785
END:VEVENT
END:VCALENDAR