BEGIN:VCALENDAR
VERSION:2.0
PRODID:-//Livemacher GmbH - ECPv6.15.20//NONSGML v1.0//EN
CALSCALE:GREGORIAN
METHOD:PUBLISH
X-ORIGINAL-URL:https://www.livemacher.de
X-WR-CALDESC:Veranstaltungen für Livemacher GmbH
REFRESH-INTERVAL;VALUE=DURATION:PT1H
X-Robots-Tag:noindex
X-PUBLISHED-TTL:PT1H
BEGIN:VTIMEZONE
TZID:Europe/Berlin
BEGIN:DAYLIGHT
TZOFFSETFROM:+0100
TZOFFSETTO:+0200
TZNAME:CEST
DTSTART:20210328T010000
END:DAYLIGHT
BEGIN:STANDARD
TZOFFSETFROM:+0200
TZOFFSETTO:+0100
TZNAME:CET
DTSTART:20211031T010000
END:STANDARD
BEGIN:DAYLIGHT
TZOFFSETFROM:+0100
TZOFFSETTO:+0200
TZNAME:CEST
DTSTART:20220327T010000
END:DAYLIGHT
BEGIN:STANDARD
TZOFFSETFROM:+0200
TZOFFSETTO:+0100
TZNAME:CET
DTSTART:20221030T010000
END:STANDARD
BEGIN:DAYLIGHT
TZOFFSETFROM:+0100
TZOFFSETTO:+0200
TZNAME:CEST
DTSTART:20230326T010000
END:DAYLIGHT
BEGIN:STANDARD
TZOFFSETFROM:+0200
TZOFFSETTO:+0100
TZNAME:CET
DTSTART:20231029T010000
END:STANDARD
END:VTIMEZONE
BEGIN:VEVENT
DTSTART;TZID=Europe/Berlin:20220130T100000
DTEND;TZID=Europe/Berlin:20220130T200000
DTSTAMP:20260424T135704
CREATED:20221130T165959Z
LAST-MODIFIED:20221130T165959Z
UID:10050240-1643536800-1643572800@www.livemacher.de
SUMMARY:the mystery of BANKSY "a genius mind" - Mainz\, lulu
DESCRIPTION:Endspurt: Längere Öffnungszeiten an Samstagen und Sonntagen                            \n                            \n                        \n                        \n                        \n                        \n                                                \n    Wegen der riesigen Nachfrage kann die Erfolgs-Ausstellung in Mainz nun auch zu längeren Öffnungszeiten besucht werden!\n\n\n"The Mystery of Banksy - A Genius Mind" in der lulu Mainz hat jetzt an den noch verbleibenden Samstagen immer bis 22 Uhr und an den beiden Sonntagen 16.und 23.01.2022 bis 20 Uhr geöffnet! Damit wird auf die ausgebuchten Wochenenden reagiert und mehr Besuchern die Möglichkeit gegeben\, die Werke des wohl mysteriösesten Künstlers bewundern zu können. \n                        \n                        \n                        \n                    \n                \n            \n        \n\n    \n    \n\n\n„The Mystery of Banksy“ bleibt bis 30. Januar in Mainz\n„The Mystery of Banksy – A Genius Mind“ ab 01. Oktober 2021 in Mainz\nEine brandneue Schau zu Ehren der Kunst-Ikone Banksy kommt nach Mainz! Ab 01. Oktober wird die Ausstellung „The Mystery of Banksy – A Genius Mind“ im lulu\, dem ehemaligen Mainzer Karstadt Gebäude\, zu Gast sein. Tickets gibt es ab sofort im Vorverkauf. Banksy\, der in Bristol geborene und bis heute anonyme Graffiti-Künstler und Maler ist weltberühmt und dennoch ein Mysterium. Er ist dafür bekannt die Grenzen des Kunstmarktes in Frage zu stellen und sorgt mit seinen Arbeiten seit Jahren für Furore. \nJetzt Tickets sichern! \nIm März feierte „The Mystery of Banksy – A Genius Mind“ Weltpremiere in München\, seit April ist die Ausstellung in Berlin und seit April ebenfalls in Heidelberg zu sehen und nun kommt ein eigens für Mainz geschaffenes weiteres Setting in die Landeshauptstadt. Eine Ausstellung über den berühmtesten Street-Art-Künstler unserer Zeit auf die Beine zu stellen ist kein leichtes Unterfangen. Dieser Herausforderung stellt sich der bekannte Passauer Musical-Produzent und Ausstellungsmacher Oliver Forster (COFO Entertainment) nun zum zweiten Mal gemeinsam mit der Livemacher GmbH aus Besigheim rund um Edgar Braune und Oliver Diaz. „Wir wollen Kunst zum Erlebnis machen\, für jedermann sichtbar und an einem Ort zusammengebracht. Banksy ist in erster Linie ein Straßenkünstler\, der für seine Graffitis bekannt ist\, die er auf der ganzen Welt verteilt hat. Daneben hat er ziemlich früh angefangen\, immer wieder original signierte Kunstwerke und Drucke in limitierter Auflage zu verkaufen. Die meisten davon befinden sich in Privatbesitz und sind somit für die Öffentlichkeit nicht zugänglich. Einen Original-Banksy bestaunen zu können ist also eine absolute Seltenheit. Wir versuchen nun mit „The Mystery of Banksy – A Genius Mind“ anhand originalgetreuer Reproduktionen die besten und eindrucksvollsten Motive an nur einem Ort und in einer lockeren Atmosphäre abseits des Museumsbetriebs\, aber trotzdem mit hohem Qualitätsanspruch erlebbar zu machen“\, so Produzent Oliver Forster. \nDie Ausstellung zeigt dabei eine noch nie dagewesene Präsentation mit mehr als 100 Werken des gefeierten Street-Art-Superstars: Graffitis\, Fotografien\, Skulpturen\, Videoinstallationen und Drucke auf verschiedenen Materialien wie Leinwand\, Stoff\, Aluminium\, Forex und Plexiglas wur- den eigens für diese Sonderschau reproduziert und zusammengetragen. Abgerundet wird das Ganze durch eine spannende Videodokumentation\, die die wichtigsten Stationen einer beispiellosen Karriere beleuchtet.\n„The Mystery of Banksy – A Genius Mind“ gibt dem Besucher in einem aufwändigen und einzig- artigen Setting einen umfassenden Überblick und Einblick in das Gesamtwerk des Genies und Ausnahmekünstlers. Ganz nach Banksys Motto „Copyright is for losers ©TM“ sind diese Hom- mage und die dort gezeigten Werke aufgrund seines anonymen Status nicht offiziell autorisiert. \nDer Eintritt erfolgt unter den jeweils aktuell geltenden Hygiene- und Abstandsregelungen der Stadt Mainz. Um die Besucherströme optimal lenken zu können\, ist die Buchung eines Zeitfensters erforderlich. Mit dem Zeitfenster-Ticket ist der Zugang zur Ausstellung innerhalb des gebuchten Zeitfensters möglich\, die Verweildauer ist dabei zeitlich unbegrenzt. Der Ticketkauf im Vorverkauf wird vom Veranstalter ausdrücklich empfohlen.
URL:https://www.livemacher.de/event/the-mystery-of-banksy-a-genius-mind-mainz-lulu/2022-01-30/
LOCATION:lulu Mainz\, Ludwigsstraße 12\, Mainz\, 55116
CATEGORIES:Ausstellung
ATTACH;FMTTYPE=image/jpeg:https://www.livemacher.de/wp-content/uploads/2021/06/lm_web_banksy_mz_20211001-20220130_1280x1280.jpg
ORGANIZER;CN="Livemacher GmbH":MAILTO:info@livemacher.de
END:VEVENT
END:VCALENDAR