BEGIN:VCALENDAR
VERSION:2.0
PRODID:-//Livemacher GmbH - ECPv6.15.20//NONSGML v1.0//EN
CALSCALE:GREGORIAN
METHOD:PUBLISH
X-WR-CALNAME:Livemacher GmbH
X-ORIGINAL-URL:https://www.livemacher.de
X-WR-CALDESC:Veranstaltungen für Livemacher GmbH
REFRESH-INTERVAL;VALUE=DURATION:PT1H
X-Robots-Tag:noindex
X-PUBLISHED-TTL:PT1H
BEGIN:VTIMEZONE
TZID:Europe/Berlin
BEGIN:DAYLIGHT
TZOFFSETFROM:+0100
TZOFFSETTO:+0200
TZNAME:CEST
DTSTART:20190331T010000
END:DAYLIGHT
BEGIN:STANDARD
TZOFFSETFROM:+0200
TZOFFSETTO:+0100
TZNAME:CET
DTSTART:20191027T010000
END:STANDARD
BEGIN:DAYLIGHT
TZOFFSETFROM:+0100
TZOFFSETTO:+0200
TZNAME:CEST
DTSTART:20200329T010000
END:DAYLIGHT
BEGIN:STANDARD
TZOFFSETFROM:+0200
TZOFFSETTO:+0100
TZNAME:CET
DTSTART:20201025T010000
END:STANDARD
BEGIN:DAYLIGHT
TZOFFSETFROM:+0100
TZOFFSETTO:+0200
TZNAME:CEST
DTSTART:20210328T010000
END:DAYLIGHT
BEGIN:STANDARD
TZOFFSETFROM:+0200
TZOFFSETTO:+0100
TZNAME:CET
DTSTART:20211031T010000
END:STANDARD
BEGIN:DAYLIGHT
TZOFFSETFROM:+0100
TZOFFSETTO:+0200
TZNAME:CEST
DTSTART:20220327T010000
END:DAYLIGHT
BEGIN:STANDARD
TZOFFSETFROM:+0200
TZOFFSETTO:+0100
TZNAME:CET
DTSTART:20221030T010000
END:STANDARD
BEGIN:DAYLIGHT
TZOFFSETFROM:+0100
TZOFFSETTO:+0200
TZNAME:CEST
DTSTART:20230326T010000
END:DAYLIGHT
BEGIN:STANDARD
TZOFFSETFROM:+0200
TZOFFSETTO:+0100
TZNAME:CET
DTSTART:20231029T010000
END:STANDARD
BEGIN:DAYLIGHT
TZOFFSETFROM:+0100
TZOFFSETTO:+0200
TZNAME:CEST
DTSTART:20240331T010000
END:DAYLIGHT
BEGIN:STANDARD
TZOFFSETFROM:+0200
TZOFFSETTO:+0100
TZNAME:CET
DTSTART:20241027T010000
END:STANDARD
BEGIN:DAYLIGHT
TZOFFSETFROM:+0100
TZOFFSETTO:+0200
TZNAME:CEST
DTSTART:20250330T010000
END:DAYLIGHT
BEGIN:STANDARD
TZOFFSETFROM:+0200
TZOFFSETTO:+0100
TZNAME:CET
DTSTART:20251026T010000
END:STANDARD
BEGIN:DAYLIGHT
TZOFFSETFROM:+0100
TZOFFSETTO:+0200
TZNAME:CEST
DTSTART:20260329T010000
END:DAYLIGHT
BEGIN:STANDARD
TZOFFSETFROM:+0200
TZOFFSETTO:+0100
TZNAME:CET
DTSTART:20261025T010000
END:STANDARD
END:VTIMEZONE
BEGIN:VEVENT
DTSTART;TZID=Europe/Berlin:20250117T200000
DTEND;TZID=Europe/Berlin:20250117T230000
DTSTAMP:20260420T155917
CREATED:20240612T150004Z
LAST-MODIFIED:20240618T081548Z
UID:10053179-1737144000-1737154800@www.livemacher.de
SUMMARY:Der König der Löwen – The Music Live in Concert: MHP-Arena Ludwigsburg
DESCRIPTION:Die magische Musik von Sir Elton John und Hans Zimmer\nSolisten\, Chor und Musiker der Cinema Festival Symphonics\nKünstlerische Leitung: Stephen Ellery\nKommen Sie am 17. Januar 2025 in die MHPArena in Ludwigsburg\, tauchen Sie ein in eine spektakuläre Veranstaltung und lassen Sie sich von der Magie der Musik verzaubern bei „Der König der Löwen THE MUSIC LIVE IN CONCERT“. \nDie preisgekrönte Musik von Sir Elton John und Hans Zimmer zusammen in einem einzigartigen Konzerterlebnis\, mit Orchester\, Solisten\, Chor und Leinwand-Animationen\, das berührt und begeistert! \nDas ist „Der König der Löwen – The Music Live in Concert“. \nJetzt Tickets sichern \nDer Oscar-prämierte Soundtrack von Filmmusik-Legende Hans Zimmer prägt nun schon seit 27 Jahren den weltweit erfolgreichen Zeichentrickﬁlm „Der König Der Löwen“: Afrikanische Rhythmen und Klänge gepaart mit monumentalen\, epischen Melodien. Die ergreifenden Hits von Sir Elton John wie „Hakuna Matata“\, „Circle of Life“ und „Can You Feel the Love Tonight“ sind zeitlos und für die Ewigkeit komponiert.\nIn ihren eindrucksvollen Performances hauchen Chor und Musiker den bekannten Figuren Leben ein. Die großartigen Stimmen der Star-Solisten faszinieren das Publikum mit ihrer Anmut und ihrem Können. Jeder Ton\, den sie anstimmen\, verleiht den Liedern eine unvergleichliche Tiefe. Inmitten dieser sinfonischen Auﬀührung glänzt der Chor\, der mit seinem harmonischen Gesang die bekannten Melodien des Films zum Leben erweckt. Gänsehaut entsteht bei der Orchesterversion der kultigen Filmsongs. Die Zuschauer tauchen direkt ein in die Welt von Simba\, Nala und Co.\, wenn die Songs mit kunstvollen Leinwand-Animationen emotionalisiert werden.\nSolisten\, Chor und Orchester der Cinema Festival Symphonics unter der Leitung von Stephen Ellery aus London begeisterten die Zuschauer schon mit den Konzert-Auﬀührungen von „Game of Thrones“\, „The Music of Star Wars“ und „The Music of Harry Potter“. \nDas Ensemble ist bekannt für ihren emotionalen\, originalgetreuen\, klanggewaltigen Sound\, der die Zuschauer direkt in die Filmthemen eintauchen lässt.
URL:https://www.livemacher.de/event/der-koenig-der-loewen-the-music-live-in-concert-17-01-2025-mhp-arena-ludwigsburg/
LOCATION:Ludwigsburg\, MHPArena\, Schwieberdinger Str. 30\, Ludwigsburg\, Baden-Württemberg\, 71636\, Deutschland
CATEGORIES:Bühne,Klassik-Konzert,Musical,Show
ATTACH;FMTTYPE=image/jpeg:https://www.livemacher.de/wp-content/uploads/2024/06/KdL-LB-20240117-1200x1200px.jpg
ORGANIZER;CN="Livemacher GmbH":MAILTO:info@livemacher.de
GEO:48.8910576;9.1825209
X-APPLE-STRUCTURED-LOCATION;VALUE=URI;X-ADDRESS=Ludwigsburg MHPArena Schwieberdinger Str. 30 Ludwigsburg Baden-Württemberg 71636 Deutschland;X-APPLE-RADIUS=500;X-TITLE=Schwieberdinger Str. 30:geo:9.1825209,48.8910576
END:VEVENT
BEGIN:VEVENT
DTSTART;TZID=Europe/Berlin:20240319T200000
DTEND;TZID=Europe/Berlin:20240319T223000
DTSTAMP:20260420T155917
CREATED:20230614T140922Z
LAST-MODIFIED:20240112T145707Z
UID:10050843-1710878400-1710887400@www.livemacher.de
SUMMARY:The Music of Hans Zimmer & John Williams - The Original London Production in Ludwigsburg\, MHP-Arena
DESCRIPTION:JETZT TICKETS SICHERN \n\nNiemand geringeres als Max Moor konnte für die internationale Produktion „The Music of Hans Zimmer & John Williams – The Original London Production“ gewonnen werden. Der beliebte TV-Moderator geht 2024 zusammen mit einem 60-köpfigen Orchester auf große Tournee durch Deutschland und Österreich. Mit im Gepäck hat er unvergessliche Melodien der größten Hollywood-Filme\, die aus der Feder der beiden Ausnahmekomponisten Hans Zimmer und John Williams stammen. \n„Der weiße Hai“\, „ET“\, „Star Wars“\, „König der Löwen“\, „Fluch der Karibik“ oder „Schindlers Liste“. Alle diese Welterfolge haben eines gemeinsam: die Filmmusik wurde von Hans Zimmer oder John Williams komponiert. Hits\, die wie dafür geschaffen sind\, von einem großen Orchester live vor Publikum präsentiert zu werden. Die Originalproduktion aus London sorgt mit über 60 MusikerInnen und einer beeindruckenden Lasershow für emotionsgeladene Momente. Als Solistin konnte die in Fachkreisen als „ukrainischer Pagagnini“ bekannte Violinistin Bogdana Pivnenko gewonnen werden. Die Premiere fand in der ausverkauften Royal Albert Hall in London statt und erntete Standing Ovations. Nach weiteren Stationen in Singapur\, Brüssel\, Rotterdam und Genf kommt diese Produktion nun erstmals nach Deutschland und Österreich. Durch den Abend führt der Filmbewunderer Max Moor\, der es kaum aushält\, Filme mit schlechter Musik zu sehen und umso begeisterter ist\, wenn die Musik die Story vorantreibt\, komplettiert und veredelt. Was bei diesen beiden Komponisten definitiv der Fall ist. Die Filmmusiken von Hans Zimmer und John Williams sind mittlerweile zu generationenübergreifenden\, zeitlosen Klassikern geworden. \n\nHans Zimmer & John Williams – Giganten der Filmmusik\n\nHans Florian Zimmer\, geboren am 12. September 1957 in Frankfurt am Main\, erlernte als Kind das Klavierspiel im Elternhaus\, wobei er nur für kurze Zeit einen Klavierlehrer hatte\, da er sich dessen Disziplin hinsichtlich der Grundregeln für einen Pianisten nicht unterwerfen wollte. Er ging auf das Taunusgymnasium Königstein\, legte später im englischen Internat Hurtwood House in Dorking\, Surrey sein Abitur ab und spielte als Schüler Synthesizer. Zu seinen bekanntesten Werken gehören die Original-Filmmusiken für „Dune“\, „Thelma and Louise“\, „König der Löwen“\, „Gladiator“\, „Last Samurai“\, „The Dark Knight“\, „Inception“ und „Fluch der Karibik“. Die britische Zeitung The Daily Telegraph bezeichnete Hans Zimmer als einen der wichtigsten Filmmusikkomponisten der Welt. 2018 wurde Hans Zimmer zum elften Mal für einen Oscar nominiert. 2022 erhielt er für den Soundtrack zu „Dune“ den Golden Globe und den Oscar. \nJohn Towner Williams\, am 8. Februar 1932 in New York geboren\, gilt als der Lieblingskomponist von Steven Spielberg und George Lucas\, komponierte u.a. „Stars Wars“\, „Der weiße Hai“\, „E.T.“\, „Indiana Jones“\, „Jurassic Park“\, „Superman“\, „Schindlers Liste“ und die ersten drei Filme der Harry Potter-Saga. John Williams wurde als Sohn eines Orchestermusikers im New Yorker Stadtbezirk Queens geboren. Bereits im Alter von drei Jahren erlernte er das Notenlesen. Er zog 1948 mit seiner Familie nach Los Angeles\, wo er die University of California besuchte und Komposition studierte. Nachdem er seinen Wehrdienst bei der US Air Force absolviert hatte\, zog Williams zurück nach New York. Dort besuchte er die Juilliard School\, an der er Klavier studierte. Er wurde 53-mal für den Oscar nominiert\, fünf gewann er; sechsmal für den Emmy\, drei bekam er; 25-mal für den Golden Globe\, vier gewonnen; 68-mal für den Grammy\, 24 bekommen. Siebenmal bekam er den British Academy Film Award. Mit 53 Nominierungen hält er den Rekord für die meisten Oscar-Nominierungen für eine lebende Person. \n\nMax Moor\n\nDer gebürtige Schweizer wurde als Moderator des VOX-Magazins „Canale Grande“ bekannt. 2009 verfasste der einstige Dieter Moor sein erstes Buch „Was wir nicht haben\, brauchen Sie nicht“\, das über eine halbe Million Mal verkauft wurde. Es folgten vier weitere Titel im Rowohlt Verlag. Seit 2007 moderiert Max Moor die ARD-Kultursendung „ttt – titel\, thesen\, temperamente“ und berichtet neben der wöchentlichen Sendung im Rahmen von Specials von der Berlinale\, der Frankfurter Buchmesse\, den Salzburger Festspielen und der Biennale in Venedig. Er präsentiert und moderiert eine Vielzahl von Kulturveranstaltungen\, darunter die Gesprächsreihe der Bundeskunsthalle Bonn „Max Moor und die Kunst“\, das SWR Doku Festival oder „Planet Erde – Live in Concert“. Aufgrund seiner regelmäßigen Präsenz bei Filmfestspielen hat Max Moor über die Jahre hinweg ein breites\, genreübergreifendes Wissen in diesem Bereich angehäuft\, welches er bei „The Music of Hans Zimmer & John Williams – The Original London Production“ gekonnt zum Einsatz bringt.
URL:https://www.livemacher.de/event/the-music-of-hans-zimmer-john-williams-the-original-london-production-in-ludwigsburg-mhp-arena/
LOCATION:Ludwigsburg\, MHPArena\, Schwieberdinger Str. 30\, Ludwigsburg\, Baden-Württemberg\, 71636\, Deutschland
CATEGORIES:Kultur
ATTACH;FMTTYPE=image/jpeg:https://www.livemacher.de/wp-content/uploads/2023/06/vorlage-zimmer-williams-1000x1000px.jpg
ORGANIZER;CN="Livemacher GmbH":MAILTO:info@livemacher.de
GEO:48.8910576;9.1825209
X-APPLE-STRUCTURED-LOCATION;VALUE=URI;X-ADDRESS=Ludwigsburg MHPArena Schwieberdinger Str. 30 Ludwigsburg Baden-Württemberg 71636 Deutschland;X-APPLE-RADIUS=500;X-TITLE=Schwieberdinger Str. 30:geo:9.1825209,48.8910576
END:VEVENT
BEGIN:VEVENT
DTSTART;TZID=Europe/Berlin:20230108T190000
DTEND;TZID=Europe/Berlin:20230108T190000
DTSTAMP:20260420T155917
CREATED:20211119T093452Z
LAST-MODIFIED:20221130T125512Z
UID:10050455-1673204400-1673204400@www.livemacher.de
SUMMARY:ABBA WORLD-REVIVAL - 'meets Classic' in Ludwigsburg\, MHP-Arena
DESCRIPTION:Termin ersatzlos abgesagt                            \n                            \n                        \n                        \n                        \n                        \n                                                Die Veranstaltung wurde ersatzlos abgesagt.Die für Sonntag\, den 08.01.2022 angesetzte Veranstaltung 'ABBA WORLD REVIVAL meets Classic' in der MHP-Arena in Ludwigsburg\, wurde ersatzlos abgesagt. Die für diese Veranstaltung erworbenen Tickets können bei der Vorverkaufsstelle\, bei der Sie diese Tickets erworben haben\, zurückgegeben werden und Sie bekommen Ihr Geld erstattet. \n                        \n                        \n                        \n                    \n                \n            \n        \n\n    \n    \n\n\nWenn die zehn Musiker des „ABBA-WORLD-REVIVALS“ auf elf Philharmoniker treffen\, entsteht ein legendäres\, klassisch begleitetes ABBA Spektakel\, welches seines Gleichen sucht. Dan Hofrichter inszeniert mit „ABBA-WORLD-REVIVAL meets Classic“ eine Tribute Show der Extraklasse. Mit 21 darbietenden Künstlern auf der Bühne schafft es dieses Arrangement klassische Instrumente so mit dem unverkennbaren und ohnehin schon perfekten Abba-Sound zu verbinden\, dass ein brillantes ABBA Live -Event der Extraklasse entsteht. \nJetzt Tickets sichern! \nBesucher dieses einzigartigen Musik- und Konzertergebnisses dürfen sich auf alle Hits der legendären schwedischen Mega Band ABBA freuen\, von Waterloo über Dancing Queen bis zu Fernando und Chiquitita. Dabei sind nicht nur Kostüme und Bühnenchoreografie auf höchstem Niveau und dem Original perfekt nachempfunden. Auch der Sound ist 100% live\, frei von Zuspielungen oder sonstigen Playback-Techniken. Das Konzerthighlight mit Songs von ABBA in höchster Annäherung ans Original besticht durch höchste Perfektion in musikalischer als auch optischer Hinsicht. Das Ergebnis: ein harmonisches Konzert der Extraklasse! \nLassen auch Sie sich in die Welt des schwedischen Vokal-Sound mitnehmen und erleben Sie eine der wenigen Shows der „ABBA-WORLD-REVIVAL meets Classic“ Deutschlandtour.
URL:https://www.livemacher.de/event/abba-world-revival-meets-classic-in-ludwigsburg-mhp-arena/
LOCATION:Ludwigsburg\, MHPArena\, Schwieberdinger Str. 30\, Ludwigsburg\, Baden-Württemberg\, 71636\, Deutschland
CATEGORIES:Jazz-Pop-Rock,Show
ATTACH;FMTTYPE=image/jpeg:https://www.livemacher.de/wp-content/uploads/2021/11/web_LM_20230108_LB_ABBA-World-Revival-meets-Classic_1600x1600-ABGESAGT.jpg
ORGANIZER;CN="Livemacher GmbH":MAILTO:info@livemacher.de
GEO:48.8910576;9.1825209
X-APPLE-STRUCTURED-LOCATION;VALUE=URI;X-ADDRESS=Ludwigsburg MHPArena Schwieberdinger Str. 30 Ludwigsburg Baden-Württemberg 71636 Deutschland;X-APPLE-RADIUS=500;X-TITLE=Schwieberdinger Str. 30:geo:9.1825209,48.8910576
END:VEVENT
BEGIN:VEVENT
DTSTART;TZID=Europe/Berlin:20200223T190000
DTEND;TZID=Europe/Berlin:20200223T190000
DTSTAMP:20260420T155917
CREATED:20190415T124234Z
LAST-MODIFIED:20200224T094508Z
UID:10049820-1582484400-1582484400@www.livemacher.de
SUMMARY:FALCO - Das Musical Ludwigsburg\, MHPArena
DESCRIPTION:Am 6. Februar 1998 ist Johann „Hans“ Hölzel alias Falco im Alter von 40 Jahren bei einem Autounfall in der Dominikanischen Republik ums Leben gekommen. Mit „Der Kommissar“ gelang ihm 1981 der Sprung in die deutschsprachigen Charts. Mit „Rock Me Amadeus“ veröffentlichte er 1985 eine Single\, die es als bis heute einziger deutschsprachiger Song an die Spitze der US-Billboard-Charts schaffte. Hits wie „Vienna Calling“\, der „Jeanny“-Skandal und das vermächtnishafte „Out of the Dark“\, seine Eskapaden\, seine innere Zerissenheit und sein früher Tod machten ihn endgültig zur Legende. \nMit „FALCO – Das Musical“ dürfen sich Fans und Musikliebhaber davon überzeugen\, dass der Falke noch immer fliegt. Das zweistündige Live-Erlebnis führt durch prägende Stationen im Leben des markanten Musikers. Bildgewaltig und exzentrisch gewährt die Musical-Biographie durch kunstvolle Projektionen und Original–Videosequenzen einen tiefen Einblick in die Gedanken- und Gefühlswelt des Künstlers und den Menschen\, der hinter der schillernden Pop-Ikone steckte. Einem Menschen\, der das Leben bis an seine Grenzen auskostete und durch viele Höhen und Tiefen ging – bis hin zur Selbstzerstörung. Dabei werden alle großen Hits und auch einige zu Unrecht vergessene Titel des „Falken“ live auf die Bühne zurückgeholt und bekommen durch schrille und extravagante Tanzeinlagen neues Leben eingehaucht.
URL:https://www.livemacher.de/event/falco-das-musical-ludwigsburg-mhparena/
LOCATION:Ludwigsburg\, MHPArena\, Schwieberdinger Str. 30\, Ludwigsburg\, Baden-Württemberg\, 71636\, Deutschland
CATEGORIES:Jazz-Pop-Rock,Show
ATTACH;FMTTYPE=image/jpeg:https://www.livemacher.de/wp-content/uploads/2019/01/FALCO_KT-512x512px.jpg
ORGANIZER;CN="Livemacher GmbH":MAILTO:info@livemacher.de
GEO:48.8910576;9.1825209
X-APPLE-STRUCTURED-LOCATION;VALUE=URI;X-ADDRESS=Ludwigsburg MHPArena Schwieberdinger Str. 30 Ludwigsburg Baden-Württemberg 71636 Deutschland;X-APPLE-RADIUS=500;X-TITLE=Schwieberdinger Str. 30:geo:9.1825209,48.8910576
END:VEVENT
BEGIN:VEVENT
DTSTART;TZID=Europe/Berlin:20200214T200000
DTEND;TZID=Europe/Berlin:20200214T200000
DTSTAMP:20260420T155917
CREATED:20190520T100554Z
LAST-MODIFIED:20200217T083315Z
UID:10049828-1581710400-1581710400@www.livemacher.de
SUMMARY:ABBA-WORLD-REVIVAL - meets Classic Ludwigsburg\, MHPArena
DESCRIPTION:Wenn die zehn Musiker des „ABBA-WORLD-REVIVALS“ auf elf Philharmoniker treffen\, entsteht ein legendäres\, klassisch begleitetes ABBA Spektakel\, welches seines Gleichen sucht. Dan Hofrichter inszeniert mit „ABBA-WORLD-REVIVAL meets Classic“ eine Tribute Show der Extraklasse. Mit 21 darbietenden Künstlern auf der Bühne schafft es dieses Arrangement klassische Instrumente so mit dem unverkennbaren und ohnehin schon perfekten Abba-Sound zu verbinden\, dass ein brillantes ABBA Live -Event der Extraklasse entsteht. \nBesucher dieses einzigartigen Musik- und Konzertergebnisses dürfen sich auf alle Hits der legendären schwedischen Mega Band ABBA freuen\, von Waterloo über Dancing Queen bis zu Fernando und Chiquitita. Dabei sind nicht nur Kostüme und Bühnenchoreografie auf höchstem Niveau und dem Original perfekt nachempfunden. Auch der Sound ist 100% live\, frei von Zuspielungen oder sonstigen Playback-Techniken. Das Konzerthighlight mit Songs von ABBA in höchster Annäherung ans Original besticht durch höchste Perfektion in musikalischer als auch optischer Hinsicht. Das Ergebnis: ein harmonisches Konzert der Extraklasse! \nLassen auch Sie sich in die Welt des schwedischen Vokal-Sound mitnehmen und erleben Sie eine der wenigen Shows der „ABBA-WORLD-REVIVAL meets Classic“ Deutschlandtour.
URL:https://www.livemacher.de/event/abba-world-revival-meets-classic-ludwigsburg-mhparena/
LOCATION:Ludwigsburg\, MHPArena\, Schwieberdinger Str. 30\, Ludwigsburg\, Baden-Württemberg\, 71636\, Deutschland
CATEGORIES:Jazz-Pop-Rock,Show
ATTACH;FMTTYPE=image/jpeg:https://www.livemacher.de/wp-content/uploads/2020/01/web_LM_20200214_LB_Abba_meets_Classic_1000x1000_01.jpg
ORGANIZER;CN="Livemacher GmbH":MAILTO:info@livemacher.de
GEO:48.8910576;9.1825209
X-APPLE-STRUCTURED-LOCATION;VALUE=URI;X-ADDRESS=Ludwigsburg MHPArena Schwieberdinger Str. 30 Ludwigsburg Baden-Württemberg 71636 Deutschland;X-APPLE-RADIUS=500;X-TITLE=Schwieberdinger Str. 30:geo:9.1825209,48.8910576
END:VEVENT
BEGIN:VEVENT
DTSTART;TZID=Europe/Berlin:20200117T200000
DTEND;TZID=Europe/Berlin:20200117T200000
DTSTAMP:20260420T155917
CREATED:20190213T084615Z
LAST-MODIFIED:20200117T184738Z
UID:10049249-1579291200-1579291200@www.livemacher.de
SUMMARY:BEAT IT! – Die Show über den King of Pop! Ludwigsburg\, MHPArena
DESCRIPTION:Zehn Jahre nach seinem Tod geht die erfolgreiche Musical-Hommage an Michael Jackson in ihre zweite Tournee-Saison. Nach 102 Shows und über 180.000 Zuschauern in Deutschland\, Österreich und der Schweiz kehrt das Live-Spektakel „BEAT IT! – Die Show über den King of Pop!“ zurück auf die Bühnen im deutschsprachigen Raum. \nMichael Joseph Jackson wurde am 29. August 1958 in Gary\, Indiana\, USA als achtes von insgesamt zehn Kindern geboren. Sein Vater Joseph förderte seinen talentierten Sohn\, der zunächst mit seinen Brüdern in der Band „Jackson 5“ Welterfolge feierte. Während seiner Solokarriere avancierte das schmächtige Gesangs- und Tanz-Genie zum absoluten Superstar. Aus dem kleinen Michael Jackson wurde der „King of Pop“. \nEs ist diese Geschichte\, die „BEAT IT! – Die Show über den King of Pop!“ in einer aufwendigen Bühnenshow erzählt. Die Zuschauer dürfen sich auf einzigartige Choreografien und Dantanio Goodman als Hauptdarsteller in Höchstform freuen. Hits wie „Dirty Diana“\, „Thriller“\, Man In The Mirror“\, Billie Jean”\, “Beat It” oder “ABC” nehmen die Zuschauer mit auf eine atemberaubende\, musikalische Zeitreise. \nTickets und weitere Informationen gibt es unter www.beat-it-show.com.
URL:https://www.livemacher.de/event/beat-it-die-show-ueber-den-king-of-pop-ludwigsburg-mhparena/
LOCATION:Ludwigsburg\, MHPArena\, Schwieberdinger Str. 30\, Ludwigsburg\, Baden-Württemberg\, 71636\, Deutschland
CATEGORIES:Jazz-Pop-Rock,Show
ATTACH;FMTTYPE=image/jpeg:https://www.livemacher.de/wp-content/uploads/2019/01/BEATIT_KT-512x512px.jpg
ORGANIZER;CN="Livemacher GmbH":MAILTO:info@livemacher.de
GEO:48.8910576;9.1825209
X-APPLE-STRUCTURED-LOCATION;VALUE=URI;X-ADDRESS=Ludwigsburg MHPArena Schwieberdinger Str. 30 Ludwigsburg Baden-Württemberg 71636 Deutschland;X-APPLE-RADIUS=500;X-TITLE=Schwieberdinger Str. 30:geo:9.1825209,48.8910576
END:VEVENT
END:VCALENDAR