BEGIN:VCALENDAR
VERSION:2.0
PRODID:-//Livemacher GmbH - ECPv6.15.20//NONSGML v1.0//EN
CALSCALE:GREGORIAN
METHOD:PUBLISH
X-ORIGINAL-URL:https://www.livemacher.de
X-WR-CALDESC:Veranstaltungen für Livemacher GmbH
REFRESH-INTERVAL;VALUE=DURATION:PT1H
X-Robots-Tag:noindex
X-PUBLISHED-TTL:PT1H
BEGIN:VTIMEZONE
TZID:Europe/Berlin
BEGIN:DAYLIGHT
TZOFFSETFROM:+0100
TZOFFSETTO:+0200
TZNAME:CEST
DTSTART:20230326T010000
END:DAYLIGHT
BEGIN:STANDARD
TZOFFSETFROM:+0200
TZOFFSETTO:+0100
TZNAME:CET
DTSTART:20231029T010000
END:STANDARD
BEGIN:DAYLIGHT
TZOFFSETFROM:+0100
TZOFFSETTO:+0200
TZNAME:CEST
DTSTART:20240331T010000
END:DAYLIGHT
BEGIN:STANDARD
TZOFFSETFROM:+0200
TZOFFSETTO:+0100
TZNAME:CET
DTSTART:20241027T010000
END:STANDARD
BEGIN:DAYLIGHT
TZOFFSETFROM:+0100
TZOFFSETTO:+0200
TZNAME:CEST
DTSTART:20250330T010000
END:DAYLIGHT
BEGIN:STANDARD
TZOFFSETFROM:+0200
TZOFFSETTO:+0100
TZNAME:CET
DTSTART:20251026T010000
END:STANDARD
END:VTIMEZONE
BEGIN:VEVENT
DTSTART;TZID=Europe/Berlin:20240303T200000
DTEND;TZID=Europe/Berlin:20240303T230000
DTSTAMP:20260422T150553
CREATED:20231016T080013Z
LAST-MODIFIED:20240201T090414Z
UID:10050874-1709496000-1709506800@www.livemacher.de
SUMMARY:Planet Floyd - The German Pink Floyd Tribute Show in Landau in der Pfalz\, Jugendstil-Festhalle
DESCRIPTION:Pink Floyd\, sie wurden als Giganten des Progressive- bzw. Art-Rock bezeichnet\, sie verknüpften als Erste Musik- und Lightshow sowie eine Videoshow mit auf die Songs zugeschnittenen Filmen zu einem klanggewaltigen\, emotionalen Gesamtkunstwerk. Kritische und gefühlvolle Texte wurden von einer emotionalen Musik getragen. Die Live Shows von Pink Floyd waren Ereignisse\, zu denen Millionen begeisterter Fans pilgerten. Will man das Werk von Syd Barret\, David Gilmour\, Roger Waters\, Nick Mason und Richard Wright beschreiben\, gehen einem die Superlative aus. Dieses umfangreiche und in der Komplexität unerreichte Werk heute live\, authentisch und emotional auf die Bühne zu bringen\, grenzt an ein zum Scheitern verurteiltes Unterfangen. Demzufolge gibt es weltweit auch nur sehr wenige Bands\, die sich dieser Herausforderung stellen. Mit 9 Musikern und 4 eigenen Technikern schafft es die im Großraum Stuttgart und Heilbronn beheimatete Band Planet Floyd bei jedem Konzert aufs Neue\, das Publikum in die magische Welt von Pink Floyd eintauchen zu lassen. \nJetzt Tickets sichern! \nErleben Sie einen Abend mit der Stimmung und den Emotionen der Songs von Pink Floyd Planet Floyd haben passend zu den Songs Videos produziert\, die auf der berühmten runden Leinwand die stimmungsvoll dargebotenen Songs dieser Supergruppe unterstützen. Tauchen Sie ein in den Sound\, schließen Sie die Augen um zu genießen und öffnen Sie sie wieder\, um zu staunen! Erinnerungen an die psychedelischen Konzerte werden wach\, man glaubt den süßlichen Geruch\, der die Konzerte von Pink Floyd immer begleitet hat\, förmlich zu riechen. Gänsehautfeeling bei Titeln wie „Comfortably numb“ oder „The great gig in the sky“. Lassen Sie sich mit „Shine on you crazy diamond“ in Dimensionen fernab vom Alltag entführen. Spüren Sie die Gedanken und die Kritik in den Texten von „Us and them“ und „Pigs“\, die heute fast mehr als damals Aktualität besitzen\, und tauchen Sie bei „Echoes“ ein in 22 Minuten Psychedelic pur. \nEin Kritiker schrieb zur Show: „Zweierlei lösen Planet Floyd ein: Sie leisten ein Wiederhören mit Pink Floyd… und Planet Floyd haben Stil! Bei aller instrumentalen Fertigkeit. Sie dürfen das!“
URL:https://www.livemacher.de/event/planet-floyd-the-german-pink-floyd-tribute-show-in-landau-in-der-pfalz-jugendstil-festhalle/
LOCATION:Landau in der Pfalz\, Jugendstil-Festhalle\, Mahlastraße 3\, Landau in der Pfalz\, Baden-Württemberg\, 76829
CATEGORIES:Kultur
ATTACH;FMTTYPE=image/jpeg:https://www.livemacher.de/wp-content/uploads/2023/03/web_20240302-MAR-Planet-Floyd-1600x1600-1.jpg
ORGANIZER;CN="Livemacher GmbH":MAILTO:info@livemacher.de
GEO:49.1957339;8.1205104
X-APPLE-STRUCTURED-LOCATION;VALUE=URI;X-ADDRESS=Landau in der Pfalz Jugendstil-Festhalle Mahlastraße 3 Landau in der Pfalz Baden-Württemberg 76829;X-APPLE-RADIUS=500;X-TITLE=Mahlastraße 3:geo:8.1205104,49.1957339
END:VEVENT
END:VCALENDAR