BEGIN:VCALENDAR
VERSION:2.0
PRODID:-//Livemacher GmbH - ECPv6.15.20//NONSGML v1.0//EN
CALSCALE:GREGORIAN
METHOD:PUBLISH
X-ORIGINAL-URL:https://www.livemacher.de
X-WR-CALDESC:Veranstaltungen für Livemacher GmbH
REFRESH-INTERVAL;VALUE=DURATION:PT1H
X-Robots-Tag:noindex
X-PUBLISHED-TTL:PT1H
BEGIN:VTIMEZONE
TZID:Europe/Berlin
BEGIN:DAYLIGHT
TZOFFSETFROM:+0100
TZOFFSETTO:+0200
TZNAME:CEST
DTSTART:20230326T010000
END:DAYLIGHT
BEGIN:STANDARD
TZOFFSETFROM:+0200
TZOFFSETTO:+0100
TZNAME:CET
DTSTART:20231029T010000
END:STANDARD
BEGIN:DAYLIGHT
TZOFFSETFROM:+0100
TZOFFSETTO:+0200
TZNAME:CEST
DTSTART:20240331T010000
END:DAYLIGHT
BEGIN:STANDARD
TZOFFSETFROM:+0200
TZOFFSETTO:+0100
TZNAME:CET
DTSTART:20241027T010000
END:STANDARD
BEGIN:DAYLIGHT
TZOFFSETFROM:+0100
TZOFFSETTO:+0200
TZNAME:CEST
DTSTART:20250330T010000
END:DAYLIGHT
BEGIN:STANDARD
TZOFFSETFROM:+0200
TZOFFSETTO:+0100
TZNAME:CET
DTSTART:20251026T010000
END:STANDARD
END:VTIMEZONE
BEGIN:VEVENT
DTSTART;TZID=Europe/Berlin:20240105T200000
DTEND;TZID=Europe/Berlin:20240105T230000
DTSTAMP:20260420T170401
CREATED:20230904T100042Z
LAST-MODIFIED:20231215T083810Z
UID:10050865-1704484800-1704495600@www.livemacher.de
SUMMARY:BEATLES REVIVAL SHOW "The Pangea" in Karlsruhe\, Konzerthaus
DESCRIPTION:Termin ersatzlos abgesagt                            \n                            \n                        \n                        \n                        \n                        \n                                                Die für Freitag\, den 05.01.2023 angesetzte Veranstaltung „THE BEATLES TRIBUTE BAND "The Pangea"" im Konzerthaus in Karlsruhe wurde ersatzlos abgesagt.  Die für diese Veranstaltung erworbenen Tickets können bei der Vorverkaufsstelle\, bei der Sie diese Tickets erworben haben\, zurückgegeben werden und Sie bekommen Ihr Geld erstattet. \n                        \n                        \n                        \n                    \n                \n            \n        \n\n    \n    \n\n\n  \nDie Gruppe Pangea – The Beatles Revival Band gehört zu den europäischen Revival-Topgruppen und widmet sich professionell einer treuen Interpretierung der legendären Vierergruppe aus Liverpool. \nJetzt Tickets sichern… \nAusgefeilte Spieldetails\, perfektes Einstudieren der Lieder\, genau klingende Vokalharmonie in ursprünglichen Tonarten\, originale Musikinstrumente (Gitarren Gretsch\, Rickenbacker\, Höfner und Epiphone\, Apparate Vox und Schlagzeuge Ludwig)\, vollendete Kostümrepliken\, charakteristische Frisuren und nicht zuletzt auch ein linkshändiger Bassgitarrespieler – dass alles sind Attribute\, welche die Gruppe Pangea charakterisieren. \nBeweis der Qualität der Gruppe sind unter anderem der Sieg im Wettbewerb der Beatles-Revival-Gruppen im Juni 2010 oder die persönliche Einladung der Mutter von Paul McCartney zum Auftritt im Rahmen der feierlichen Taufe ihres Memoirenbuchs\, die im Januar 2013 in der Liverpool-Philharmonie stattfand.  Pangea wurde auch zur Teilnahme am internationalen Prestigefestival Beatleweek 2011 in Liverpool ausgewählt. Hier hatte die Gruppe eine Serie von Auftritten\, deren Höhepunkt die Konzerte im legendären Klub Cavem waren. Diese Konzerte fanden hier 50 Jahre nach dem ersten Auftritt der Beatles in diesem Klub statt.
URL:https://www.livemacher.de/event/beatles-revival-show-the-pangea-in-karlsruhe-konzerthaus/
LOCATION:Konzerthaus Karlsruhe\, Festplatz 9\, Karlsruhe\, Baden-Württemberg\, 76137\, Deutschland
CATEGORIES:Kultur
ATTACH;FMTTYPE=image/jpeg:https://www.livemacher.de/wp-content/uploads/2023/09/web-20240105-KA-Pangea_Beatles_Revival-1600x1600-1.jpg
ORGANIZER;CN="Livemacher GmbH":MAILTO:info@livemacher.de
GEO:49.003663453593;8.3997765443536
X-APPLE-STRUCTURED-LOCATION;VALUE=URI;X-ADDRESS=Konzerthaus Karlsruhe Festplatz 9 Karlsruhe Baden-Württemberg 76137 Deutschland;X-APPLE-RADIUS=500;X-TITLE=Festplatz 9:geo:8.3997765443536,49.003663453593
END:VEVENT
END:VCALENDAR