BEGIN:VCALENDAR
VERSION:2.0
PRODID:-//Livemacher GmbH - ECPv6.15.20//NONSGML v1.0//EN
CALSCALE:GREGORIAN
METHOD:PUBLISH
X-WR-CALNAME:Livemacher GmbH
X-ORIGINAL-URL:https://www.livemacher.de
X-WR-CALDESC:Veranstaltungen für Livemacher GmbH
REFRESH-INTERVAL;VALUE=DURATION:PT1H
X-Robots-Tag:noindex
X-PUBLISHED-TTL:PT1H
BEGIN:VTIMEZONE
TZID:Europe/Berlin
BEGIN:DAYLIGHT
TZOFFSETFROM:+0100
TZOFFSETTO:+0200
TZNAME:CEST
DTSTART:20190331T010000
END:DAYLIGHT
BEGIN:STANDARD
TZOFFSETFROM:+0200
TZOFFSETTO:+0100
TZNAME:CET
DTSTART:20191027T010000
END:STANDARD
BEGIN:DAYLIGHT
TZOFFSETFROM:+0100
TZOFFSETTO:+0200
TZNAME:CEST
DTSTART:20200329T010000
END:DAYLIGHT
BEGIN:STANDARD
TZOFFSETFROM:+0200
TZOFFSETTO:+0100
TZNAME:CET
DTSTART:20201025T010000
END:STANDARD
BEGIN:DAYLIGHT
TZOFFSETFROM:+0100
TZOFFSETTO:+0200
TZNAME:CEST
DTSTART:20210328T010000
END:DAYLIGHT
BEGIN:STANDARD
TZOFFSETFROM:+0200
TZOFFSETTO:+0100
TZNAME:CET
DTSTART:20211031T010000
END:STANDARD
BEGIN:DAYLIGHT
TZOFFSETFROM:+0100
TZOFFSETTO:+0200
TZNAME:CEST
DTSTART:20220327T010000
END:DAYLIGHT
BEGIN:STANDARD
TZOFFSETFROM:+0200
TZOFFSETTO:+0100
TZNAME:CET
DTSTART:20221030T010000
END:STANDARD
BEGIN:DAYLIGHT
TZOFFSETFROM:+0100
TZOFFSETTO:+0200
TZNAME:CEST
DTSTART:20230326T010000
END:DAYLIGHT
BEGIN:STANDARD
TZOFFSETFROM:+0200
TZOFFSETTO:+0100
TZNAME:CET
DTSTART:20231029T010000
END:STANDARD
BEGIN:DAYLIGHT
TZOFFSETFROM:+0100
TZOFFSETTO:+0200
TZNAME:CEST
DTSTART:20240331T010000
END:DAYLIGHT
BEGIN:STANDARD
TZOFFSETFROM:+0200
TZOFFSETTO:+0100
TZNAME:CET
DTSTART:20241027T010000
END:STANDARD
BEGIN:DAYLIGHT
TZOFFSETFROM:+0100
TZOFFSETTO:+0200
TZNAME:CEST
DTSTART:20250330T010000
END:DAYLIGHT
BEGIN:STANDARD
TZOFFSETFROM:+0200
TZOFFSETTO:+0100
TZNAME:CET
DTSTART:20251026T010000
END:STANDARD
END:VTIMEZONE
BEGIN:VEVENT
DTSTART;TZID=Europe/Berlin:20240111T200000
DTEND;TZID=Europe/Berlin:20240111T223000
DTSTAMP:20260420T201543
CREATED:20230705T132200Z
LAST-MODIFIED:20250226T154341Z
UID:10050855-1705003200-1705012200@www.livemacher.de
SUMMARY:Best of Musicals - "Highlights aus über 20 Musicals" Freiburg\, Konzerthaus
DESCRIPTION:BEST OF MUSICALS. Der Erfolg geht weiter…. \nHerausragende Darsteller mit kraftvollen Stimmen verzaubern die Zuschauer mit den erfolgreichsten Hits der beliebtesten Musicalproduktionen. Mit schillernden Kostümen\, schauspielerischem Talent\, einem Tanzensemble der Spitzenklasse und einem ausgefeilten Licht- und Soundkonzept entführt das Team von BEST OF MUSICALS in die bunte Traumwelt von 50 Jahren Musicalgeschichte. \nJetzt Tickets sichern! \nDas Publikum erlebt einen Streifzug durch gefühlvolle Balladen bei EVITA oder ELISABETH\, mitreißende Hits aus den Musicals GREASE und MAMMA MIA sowie bei WE WILL ROCK YOU. Die Top-Solisten lassen keine Wünsche offen und vereinen auch moderne Stücke wie DIE EISKÖNIGIN\, SISTER ACT und KÖNIG DER LÖWEN zu einem fesselnden Gesamtkunstwerk. Höhepunkte wie die unvergleichbaren Songs von TANZ DER VAMPIRE oder der Klassiker das PHANTOM DER OPER lassen die Besucher innehalten und sorgen für Gänsehautmomente. \nDas Ensemble um den Profi-Entertainer Espen Nowacki liebt das humoristische Zusammenbringen von Publikum und Bühne. Es führt mit Selbstironie und witzig-frivolem Schmiss durch den Abend. Bei BEST OF MUSICALS kommt auch bei weniger hartgesottenen Musical-Fans allerbeste Laune auf. Der immer wieder aufblitzende Humor und Flirt mit dem Publikum während und zwischen den Darbietungen lassen die Gäste und Darsteller für ein paar Stunden zu einer großen Familie werden. Unmöglich sich dieser Stimmung zu entziehen. Erstaunt fragen Zuschauer nach drei Stunden Glanzleistungen: „Wie\, schon vorbei?“ \nEin unvergesslicher Abend mit einem Mix aus gefühlvollen Balladen und rockigen Hits in deutscher Sprache\, eingebettet in ein grandioses Bühnenbild lädt alle Altersgruppen zum Erleben und Genießen ein.
URL:https://www.livemacher.de/event/best-of-musicals-highlights-aus-ueber-20-musicals-freiburg-konzerthaus/
LOCATION:Konzerthaus Freiburg\, Konrad-Adenauer-Platz 1\, Freiburg im Breisgau\, Baden-Württemberg\, 79098\, Deutschland
CATEGORIES:Musical
ATTACH;FMTTYPE=image/jpeg:https://www.livemacher.de/wp-content/uploads/2023/07/1600x1600px_BOM.jpeg
ORGANIZER;CN="Livemacher GmbH":MAILTO:info@livemacher.de
GEO:47.9960195;7.8421995
X-APPLE-STRUCTURED-LOCATION;VALUE=URI;X-ADDRESS=Konzerthaus Freiburg Konrad-Adenauer-Platz 1 Freiburg im Breisgau Baden-Württemberg 79098 Deutschland;X-APPLE-RADIUS=500;X-TITLE=Konrad-Adenauer-Platz 1:geo:7.8421995,47.9960195
END:VEVENT
BEGIN:VEVENT
DTSTART;TZID=Europe/Berlin:20230416T200000
DTEND;TZID=Europe/Berlin:20230416T200000
DTSTAMP:20260420T201543
CREATED:20220729T093410Z
LAST-MODIFIED:20220914T175453Z
UID:10050670-1681675200-1681675200@www.livemacher.de
SUMMARY:ELVIS - Das Musical in Freiburg im Breisgau\, Konzerthaus\, Rolf-Böhme-Saal
DESCRIPTION:„Ich will die Menschen unterhalten. Das ist mein ganzes Leben. Bis zu meinem letzten Atemzug!“ – Elvis Presley \n50 Jahre „Aloha from Hawaii“: Das Erfolgs-Musical über den King of Rock’n’Roll geht erneut auf große Tour\nJetzt Tickets sichern! \nSein Blick\, seine Stimme\, sein legendärer Hüftschwung – Elvis Presley gilt mit einer Milliarde verkaufter Tonträger als der erfolgreichste Solokünstler aller Zeiten. Sein bekanntestes Konzert „Aloha from Hawaii“ gab der King of Rock’n’Roll am 14. Januar 1973 in Honolulu. 50 Jahre nach dem Konzert der Superlative lässt „ELVIS – Das Musical“ die Legende mit all seinen großen Hits wiederauferstehen und geht 2023 auf große Tour durch Deutschland\, Österreich und die Schweiz. Tickets gibt es unter www.elvis-musical.co und an allen bekannten Vorverkaufsstellen. \nPassau\, 26.08.2022. Um den Tod von Elvis Aaron Presley ranken sich nach wie vor Legenden und Mythen\, die den „King“ bis heute unvergesslich machen. Offiziell ist Elvis an einem plötzlichen Herzstillstand gestorben. Der weltweit erfolgreichste Solo-Künstler wurde nur 42 Jahre alt und prägte mit seiner Musik seither alle Generationen wie kein anderer. Noch heute gewinnt der „King“ täglich neue Fans und bewegt die Menschen mit seinen Liedern auf der ganzen Welt. Für seine Fans lebt er immer noch – zumindest in ihren Herzen. „ELVIS – Das Musical“ bringt die Magie rund um die Rock’n’Roll-Ikone zurück auf die Bühne und wurde bereits von mehr als einer halben Million Zuschauern frenetisch bejubelt.
URL:https://www.livemacher.de/event/elvis-das-musical-in-freiburg-im-breisgau-konzerthaus-rolf-boehme-saal/
LOCATION:Konzerthaus Freiburg\, Konrad-Adenauer-Platz 1\, Freiburg im Breisgau\, Baden-Württemberg\, 79098\, Deutschland
CATEGORIES:Jazz-Pop-Rock,Show
ATTACH;FMTTYPE=image/jpeg:https://www.livemacher.de/wp-content/uploads/2022/07/elvis-FRB-20230416_1600x1600.jpg
ORGANIZER;CN="Livemacher GmbH":MAILTO:info@livemacher.de
GEO:47.9960195;7.8421995
X-APPLE-STRUCTURED-LOCATION;VALUE=URI;X-ADDRESS=Konzerthaus Freiburg Konrad-Adenauer-Platz 1 Freiburg im Breisgau Baden-Württemberg 79098 Deutschland;X-APPLE-RADIUS=500;X-TITLE=Konrad-Adenauer-Platz 1:geo:7.8421995,47.9960195
END:VEVENT
BEGIN:VEVENT
DTSTART;TZID=Europe/Berlin:20230223T200000
DTEND;TZID=Europe/Berlin:20230223T200000
DTSTAMP:20260420T201543
CREATED:20210428T102530Z
LAST-MODIFIED:20230222T102232Z
UID:10050196-1677182400-1677182400@www.livemacher.de
SUMMARY:Die UDO JÜRGENS Story in Freiburg\, Konzerthaus
DESCRIPTION:Terminverlegung                            \n                            \n                        \n                        \n                        \n                        \n                                                Die Veranstaltung wurde auf Grund einer behördlichen Anordnung verschoben.\nDie für Donnerstag\, 10.03.2022 angesetzte Veranstaltung "Die UDO JÜRGENS Story" im Konzerthaus in Freiburg wurde aufgrund der aktuellen Situation auf Donnerstag\, den 23.02.2023 verschoben.\n\nSelbstverständlich behalten alle Tickets ihre Gültigkeit für den neuen Termin.\n\nWir bitten um Ihr Verständnis. Vielen Dank.\n                        \n                        \n                        \n                    \n                \n            \n        \n\n    \n    \n\n\nIm Jahr 2022 auf großer Deutschland-Tour:\nDie größten Hits und schönsten Geschichten der Musiklegende Udo Jürgens\nDie Besucher des Konzerthauses Freiburg erwartet am 10.03.2022 mit „Die UDO JÜRGENS Story“ ein einzigartiges Bühnenspektakel mit den größten Hits von Udo Jürgens. \nPackende Melodien\, ein einzigartiger Charakter und ein unsterbliches Lebenswerk: Udo Jürgens begeisterte auf seinen Tourneen Millionen von Fans. Zu Ehren seines 85. Geburtstags 2019 ging erstmals 2019 „Die Udo Jürgens Story“ mit Gabriela Benesch und Alex Parker auf große Deutschland-Tour. „Die Udo Jürgens Story“ ist eine wundervolle wie außergewöhnliche Hommage an den Grandseigneur der deutschen Unterhaltungsmusik\, wie man sie seit seinem plötzlichen Tod noch nie auf deutschen Bühnen erleben konnte. Tochter Jenny Jürgens schwärmte nach der Premiere: „Ein Muss für alle Udo-Fans!“ \nJetzt Tickets sichern! \nDie im Jahr 2014 in Wien als beste Theaterschauspielerin des Jahres ausgezeichnete Gabriela Benesch hat zusammen mit Ihrem Lebensgefährten\, dem Schweizer Regisseur\, Schauspieler und Autor Erich Furrer einen locker-amüsanten\, kurzweiligen\, informativen und höchst unterhaltsamen Konzertabend zu Ehren und in Gedenken an den großen Udo Jürgens zusammengestellt. \nAlex Parker als Sänger und Pianist \nAlex Parker singt dabei die Werke des unvergessenen Entertainers\, als stünde dieser persönlich auf der Bühne. Der ausgebildete Pianist ist einem breiten Publikum durch seine zahlreichen TV- und Rundfunkauftritte\, unter anderem beim Grand Prix der Volksmusik im ZDF\, bekannt. Entdeckt wurde der Niedersachse von der niederländischen Showmasterin Linda de Mol bei RTL\, in deren Shows er sich erstmals einem Millionenpublikum präsentierte. Parkers Charisma und seine außergewöhnliche Musikalität haben sogar Branchenprofis wie die Musikproduzenten Ralph Siegel und Thomas Stein beeindruckt. \nEr gilt nicht grundlos als bekanntester Udo Jürgens-Interpret im gesamten deutschsprachigen Raum. Schon als 13-Jähriger – noch vor dem Stimmbruch – hat Parker nach eigenem Bekunden angefangen\, Udo Jürgens‘ Songs nachzusingen und dessen nasal geprägte\, einzigartige Klangfarbe seiner Stimme nachzuahmen. Ganz im Stil seines Idols versteht er es auf sympathische Art und Weise\, eine einzigartige\, hochemotionale Atmosphäre zwischen sich und seinem Publikum zu schaffen: „Mein Ziel ist es\, die Chansons von Udo Jürgens weiterleben zu lassen und den Menschen damit eine Freude zu machen\, sie vielleicht ein wenig zu trösten“\, erklärt Alex Parker. „Denn seine Lieder sind unsterblich!“ \nDie musikalische Zeitreise beinhaltet alle großen Hits wie „Ich weiß was ich will“\, „Mit 66 Jahren“\, „Ein ehrenwertes Haus“\, „Ich war noch niemals in New York“\, „Was ich dir sagen will“\, „Immer wieder geht die Sonne auf“\, „Griechischer Wein“\, „Liebe ohne Leiden“\, „Merci Cherie“\, „Aber bitte mit Sahne“\, „Mein Ziel“ sowie einige Raritäten. Ganz im Stil des Entertainers begleitet er sich selbst am Klavier. Wie nah er dabei am Original ist\, bestätigte Udo Jürgens dem damals 19-Jährigen höchstpersönlich.
URL:https://www.livemacher.de/event/die-udo-juergens-story-freiburg-konzerthaus/
LOCATION:Konzerthaus Freiburg\, Konrad-Adenauer-Platz 1\, Freiburg im Breisgau\, Baden-Württemberg\, 79098\, Deutschland
CATEGORIES:Bühne
ATTACH;FMTTYPE=image/jpeg:https://www.livemacher.de/wp-content/uploads/2021/04/LM_20220310-20230223_FRB_Udo-Juergens-Show_1600x1600_verlegt.jpg
ORGANIZER;CN="Livemacher GmbH":MAILTO:info@livemacher.de
GEO:47.9960195;7.8421995
X-APPLE-STRUCTURED-LOCATION;VALUE=URI;X-ADDRESS=Konzerthaus Freiburg Konrad-Adenauer-Platz 1 Freiburg im Breisgau Baden-Württemberg 79098 Deutschland;X-APPLE-RADIUS=500;X-TITLE=Konrad-Adenauer-Platz 1:geo:7.8421995,47.9960195
END:VEVENT
BEGIN:VEVENT
DTSTART;TZID=Europe/Berlin:20200223T200000
DTEND;TZID=Europe/Berlin:20200223T200000
DTSTAMP:20260420T201543
CREATED:20190306T111909Z
LAST-MODIFIED:20200224T094518Z
UID:10049815-1582488000-1582488000@www.livemacher.de
SUMMARY:That´s life - Das Sinatra-Musical Freiburg\, Konzerthaus
DESCRIPTION:Frank Sinatra\, einer der größten Entertainer der Welt\, ist bis heute unvergessen: Seine Songs wie „My Way“\, „Strangers In The Night“ oder „New York\, New York“ bescherten ihm Weltruhm und er gilt als eine der einflussreichsten Persönlichkeiten der Popmusik des 20. Jahrhunderts. Glamourös war sein Leben zwischen Las Vegas und New York\, auf den Bühnen der ganzen Welt\, leidenschaftlich seine Ehen mit Nancy Barbato\, Ava Gardner oder Mia Farrow\, geheimnisvoll seine Beziehungen zur Mafia und zur Politik. \n„That’s Life – Das Sinatra-Musical“ von Erfolgsproduzent Oliver Forster (u.a. „Falco – Das Musical“ und „BEAT IT! – Das Musical über den King of Pop!“) zeigt in beeindruckenden Bildern Sinatras unvergleichliche Karriere\, thematisiert aber auch die Schattenseiten seines mondän scheinenden Lebens. Die Las Vegas-Show präsentiert „Frankie Boy‘s“ größte Hits und versetzt die Zuschauer zurück in die legendäre Zeit des Swing mit seinen Big Bands. Zum 105. Geburtstag von Frank Sinatra feierte „That’s Life“ am 8. Januar 2020 eine glanzvolle Weltpremiere im Theater am Potsdamer Platz in Berlin und ist seitdem unterwegs auf großer Tournee durch Deutschland\, Österreich und die Schweiz\, darunter Berlin\, Leipzig\, Dresden\, München\, Wien\, Düsseldorf und Frankfurt am Main. \nFrank Sinatra war ein Mann\, auf den alle denkbaren Superlative der populären Musik Anwendung fanden. Im Laufe seiner Karriere gelang es ihm\, einen unverkennbaren Stil zu bewahren und trotz gegenläufiger Trends immer an der Spitze des kommerziellen Erfolgs zu bleiben. So wurde er zu einem der wichtigsten Charaktere im amerikanischen und internationalen Musikgeschäft. Mit über 1.800 Songaufnahmen\, 60 Filmrollen\, neun Grammys und einem Oscar sprengte er bis dato alle Rekorde der Unterhaltungsbranche.
URL:https://www.livemacher.de/event/thats-life-das-sinatra-musical-freiburg-konzerthaus/
LOCATION:Konzerthaus Freiburg\, Konrad-Adenauer-Platz 1\, Freiburg im Breisgau\, Baden-Württemberg\, 79098\, Deutschland
CATEGORIES:Jazz-Pop-Rock,Show
ATTACH;FMTTYPE=image/jpeg:https://www.livemacher.de/wp-content/uploads/2019/01/ThatsLife_KT-512x512px.jpg
ORGANIZER;CN="Livemacher GmbH":MAILTO:info@livemacher.de
GEO:47.9960195;7.8421995
X-APPLE-STRUCTURED-LOCATION;VALUE=URI;X-ADDRESS=Konzerthaus Freiburg Konrad-Adenauer-Platz 1 Freiburg im Breisgau Baden-Württemberg 79098 Deutschland;X-APPLE-RADIUS=500;X-TITLE=Konrad-Adenauer-Platz 1:geo:7.8421995,47.9960195
END:VEVENT
BEGIN:VEVENT
DTSTART;TZID=Europe/Berlin:20200220T200000
DTEND;TZID=Europe/Berlin:20200220T200000
DTSTAMP:20260420T201543
CREATED:20190415T123957Z
LAST-MODIFIED:20200224T094424Z
UID:10049048-1582228800-1582228800@www.livemacher.de
SUMMARY:FALCO - Das Musical Freiburg\, Konzerthaus
DESCRIPTION:Am 6. Februar 1998 ist Johann „Hans“ Hölzel alias Falco im Alter von 40 Jahren bei einem Autounfall in der Dominikanischen Republik ums Leben gekommen. Mit „Der Kommissar“ gelang ihm 1981 der Sprung in die deutschsprachigen Charts. Mit „Rock Me Amadeus“ veröffentlichte er 1985 eine Single\, die es als bis heute einziger deutschsprachiger Song an die Spitze der US-Billboard-Charts schaffte. Hits wie „Vienna Calling“\, der „Jeanny“-Skandal und das vermächtnishafte „Out of the Dark“\, seine Eskapaden\, seine innere Zerissenheit und sein früher Tod machten ihn endgültig zur Legende. \nMit „FALCO – Das Musical“ dürfen sich Fans und Musikliebhaber davon überzeugen\, dass der Falke noch immer fliegt. Das zweistündige Live-Erlebnis führt durch prägende Stationen im Leben des markanten Musikers. Bildgewaltig und exzentrisch gewährt die Musical-Biographie durch kunstvolle Projektionen und Original–Videosequenzen einen tiefen Einblick in die Gedanken- und Gefühlswelt des Künstlers und den Menschen\, der hinter der schillernden Pop-Ikone steckte. Einem Menschen\, der das Leben bis an seine Grenzen auskostete und durch viele Höhen und Tiefen ging – bis hin zur Selbstzerstörung. Dabei werden alle großen Hits und auch einige zu Unrecht vergessene Titel des „Falken“ live auf die Bühne zurückgeholt und bekommen durch schrille und extravagante Tanzeinlagen neues Leben eingehaucht.
URL:https://www.livemacher.de/event/falco-das-musical-freiburg-konzerthaus/
LOCATION:Konzerthaus Freiburg\, Konrad-Adenauer-Platz 1\, Freiburg im Breisgau\, Baden-Württemberg\, 79098\, Deutschland
CATEGORIES:Jazz-Pop-Rock,Show
ATTACH;FMTTYPE=image/jpeg:https://www.livemacher.de/wp-content/uploads/2019/01/FALCO_KT-512x512px.jpg
ORGANIZER;CN="Livemacher GmbH":MAILTO:info@livemacher.de
GEO:47.9960195;7.8421995
X-APPLE-STRUCTURED-LOCATION;VALUE=URI;X-ADDRESS=Konzerthaus Freiburg Konrad-Adenauer-Platz 1 Freiburg im Breisgau Baden-Württemberg 79098 Deutschland;X-APPLE-RADIUS=500;X-TITLE=Konrad-Adenauer-Platz 1:geo:7.8421995,47.9960195
END:VEVENT
BEGIN:VEVENT
DTSTART;TZID=Europe/Berlin:20200118T200000
DTEND;TZID=Europe/Berlin:20200118T200000
DTSTAMP:20260420T201543
CREATED:20190617T111237Z
LAST-MODIFIED:20200119T094420Z
UID:10049840-1579377600-1579377600@www.livemacher.de
SUMMARY:all you need is love! – Das Beatles-Musical Freiburg\, Konzerthaus
DESCRIPTION:Nach zwei Jahren Pause kehrt das Erfolgs-Musical „all you need is love!“ pünktlich zum Dreifachjubiläum der erfolgreichsten Band aller Zeiten auf die Bühne zurück. Im Jahr 2020 jährt sich die Gründung der Beatles zum 60. Mal\, ihre Trennung liegt dann 50 Jahre zurück und auch die Show von Produzent Bernhard Kurz feiert runden Geburtstag. Im Jahr 2000 war das Musical am Chiemsee erstmals zu sehen. Seitdem absolvierte die Show mit der Originalband aus Las Vegas über 1000 Auftritte in 14 Ländern mit über einer Million Zuschauern. \nZwar sind es nicht die Beatles selbst\, die in dem Musical auftreten\, dafür aber ihre perfekt eingespielten Ebenbilder: das Quartett „Twist & Shout“ mit Alan LeBoeuf als Paul McCartney\, Howard Arthur (John Lennon)\, John Brosnan (George Harrison) und Carmine Francis Grippo (Ringo Starr). In „all you need is love! – Das Beatles-Musical“ lassen die Ausnahmekünstler den Mythos der Pilzköpfe auferstehen. \n„Twist & Shout“ überzeugt mit professionellem Live-Gesang\, bei dem der Zuschauer glaubt\, die Beatles seien leibhaftig auf die Bühne zurückgekehrt. Anschauliche Kurzgeschichten beleuchten die Meilensteine einer unvergleichlichen Karriere. „all you need is love!“ führt die Zuschauer zurück zu den Anfängen der Pilzköpfe in Hamburg\, über ihre ersten eigenen Konzerte bis hin zum Durchbruch in den USA und ihren raketenhaften Aufstieg.
URL:https://www.livemacher.de/event/all-you-need-is-love-das-beatles-musical-freiburg-konzerthaus/
LOCATION:Konzerthaus Freiburg\, Konrad-Adenauer-Platz 1\, Freiburg im Breisgau\, Baden-Württemberg\, 79098\, Deutschland
CATEGORIES:Jazz-Pop-Rock,Show
ATTACH;FMTTYPE=image/jpeg:https://www.livemacher.de/wp-content/uploads/2019/01/AYNIL_KT-512x512px.jpg
ORGANIZER;CN="Livemacher GmbH":MAILTO:info@livemacher.de
GEO:47.9960195;7.8421995
X-APPLE-STRUCTURED-LOCATION;VALUE=URI;X-ADDRESS=Konzerthaus Freiburg Konrad-Adenauer-Platz 1 Freiburg im Breisgau Baden-Württemberg 79098 Deutschland;X-APPLE-RADIUS=500;X-TITLE=Konrad-Adenauer-Platz 1:geo:7.8421995,47.9960195
END:VEVENT
END:VCALENDAR