BEGIN:VCALENDAR
VERSION:2.0
PRODID:-//Livemacher GmbH - ECPv6.15.20//NONSGML v1.0//EN
CALSCALE:GREGORIAN
METHOD:PUBLISH
X-WR-CALNAME:Livemacher GmbH
X-ORIGINAL-URL:https://www.livemacher.de
X-WR-CALDESC:Veranstaltungen für Livemacher GmbH
REFRESH-INTERVAL;VALUE=DURATION:PT1H
X-Robots-Tag:noindex
X-PUBLISHED-TTL:PT1H
BEGIN:VTIMEZONE
TZID:Europe/Berlin
BEGIN:DAYLIGHT
TZOFFSETFROM:+0100
TZOFFSETTO:+0200
TZNAME:CEST
DTSTART:20210328T010000
END:DAYLIGHT
BEGIN:STANDARD
TZOFFSETFROM:+0200
TZOFFSETTO:+0100
TZNAME:CET
DTSTART:20211031T010000
END:STANDARD
BEGIN:DAYLIGHT
TZOFFSETFROM:+0100
TZOFFSETTO:+0200
TZNAME:CEST
DTSTART:20220327T010000
END:DAYLIGHT
BEGIN:STANDARD
TZOFFSETFROM:+0200
TZOFFSETTO:+0100
TZNAME:CET
DTSTART:20221030T010000
END:STANDARD
BEGIN:DAYLIGHT
TZOFFSETFROM:+0100
TZOFFSETTO:+0200
TZNAME:CEST
DTSTART:20230326T010000
END:DAYLIGHT
BEGIN:STANDARD
TZOFFSETFROM:+0200
TZOFFSETTO:+0100
TZNAME:CET
DTSTART:20231029T010000
END:STANDARD
BEGIN:DAYLIGHT
TZOFFSETFROM:+0100
TZOFFSETTO:+0200
TZNAME:CEST
DTSTART:20240331T010000
END:DAYLIGHT
BEGIN:STANDARD
TZOFFSETFROM:+0200
TZOFFSETTO:+0100
TZNAME:CET
DTSTART:20241027T010000
END:STANDARD
END:VTIMEZONE
BEGIN:VEVENT
DTSTART;TZID=Europe/Berlin:20231201T200000
DTEND;TZID=Europe/Berlin:20231201T200000
DTSTAMP:20260420T195401
CREATED:20201202T124205Z
LAST-MODIFIED:20231208T160334Z
UID:10050175-1701460800-1701460800@www.livemacher.de
SUMMARY:Mundstuhl - "Kann Spuren von Nüssen enthalten - Das brandneue Programm!" in Heilbronn \, Konzert- und Kongresszentrum Harmonie
DESCRIPTION:Terminverlegung                            \n                            \n                        \n                        \n                        \n                        \n                                                Die Veranstaltung wurde auf Grund einer behördlichen Anordnung verschoben.\nDie für Freitag\, den 17.11.2021 angesetzte Veranstaltung "Mundstuhl – 'FLAMONGOS' " im Konzert- und Kongresszentrum Harmonie in Heilbronn\, wurde aufgrund der aktuellen Situation auf Freitag\, den 01.12.2023 verschoben.\n\nSelbstverständlich behalten alle Tickets ihre Gültigkeit für den neuen Termin.\n\nWir bitten um Ihr Verständnis. Vielen Dank.\n                        \n                        \n                        \n                    \n                \n            \n        \n\n    \n    \n\n\nDas beste Comedyduo des Universums holt aus zum nächsten Streich! \nUnd ja! Es wird noch lustiger als jemals zuvor. Wer geglaubt hat\, der Gipfel humoristischen Wahnsinns sei nach 25 Jahren MUNDSTUHL bereits erreicht\, wird mit dem brandneuen Programm KANN SPUREN VON NÜSSEN ENTHALTEN  eines Besseren belehrt. \nJetzt Tickets sichern! \nSo frisch und abwechslungsreich\, so durchgeknallt und schnell\, als hätten sich die beiden symphatischen Echopreisträger eine Adrenalinspritze ins vegetative Humorzentrum gedrückt. In bester Mundstuhlmanier geben sich auf der Bühne liebgewonnene aber auch nagelneue Charaktere die Klinke in die Hand. \nDer psychopathische Grillschorsch\, der cholerische Andi\, die drucklosen Friedensaktivisten Malte und Torben  von No Pressure und als Special Guest Der Dschieses\, der auf Geheiß seines Vaters wieder auf der Erde weilt – alle Mundstuhl-Figuren haben schwer einen an der Klatsche und sind als ins Absurde überdrehte Karikaturen angelegt. \nSo auch die ostdeutschen Hartz-IV-Mütter Peggy und Sandy\,  die schlechtesten Zauberer der Welt Sickroy und Fried und natürlich Dragan und Alder\, die Erfinder der Kanakcomedy\, die den hessischen Kultkomikern vor einem Vierteljahrhundert den Durchbruch bescherten. \nImmer wieder leuchten satirische Spitzen auf\, meist aber geht es um die pure Lust am Blödsinn\, die mit ansteckender Spielfreude präsentiert wird. \nIn Zeiten von stets erhobenen Zeigefingern\, Gendersternchen und Political Correctness machen MUNDSTUHL weiterhin Späße über Alles und Jeden und das Beste ist: Man darf und muss herzhaft darüber lachen. \nDie beiden Comedians und Podcaster Lars Niedereichholz und Ande Werner gelten als das erfolgreichste und wandelbarste Comedy-Doppel Deutschlands und erreichen in ihrem neuen Programm eine geradezu irrwitzige Pointendichte. \nAber Achtung! Dieses Programm  KANN SPUREN VON NÜSSEN ENTHALTEN. \n„Riesenapplaus unter Lachtränen!“ BILD Zeitung\n„MUNDSTUHL sind die AC/DC der Comedy! Zum Kaputtlachen!“ SZ\n„Politisch völlig inkorrekt und zum Brüllen komisch“ Westfälische Allgemeine\n„MUNDSTUHL sind einmalig“ BZ
URL:https://www.livemacher.de/event/mundstuhl-neues-programm-heilbronn-konzert-und-kongresszentrum-harmonie/
LOCATION:Heilbronn\, Harmonie (Theodor Heuss Saal)\, Allee 28\, Heilbronn\, Baden-Württemberg\, 74072\, Deutschland
CATEGORIES:Kultur
ATTACH;FMTTYPE=image/jpeg:https://www.livemacher.de/wp-content/uploads/2020/12/web_LM_20211217-20231201_HN_Mundstuhl_1600x1600_verlegt_NEU.jpg
ORGANIZER;CN="Livemacher GmbH":MAILTO:info@livemacher.de
GEO:49.1428686;9.2230322
X-APPLE-STRUCTURED-LOCATION;VALUE=URI;X-ADDRESS=Heilbronn Harmonie (Theodor Heuss Saal) Allee 28 Heilbronn Baden-Württemberg 74072 Deutschland;X-APPLE-RADIUS=500;X-TITLE=Allee 28:geo:9.2230322,49.1428686
END:VEVENT
BEGIN:VEVENT
DTSTART;TZID=Europe/Berlin:20230416T200000
DTEND;TZID=Europe/Berlin:20230416T200000
DTSTAMP:20260420T195401
CREATED:20211119T093000Z
LAST-MODIFIED:20221130T142647Z
UID:10050454-1681675200-1681675200@www.livemacher.de
SUMMARY:ABBA WORLD-REVIVAL - 'meets Classic' in Heilbronn\, Harmonie
DESCRIPTION:Terminverlegung                            \n                            \n                        \n                        \n                        \n                        \n                                                Die Veranstaltung wurde verschoben.Die für Samstag\, den 07.01.2023 angesetzte Veranstaltung 'ABBA WORLD-REVIVAL meets Classic' in der Harmonie in Heilbronn wurde auf Sonntag\, den 16.04.2023 verschoben. Für die ursprüngliche Veranstaltung erworbene Tickets behalten Ihre Gültigkeit \n                        \n                        \n                        \n                                        \n                    \n                \n            \n        \n\n    \n    \n\n\nWenn die zehn Musiker des „ABBA-WORLD-REVIVALS“ auf elf Philharmoniker treffen\, entsteht ein legendäres\, klassisch begleitetes ABBA Spektakel\, welches seines Gleichen sucht. Dan Hofrichter inszeniert mit „ABBA-WORLD-REVIVAL meets Classic“ eine Tribute Show der Extraklasse. Mit 21 darbietenden Künstlern auf der Bühne schafft es dieses Arrangement klassische Instrumente so mit dem unverkennbaren und ohnehin schon perfekten Abba-Sound zu verbinden\, dass ein brillantes ABBA Live -Event der Extraklasse entsteht. \nJetzt Tickets sichern! \nBesucher dieses einzigartigen Musik- und Konzertergebnisses dürfen sich auf alle Hits der legendären schwedischen Mega Band ABBA freuen\, von Waterloo über Dancing Queen bis zu Fernando und Chiquitita. Dabei sind nicht nur Kostüme und Bühnenchoreografie auf höchstem Niveau und dem Original perfekt nachempfunden. Auch der Sound ist 100% live\, frei von Zuspielungen oder sonstigen Playback-Techniken. Das Konzerthighlight mit Songs von ABBA in höchster Annäherung ans Original besticht durch höchste Perfektion in musikalischer als auch optischer Hinsicht. Das Ergebnis: ein harmonisches Konzert der Extraklasse! \nLassen auch Sie sich in die Welt des schwedischen Vokal-Sound mitnehmen und erleben Sie eine der wenigen Shows der „ABBA-WORLD-REVIVAL meets Classic“ Deutschlandtour.
URL:https://www.livemacher.de/event/abba-world-revival-meets-classic-in-heilbronn-harmonie/
LOCATION:Heilbronn\, Harmonie (Theodor Heuss Saal)\, Allee 28\, Heilbronn\, Baden-Württemberg\, 74072\, Deutschland
CATEGORIES:Jazz-Pop-Rock,Show
ATTACH;FMTTYPE=image/jpeg:https://www.livemacher.de/wp-content/uploads/2021/11/web_LM_20230107-20230416_HN_ABBA-World-Revival-meets-Classic_1600x1600-VERLEGT.jpg
ORGANIZER;CN="Livemacher GmbH":MAILTO:info@livemacher.de
GEO:49.1428686;9.2230322
X-APPLE-STRUCTURED-LOCATION;VALUE=URI;X-ADDRESS=Heilbronn Harmonie (Theodor Heuss Saal) Allee 28 Heilbronn Baden-Württemberg 74072 Deutschland;X-APPLE-RADIUS=500;X-TITLE=Allee 28:geo:9.2230322,49.1428686
END:VEVENT
BEGIN:VEVENT
DTSTART;TZID=Europe/Berlin:20230304T200000
DTEND;TZID=Europe/Berlin:20230304T200000
DTSTAMP:20260420T195401
CREATED:20220729T091524Z
LAST-MODIFIED:20220914T175349Z
UID:10050669-1677960000-1677960000@www.livemacher.de
SUMMARY:ELVIS - Das Musical in Heilbronn\, Konzert- und Kongresszentrum Harmonie
DESCRIPTION:„Ich will die Menschen unterhalten. Das ist mein ganzes Leben. Bis zu meinem letzten Atemzug!“ – Elvis Presley \n50 Jahre „Aloha from Hawaii“: Das Erfolgs-Musical über den King of Rock’n’Roll geht erneut auf große Tour \nJetzt Tickets sichern! \nSein Blick\, seine Stimme\, sein legendärer Hüftschwung – Elvis Presley gilt mit einer Milliarde verkaufter Tonträger als der erfolgreichste Solokünstler aller Zeiten. Sein bekanntestes Konzert „Aloha from Hawaii“ gab der King of Rock’n’Roll am 14. Januar 1973 in Honolulu. 50 Jahre nach dem Konzert der Superlative lässt „ELVIS – Das Musical“ die Legende mit all seinen großen Hits wiederauferstehen und geht 2023 auf große Tour durch Deutschland\, Österreich und die Schweiz. Tickets gibt es unter www.elvis-musical.co und an allen bekannten Vorverkaufsstellen. \nPassau\, 26.08.2022. Um den Tod von Elvis Aaron Presley ranken sich nach wie vor Legenden und Mythen\, die den „King“ bis heute unvergesslich machen. Offiziell ist Elvis an einem plötzlichen Herzstillstand gestorben. Der weltweit erfolgreichste Solo-Künstler wurde nur 42 Jahre alt und prägte mit seiner Musik seither alle Generationen wie kein anderer. Noch heute gewinnt der „King“ täglich neue Fans und bewegt die Menschen mit seinen Liedern auf der ganzen Welt. Für seine Fans lebt er immer noch – zumindest in ihren Herzen. „ELVIS – Das Musical“ bringt die Magie rund um die Rock’n’Roll-Ikone zurück auf die Bühne und wurde bereits von mehr als einer halben Million Zuschauern frenetisch bejubelt.
URL:https://www.livemacher.de/event/elvis-das-musical-in-heilbronn-konzert-und-kongresszentrum-harmonie/
LOCATION:Heilbronn\, Harmonie (Theodor Heuss Saal)\, Allee 28\, Heilbronn\, Baden-Württemberg\, 74072\, Deutschland
CATEGORIES:Jazz-Pop-Rock,Show
ATTACH;FMTTYPE=image/jpeg:https://www.livemacher.de/wp-content/uploads/2022/07/elvis-HN-20230304_1600x1600.jpg
ORGANIZER;CN="Livemacher GmbH":MAILTO:info@livemacher.de
GEO:49.1428686;9.2230322
X-APPLE-STRUCTURED-LOCATION;VALUE=URI;X-ADDRESS=Heilbronn Harmonie (Theodor Heuss Saal) Allee 28 Heilbronn Baden-Württemberg 74072 Deutschland;X-APPLE-RADIUS=500;X-TITLE=Allee 28:geo:9.2230322,49.1428686
END:VEVENT
BEGIN:VEVENT
DTSTART;TZID=Europe/Berlin:20230217T200000
DTEND;TZID=Europe/Berlin:20230217T200000
DTSTAMP:20260420T195401
CREATED:20220817T140822Z
LAST-MODIFIED:20230113T115046Z
UID:10050006-1676664000-1676664000@www.livemacher.de
SUMMARY:Simply The Best – Die Tina Turner Story in Heilbronn\, Festhalle Harmonie\, Theodor Heuss Saal
DESCRIPTION:Termin ersatzlos abgesagt                            \n                            \n                        \n                        \n                        \n                        \n                                                Die Veranstaltung wurde ersatzlos abgesagt. Die für Fr\, 17. Februar 2023 angesetzte Veranstaltung 'Simply The Best' Die Tina Turner Story in Heilbronn\, Festhalle Harmonie\, Theodor Heuss Saal\, wurde aus organisatorischen Gründen ersatzlos abgesagt. Die für diese Veranstaltung erworbenen Tickets können bei der Vorverkaufsstelle\, bei der Sie diese Tickets erworben haben\, zurückgegeben werden und Sie bekommen Ihr Geld erstattet. \n                        \n                        \n                        \n                                        \n                    \n                \n            \n        \n\n    \n    \n\n\nDie gefeierte Show um Rock-Legende Tina Turner mit Hauptdarstellerin Coco Fletcher geht erneut auf große Tournee \nKaum eine andere Show hat in den vergangenen Jahren für mehr Wirbel gesorgt als\n„Simply The Best – Die Tina Turner Story“. Hauptdarstellerin Dorothea „Coco“ Fletcher gilt weltweit als eine der besten Doppelgängerinnen und sieht dem Original verblüffend ähnlich. Zuletzt erlangte sie im Zuge des Rechtsstreits zwischen Tina Turner und den Machern der Tribute-Show internationale Prominenz und Anerkennung. Nach mehr als 250 umjubelten Auftritten und über 250.000 begeisterten Besuchern geht die gefeierte Show „Simply The Best“ im Frühjahr 2023 erneut auf große Tournee durch Deutschland\, Österreich und die Schweiz. Tickets gibt es unter www.tina-turner-story.com und an allen bekannten Vorverkaufsstellen. \nVERANSTALTUNG ABGESAGT \nPassau\, 25.08.2022. Nach einem lang andauernden Rechtsstreit zwischen der „Queen of Rock“ und dem Tourneeveranstalter der Erfolgsshow fällte der Bundesgerichtshof in letzter Instanz das entscheidende Urteil: Zwar sieht das Bildnis Coco Fletchers auf den Werbeplakaten der Show dem Original zum Verwechseln ähnlich\, dennoch darf „Simply The Best“ aus Gründen der Kunstfreiheit weiter mit dem Konterfrei der Hauptdarstellerin werben. Das Urteil gilt als Meilenstein für die gesamte Tribute-Branche! \nhttps://livemacher.de/wp-content/uploads/2020/01/2019_12_31_Silvestershow-Brandenburger-Tor_STB-sm.mp4
URL:https://www.livemacher.de/event/simply-the-best-die-tina-turner-story-in-heilbronn-festhalle-harmonie-theodor-heuss-saal/
LOCATION:Heilbronn\, Harmonie (Theodor Heuss Saal)\, Allee 28\, Heilbronn\, Baden-Württemberg\, 74072\, Deutschland
CATEGORIES:Jazz-Pop-Rock,Show
ATTACH;FMTTYPE=image/jpeg:https://www.livemacher.de/wp-content/uploads/2022/08/web_LM_20230217-HN-Simply_The_Best-1600x1600-ABEGESAGT.jpg
ORGANIZER;CN="Livemacher GmbH":MAILTO:info@livemacher.de
GEO:49.1428686;9.2230322
X-APPLE-STRUCTURED-LOCATION;VALUE=URI;X-ADDRESS=Heilbronn Harmonie (Theodor Heuss Saal) Allee 28 Heilbronn Baden-Württemberg 74072 Deutschland;X-APPLE-RADIUS=500;X-TITLE=Allee 28:geo:9.2230322,49.1428686
END:VEVENT
BEGIN:VEVENT
DTSTART;TZID=Europe/Berlin:20220201T200000
DTEND;TZID=Europe/Berlin:20220201T200000
DTSTAMP:20260420T195401
CREATED:20210407T151023Z
LAST-MODIFIED:20211124T160550Z
UID:10049676-1643745600-1643745600@www.livemacher.de
SUMMARY:Falco - Das MusicalHeilbronn\, Konzert- und Kongresszentrum Harmonie
DESCRIPTION:Termin ersatzlos abgesagt                            \n                            \n                        \n                        \n                        \n                        \n                                                Die Veranstaltung wurde auf Grund der Corona Pandemie ersatzlos abgesagt. Die für Dienstag\, den 01.02.2022 angesetzte Veranstaltung "Falco - 'Das Musical' " im Theodor-Heuss-Saal (Harmonie) in Heilbronn\, wurde aus oben genannten Gründen ersatzlos abgesagt. Die für diese Veranstaltung erworbenen Tickets können bei der Vorverkaufsstelle\, bei der Sie diese Tickets erworben haben\, zurückgegeben werden und Sie bekommen Ihr Geld erstattet. \n                        \n                        \n                        \n                    \n                \n            \n        \n\n    \n    \n\n\nJubiläumstournee zum 65. Geburtstag der Pop-Ikone \nAm 19. Februar 1957 wurde Johann „Hans“ Hölzel alias FALCO in Wien geboren. Pünktlich zu seinem 65. Geburtstag geht die mit all seinen Hits gespickte Musical-Biographie 2022 auf große Jubiläums-Tournee durch Deutschland\, Österreich und die Schweiz und würdigt das Lebenswerk dieses extrovertierten Künstlers. \nABGESAGT\nFALCO – Das Musical gehört zu den erfolgreichsten Tourneeproduktionen der letzten Jahre und musste bedingt durch die Corona-Pandemie eine Zwangspause einlegen. Tickets gibt es ab sofort unter www.falcomusical.com und an allen bekannten Vorverkaufsstellen. \nPassau\, 18.11.2020. „Unsterblich bin ich erst\, wenn ich tot bin!“ – Um diese düsteren\, vorausahnenden Worte rankt sich die Hommage an das größte Genie der deutschsprachigen Pop- und Rap-Geschichte. Folgerichtig beginnt die Musical-Biographie mit dem Autounfall in der Dominikanischen Republik 1998. Die allegorischen Figuren „Jeanny“ und „Ana Conda“ markieren die Zerrissenheit des musikalischen Ausnahmetalents zwischen dem arrogant-egomanischen Weltstar und dem verletzlich-grüblerischen Hans Hölzel. Das zweistündige Live-Erlebnis führt durch prägende Stationen im Leben des markanten Musikers. Bildgewaltig und exzentrisch gewährt die Musical-Biographie durch kunstvolle Projektionen und Original-Videosequenzen einen tiefen Einblick in die Gedanken- und Gefühlswelt des Künstlers und den Menschen\, der hinter der schillernden Pop-Ikone steckte. Einem Menschen\, der das Leben bis an seine Grenzen auskostete und durch viele Höhen und Tiefen ging – bis hin zur Selbstzerstörung.
URL:https://www.livemacher.de/event/falco-das-musicalheilbronn-konzert-und-kongresszentrum-harmonie/
LOCATION:Heilbronn\, Harmonie (Theodor Heuss Saal)\, Allee 28\, Heilbronn\, Baden-Württemberg\, 74072\, Deutschland
CATEGORIES:Jazz-Pop-Rock
ORGANIZER;CN="Livemacher GmbH":MAILTO:info@livemacher.de
GEO:49.1428686;9.2230322
X-APPLE-STRUCTURED-LOCATION;VALUE=URI;X-ADDRESS=Heilbronn Harmonie (Theodor Heuss Saal) Allee 28 Heilbronn Baden-Württemberg 74072 Deutschland;X-APPLE-RADIUS=500;X-TITLE=Allee 28:geo:9.2230322,49.1428686
END:VEVENT
END:VCALENDAR