BEGIN:VCALENDAR
VERSION:2.0
PRODID:-//Livemacher GmbH - ECPv6.15.20//NONSGML v1.0//EN
CALSCALE:GREGORIAN
METHOD:PUBLISH
X-ORIGINAL-URL:https://www.livemacher.de
X-WR-CALDESC:Veranstaltungen für Livemacher GmbH
REFRESH-INTERVAL;VALUE=DURATION:PT1H
X-Robots-Tag:noindex
X-PUBLISHED-TTL:PT1H
BEGIN:VTIMEZONE
TZID:Europe/Berlin
BEGIN:DAYLIGHT
TZOFFSETFROM:+0100
TZOFFSETTO:+0200
TZNAME:CEST
DTSTART:20250330T010000
END:DAYLIGHT
BEGIN:STANDARD
TZOFFSETFROM:+0200
TZOFFSETTO:+0100
TZNAME:CET
DTSTART:20251026T010000
END:STANDARD
BEGIN:DAYLIGHT
TZOFFSETFROM:+0100
TZOFFSETTO:+0200
TZNAME:CEST
DTSTART:20260329T010000
END:DAYLIGHT
BEGIN:STANDARD
TZOFFSETFROM:+0200
TZOFFSETTO:+0100
TZNAME:CET
DTSTART:20261025T010000
END:STANDARD
BEGIN:DAYLIGHT
TZOFFSETFROM:+0100
TZOFFSETTO:+0200
TZNAME:CEST
DTSTART:20270328T010000
END:DAYLIGHT
BEGIN:STANDARD
TZOFFSETFROM:+0200
TZOFFSETTO:+0100
TZNAME:CET
DTSTART:20271031T010000
END:STANDARD
END:VTIMEZONE
BEGIN:VEVENT
DTSTART;TZID=Europe/Berlin:20261018T190000
DTEND;TZID=Europe/Berlin:20261018T220000
DTSTAMP:20260420T103412
CREATED:20260115T151128Z
LAST-MODIFIED:20260115T151354Z
UID:10053211-1792350000-1792360800@www.livemacher.de
SUMMARY:Willy Astor - "Reimart und Lachkunde" in Freiberg am Neckar\, PRISMA
DESCRIPTION:Reimart und Lachkunde\nPrädikat Wortvoll \nIn einer Welt in der kaum mehr was easy ist in Brindisi und nix mehr im Lack am Skagerak\, sich das Universum über und unter uns auch nicht mehr an die Regeln hält\, kommt Musikkomödiant Willy Astor mit neuen Ideen aus seinem Einfallsreich. Als Wolfgang Amadeus Notarzt rettet er nicht nur manchen Abend sondern lässt im besten Fall so manchen Kummer des Alltags vergessen.\nAlso warum unterm Rollkragen Groll tragen!? \nJetzt Tickets sichern! \nLiederniederschreiber Astor schafft ein neues Munterbewusstsein\, er ist ein zukunftsfähiges Auslaufmodell\, seit rund 4 Jahrzehnten auf der Bühne und somit ein Klassiker\, den man immer wieder gesehn und gehört haben muss!\nDas Allroundtalent versteht es wie kein anderer\, Sinn und Klang von Wörtern zu verdrehen\, daß dabei etwas völlig neues und ultra-komisches herauskommt.\nUnd das Publikum bekommt dabei natürlich Humor direkt vom Erzeuger. Der Künstler erscheint an diesem Abend wieder persönlich\, allein stehend und selbst redend.
URL:https://www.livemacher.de/event/willy-astor-reimart-und-lachkunde-in-freiberg-am-neckar-prisma/
LOCATION:Freiberg am Neckar\, PRISMA\, Marktplatz 22\, Freiberg am Neckar\, Baden-Württemberg\, 71691\, Deutschland
CATEGORIES:Kultur
ATTACH;FMTTYPE=image/jpeg:https://www.livemacher.de/wp-content/uploads/2026/01/Artwork_Willy_Astor_800x800px.jpg
ORGANIZER;CN="Livemacher GmbH":MAILTO:info@livemacher.de
GEO:48.93591;9.19215
X-APPLE-STRUCTURED-LOCATION;VALUE=URI;X-ADDRESS=Freiberg am Neckar PRISMA Marktplatz 22 Freiberg am Neckar Baden-Württemberg 71691 Deutschland;X-APPLE-RADIUS=500;X-TITLE=Marktplatz 22:geo:9.19215,48.93591
END:VEVENT
BEGIN:VEVENT
DTSTART;TZID=Europe/Berlin:20261106T200000
DTEND;TZID=Europe/Berlin:20261106T200000
DTSTAMP:20260420T103412
CREATED:20250916T123118Z
LAST-MODIFIED:20260317T110127Z
UID:10053208-1793995200-1793995200@www.livemacher.de
SUMMARY:PHIL - Best of Phil Collins & Genesis in Freiberg am Neckar\, PRISMA
DESCRIPTION:Phil“ – The Genesis & Phil Collins Tribute Show \nMusikalisch und optisch unglaublich dicht am Original. Eine pulsierende Show mit energiegeladenen Livemusikern\, garniert mit abgestimmter Licht- und Videotechnik. Im Mittelpunkt ein Frontmann mit Charisma\, Witz\, Charme – und der „echten“ Stimme. Mit „Phil“ kann man träumen zur perfekt gespielten Musik von Phil Collins und Genesis – oder tanzend richtig abheben.\n„Phil“: Die elfköpfige Gruppe um den Sänger Jürgen „Phil“ Mayer ist für viele Fans und Kritiker die derzeit beste Phil Collins und Genesis Tribute Band in Europa. Die sympathische Truppe aus dem Raum Karlsruhe bietet authentisch die vielseitige und komplexe Musik des britischen Megastars Collins und seiner früheren Band „Genesis“. Dabei kommt Jürgen „Phil“ Mayer seinem großen Idol sehr nahe: stimmlich\, äußerlich und mit überragender Bühnenpräsenz. \nJetzt Tickets sichern! \nIn einer zweieinhalbstündigen Show gibt es für Collins- und Genesis-Liebhaber natürlich die Welthits zu hören: „Against All Odds“\, „Another Day in Paradise“\, „Easy Lover“\, „Invisible Touch“ und die Hymne „Carpet Crawlers“. Die professionelle Band mit zwei Sängerinnen und einem Bläsersatz sorgt für ein unvergessliches Konzerterlebnis auf höchstem musikalischen Niveau. Und sie überrascht dabei auch mit dem ein oder anderen weniger bekannten Collins- und „Genesis“-Song. \nSeit mehr als 25 Jahren stützt sich „Phil“ auf eine große und treue europäische Fangemeinde. Und sie wächst weiter: Zahlreiche Livekonzerte spielt die Band nicht nur in ganz Deutschland\, sondern auch in den USA (Houston/Texas)\, Frankreich\, der Schweiz\, Holland\, Belgien\, Luxemburg und Dänemark. \n„Phil“ pflegte mit Phil Collins bis zu dessen Ruhestand über sein Management einen guten Kontakt – und ist darauf besonders stolz. „Phil“ traf Phil persönlich in Stuttgart. Auf seiner früheren Internetseite verwies Collins auf die Kollegen aus Deutschland.
URL:https://www.livemacher.de/event/phil-best-of-phil-collins-genesis-in-freiberg-am-neckar-prisma/
LOCATION:Freiberg am Neckar\, PRISMA\, Marktplatz 22\, Freiberg am Neckar\, Baden-Württemberg\, 71691\, Deutschland
CATEGORIES:Kultur
ATTACH;FMTTYPE=image/jpeg:https://www.livemacher.de/wp-content/uploads/2025/09/phil_eventim_gradient.jpg
ORGANIZER;CN="Livemacher GmbH":MAILTO:info@livemacher.de
GEO:48.93591;9.19215
X-APPLE-STRUCTURED-LOCATION;VALUE=URI;X-ADDRESS=Freiberg am Neckar PRISMA Marktplatz 22 Freiberg am Neckar Baden-Württemberg 71691 Deutschland;X-APPLE-RADIUS=500;X-TITLE=Marktplatz 22:geo:9.19215,48.93591
END:VEVENT
BEGIN:VEVENT
DTSTART;TZID=Europe/Berlin:20261107T200000
DTEND;TZID=Europe/Berlin:20261107T200000
DTSTAMP:20260420T103412
CREATED:20260127T152405Z
LAST-MODIFIED:20260127T152405Z
UID:10053216-1794081600-1794081600@www.livemacher.de
SUMMARY:Witz vom Olli - FSK 18 Hart aber Herzlich! in Freiberg am Neckar\, PRISMA
DESCRIPTION:Oliver “Olli” Gimber\, der witzigste Malermeister Deutschlands\, bringt als WITZ VOM OLLI mit seinem neuen Programm Comedyfans im ganzen deutschsprachigen Raum zum Lachen.\nÜber YouTube und Facebook erreicht Olli ein Millionenpublikum und ist quasi über Nacht zu einem heimlichen Star der deutschen Comedyszene geworden. Mit seinem neuen Programm „Nach fest kommt ab“ verspricht er\, dass kein Auge trocken bleibt: „Das Publikum erwartet ein Abend voller Witz und verrückter Geschichten aus meinem Leben als Chef\, Unternehmer und Malermeister und darüber hinaus!“ Rund 1000 Witze kann der Pforzheimer aus dem Gedächtnis abrufen und hat im Netz mittlerweile Kultstatus erreicht.\nJetzt Tickets sichern! \nZu seinen Fans pflegt Olli eine ganz besondere Verbindung: Schon lange vor Showbeginn ist er vor der Halle zu finden\, macht Selfies\, schüttelt jedem persönlich die Hand. Ein Star auf Augenhöhe\, der alles was er erleben darf nicht als selbstverständlich ansieht und eine Mission hat\, wie er selbst sagt: “Menschen zum Lachen bringen\, denn nicht alle sind so privilegiert wie ich. Und wenn ich Emails von Fans bekomme\, die zum Beispiel an Krebs erkrankt sind und sich bei mir bedanken\, dass ich sie trotz all der Schmerzen zum Lachen bringe\, dann weiß ich wofür ich das ganze mache. Und solange ich solche Emails bekomme\, mache ich immer weiter – mit Vollgas und vollem Körpereinsatz versteht sich.”
URL:https://www.livemacher.de/event/witz-vom-olli-fsk-18-hart-aber-herzlich-in-freiberg-am-neckar-prisma/
LOCATION:Freiberg am Neckar\, PRISMA\, Marktplatz 22\, Freiberg am Neckar\, Baden-Württemberg\, 71691\, Deutschland
CATEGORIES:Kultur
ATTACH;FMTTYPE=image/jpeg:https://www.livemacher.de/wp-content/uploads/2026/01/FSK18_quadratisch.jpg
ORGANIZER;CN="Livemacher GmbH":MAILTO:info@livemacher.de
GEO:48.93591;9.19215
X-APPLE-STRUCTURED-LOCATION;VALUE=URI;X-ADDRESS=Freiberg am Neckar PRISMA Marktplatz 22 Freiberg am Neckar Baden-Württemberg 71691 Deutschland;X-APPLE-RADIUS=500;X-TITLE=Marktplatz 22:geo:9.19215,48.93591
END:VEVENT
END:VCALENDAR