BEGIN:VCALENDAR
VERSION:2.0
PRODID:-//Livemacher GmbH - ECPv6.15.20//NONSGML v1.0//EN
CALSCALE:GREGORIAN
METHOD:PUBLISH
X-WR-CALNAME:Livemacher GmbH
X-ORIGINAL-URL:https://www.livemacher.de
X-WR-CALDESC:Veranstaltungen für Livemacher GmbH
REFRESH-INTERVAL;VALUE=DURATION:PT1H
X-Robots-Tag:noindex
X-PUBLISHED-TTL:PT1H
BEGIN:VTIMEZONE
TZID:Europe/Berlin
BEGIN:DAYLIGHT
TZOFFSETFROM:+0100
TZOFFSETTO:+0200
TZNAME:CEST
DTSTART:20170326T010000
END:DAYLIGHT
BEGIN:STANDARD
TZOFFSETFROM:+0200
TZOFFSETTO:+0100
TZNAME:CET
DTSTART:20171029T010000
END:STANDARD
BEGIN:DAYLIGHT
TZOFFSETFROM:+0100
TZOFFSETTO:+0200
TZNAME:CEST
DTSTART:20180325T010000
END:DAYLIGHT
BEGIN:STANDARD
TZOFFSETFROM:+0200
TZOFFSETTO:+0100
TZNAME:CET
DTSTART:20181028T010000
END:STANDARD
BEGIN:DAYLIGHT
TZOFFSETFROM:+0100
TZOFFSETTO:+0200
TZNAME:CEST
DTSTART:20190331T010000
END:DAYLIGHT
BEGIN:STANDARD
TZOFFSETFROM:+0200
TZOFFSETTO:+0100
TZNAME:CET
DTSTART:20191027T010000
END:STANDARD
END:VTIMEZONE
BEGIN:VEVENT
DTSTART;TZID=Europe/Berlin:20180511T090000
DTEND;TZID=Europe/Berlin:20180511T180000
DTSTAMP:20260420T160029
CREATED:20180119T154453Z
LAST-MODIFIED:20221116T112340Z
UID:10020825-1526029200-1526061600@www.livemacher.de
SUMMARY:KÖRPERWELTEN Regensburg
DESCRIPTION:Mehr als 45 Millionen Besuchern weltweit haben die faszinierende Ausstellung bereits gesehen\, jetzt kommen die KÖRPERWELTEN erstmals für kurze Zeit nach Regensburg! \nAb 16. Februar – 6. Mai 2018 präsentieren Plastinator Dr. Gunther von Hagens und Kuratorin Dr. Angelina Whalley im ehemaligen Gartencenter des Donau-Einkaufszentrums ihre aktuelle Ausstellung \nKÖRPERWELTEN & Der Zyklus des Lebens. \nIm Fokus der Regensburger KÖRPERWELTEN Ausstellung steht das Wunderwerk des menschlichen Körpers im Lauf der Zeit. Der kontinuierliche Veränderungsprozess wird anhand eindrucksvoller Plastinate spannend und leicht verständlich aufbereitet. Die einzelnen Stationen – von der Zeugung bis ins hohe Alter – laden dazu ein\, sich intensiv mit seinem eigenen Körper und Lebensstil zu beschäftigen. \nVorrangiges Ziel der KÖRPERWELTEN-Macher ist die gesundheitliche Aufklärung und Prävention. An rund 200 einzigartigen Präparaten\, darunter viele Ganzkörperplastinate werden alle Facetten des menschlichen Körpers veranschaulicht\, einzelne Organfunktionen sowie häufige Erkrankungen eingängig erklärt und gezeigt\, was jeder von uns tun kann\, um seine Gesundheit und eine hohe Lebensqualität möglichst lange zu bewahren. \nEin Besuch der KÖRPERWELTEN ist für medizinische Laien ebenso empfehlenswert wie für Personen\, die in den Bereichen Vorsorge und Gesundheit tätig sind. \n„Ich möchte zeigen\, dass das Reifen ein ganz natürlicher Vorgang ist\, den wir mit ein bisschen Mühe mitgestalten können“\, erklärt die Ärztin und Kuratorin Dr. Angelina Whalley.
URL:https://www.livemacher.de/event/koerperwelten-regensburg/2018-05-11/
LOCATION:ehem. Gartencenter des Donau-Einkaufszentrums Regensburg\, Weichser Weg 5\, Regensburg\, Bayern\, 93059\, Deutschland
CATEGORIES:Ausstellung
ATTACH;FMTTYPE=image/jpeg:https://www.livemacher.de/wp-content/uploads/2018/01/web_KW_Regensburg_800x600_02.jpg
ORGANIZER;CN="Livemacher GmbH":MAILTO:info@livemacher.de
GEO:49.026573;12.1163991
X-APPLE-STRUCTURED-LOCATION;VALUE=URI;X-ADDRESS=ehem. Gartencenter des Donau-Einkaufszentrums Regensburg Weichser Weg 5 Regensburg Bayern 93059 Deutschland;X-APPLE-RADIUS=500;X-TITLE=Weichser Weg 5:geo:12.1163991,49.026573
END:VEVENT
END:VCALENDAR