BEGIN:VCALENDAR
VERSION:2.0
PRODID:-//Livemacher GmbH - ECPv6.15.20//NONSGML v1.0//EN
CALSCALE:GREGORIAN
METHOD:PUBLISH
X-WR-CALNAME:Livemacher GmbH
X-ORIGINAL-URL:https://www.livemacher.de
X-WR-CALDESC:Veranstaltungen für Livemacher GmbH
REFRESH-INTERVAL;VALUE=DURATION:PT1H
X-Robots-Tag:noindex
X-PUBLISHED-TTL:PT1H
BEGIN:VTIMEZONE
TZID:Europe/Berlin
BEGIN:DAYLIGHT
TZOFFSETFROM:+0100
TZOFFSETTO:+0200
TZNAME:CEST
DTSTART:20190331T010000
END:DAYLIGHT
BEGIN:STANDARD
TZOFFSETFROM:+0200
TZOFFSETTO:+0100
TZNAME:CET
DTSTART:20191027T010000
END:STANDARD
BEGIN:DAYLIGHT
TZOFFSETFROM:+0100
TZOFFSETTO:+0200
TZNAME:CEST
DTSTART:20200329T010000
END:DAYLIGHT
BEGIN:STANDARD
TZOFFSETFROM:+0200
TZOFFSETTO:+0100
TZNAME:CET
DTSTART:20201025T010000
END:STANDARD
BEGIN:DAYLIGHT
TZOFFSETFROM:+0100
TZOFFSETTO:+0200
TZNAME:CEST
DTSTART:20210328T010000
END:DAYLIGHT
BEGIN:STANDARD
TZOFFSETFROM:+0200
TZOFFSETTO:+0100
TZNAME:CET
DTSTART:20211031T010000
END:STANDARD
END:VTIMEZONE
BEGIN:VEVENT
DTSTART;TZID=Europe/Berlin:20200906T100000
DTEND;TZID=Europe/Berlin:20200906T180000
DTSTAMP:20260420T161046
CREATED:20221109T165826Z
LAST-MODIFIED:20221109T165826Z
UID:10010594-1599386400-1599415200@www.livemacher.de
SUMMARY:KÖRPERWELTEN Kassel\, documentaHalle
DESCRIPTION:KÖRPERWELTEN in Kassel bis 6.9.2020 verlängert! Seit 12.05.2020 wieder geöffnet!                            \n                            \n                        \n                        \n                        \n                        \n                                                Ein Lichtblick in Zeiten von Corona: Die Ausstellung KÖRPERWELTEN – Eine Herzenssache\, die ursprünglich nur bis 17. Mai in der documenta-Halle in Kassel gastieren sollte\, ist bis zum 6. September 2020 verlängert.\n \nIm Zuge der Pandemie musste die bekannteste Anatomie-Ausstellung der Welt am 13. März vorübergehend schließen\, nun steht fest: Die Ausstellungszeit kann über den Sommer hinweg verlängert werden. Interessierte in Kassel und Umgebung haben somit die Gelegenheit\, die Ausstellung KÖRPERWELTEN in den nächsten Monaten unter Einhaltung der Hygienebestimmungen zu besuchen.\n Nach der Freigabe des Landes Hessen\, dass Museen und Ausstellungen wieder ihren Betrieb aufnehmen dürfen\, konnte die Körperwelten Ausstellung in Kassel am 12.05.2020 wieder öffnen. Bereits gekaufte Tickets behalten ihre Gültigkeit für den neuen Zeitraum und können zu einem beliebigen Termin eingelöst werden. Ein umfassendes Hygiene- und Sicherheitskonzept ist vorhanden\, damit Interessierte die Ausstellung bedenkenlos besuchen können.\n Gerade in den aktuellen Zeiten leisten die KÖRPERWELTEN einen wertvollen Beitrag zum besseren Verständnis des eigenen Körpers\, seiner Fragilität\, aber auch seiner Widerstandskraft.\n Wir freuen uns darauf\, den KÖRPERWELTEN-Begeisterten hoffentlich sehr bald eine Ablenkung und eine selten gewordene Freizeitbeschäftigung anbieten zu können und an den Erfolg der Ausstellung in den ersten Wochen anzuknüpfen. \nWeitere infos unter www.koerperwelten.de \n                        \n                        \n                        \n                    \n                \n            \n        \n\n    \n    \n\n\nEine faszinierende Reise unter die Haut erstmals in Kassel: KÖRPERWELTEN – Eine Herzenssache \nPlastinator Dr. Gunther von Hagens und Kuratorin Dr. Angelina Whalley präsentieren ab 21. Februar 2020 erstmals ihre aktuelle Ausstellung in der documenta-Halle in Kassel: „KÖRPERWELTEN – Eine Herzenssache“! \nKÖRPERWELTEN ist eine Ausstellung\, die den Blick auf uns selbst und unsere Lebensweise nachhaltig verändert. Mehr als 50 Millionen Menschen weltweit haben sich bereits auf diese Selbstentdeckungsreise begeben. Beginnend vom Skelett des Menschen über das Zusammenwirken der Muskulatur bis hin zur Entwicklung im Mutterleib erhält der Besucher ein detailliertes Bild über Aufbau und Funktion unseres Innenlebens. Anhand einzigartiger Präparate werden für jedermann verständlich Organfunktionen und häufige Erkrankungen erläutert. Rund 200 Exponate gibt es in der Kasseler Ausstellung zu sehen\, darunter 20 Ganzkörperplastinate sowie Teilpräparate\, transparente Körperscheiben und einzelne Organe. \nThematischer Schwerpunkt dieser Ausstellung ist das Herz mit seinem weit verzweigten Gefäßsystem. Das Hochleistungsorgan des Körpers ist der Motor unseres Lebens\, aber durch die Dauerbelastung Funktionsstörungen und Verschleißerscheinungen ausgesetzt. Krankheiten des Blut-Kreislaufsystems sind heute die häufigste Todesursache. „Sie sind jedoch vermeidbar“\, so die Ärztin und Kuratorin Dr. Angelina Whalley. „Auf unser Herz\, dieses lebenswichtige Organ\, achten wir oft erst\, wenn es erkrankt oder unter großer Belastung leidet. Ich wünsche mir\, dass die Ausstellung unsere Besucher anregt\, herzbewusster und herzgesünder zu leben.“
URL:https://www.livemacher.de/event/koerperwelten-kassel/2020-09-06/
LOCATION:documentaHalle Kassel\, Du-Ry-Straße 1\, Kassel\, Hessen\, 34117\, Deutschland
CATEGORIES:Ausstellung
ATTACH;FMTTYPE=image/jpeg:https://www.livemacher.de/wp-content/uploads/2019/12/KOERPERWELTEN_Impressionen_07-e1580292589568.jpg
ORGANIZER;CN="Livemacher GmbH":MAILTO:info@livemacher.de
GEO:48.6616037;9.3501336
X-APPLE-STRUCTURED-LOCATION;VALUE=URI;X-ADDRESS=documentaHalle Kassel Du-Ry-Straße 1 Kassel Hessen 34117 Deutschland;X-APPLE-RADIUS=500;X-TITLE=Du-Ry-Straße 1:geo:9.3501336,48.6616037
END:VEVENT
BEGIN:VEVENT
DTSTART;TZID=Europe/Berlin:20200904T090000
DTEND;TZID=Europe/Berlin:20200904T180000
DTSTAMP:20260420T161046
CREATED:20191209T095013Z
LAST-MODIFIED:20200622T172213Z
UID:10010534-1599210000-1599242400@www.livemacher.de
SUMMARY:KÖRPERWELTEN Kassel\, documentaHalle
DESCRIPTION:KÖRPERWELTEN in Kassel bis 6.9.2020 verlängert! Seit 12.05.2020 wieder geöffnet!                            \n                            \n                        \n                        \n                        \n                        \n                                                Ein Lichtblick in Zeiten von Corona: Die Ausstellung KÖRPERWELTEN – Eine Herzenssache\, die ursprünglich nur bis 17. Mai in der documenta-Halle in Kassel gastieren sollte\, ist bis zum 6. September 2020 verlängert.\n \nIm Zuge der Pandemie musste die bekannteste Anatomie-Ausstellung der Welt am 13. März vorübergehend schließen\, nun steht fest: Die Ausstellungszeit kann über den Sommer hinweg verlängert werden. Interessierte in Kassel und Umgebung haben somit die Gelegenheit\, die Ausstellung KÖRPERWELTEN in den nächsten Monaten unter Einhaltung der Hygienebestimmungen zu besuchen.\n Nach der Freigabe des Landes Hessen\, dass Museen und Ausstellungen wieder ihren Betrieb aufnehmen dürfen\, konnte die Körperwelten Ausstellung in Kassel am 12.05.2020 wieder öffnen. Bereits gekaufte Tickets behalten ihre Gültigkeit für den neuen Zeitraum und können zu einem beliebigen Termin eingelöst werden. Ein umfassendes Hygiene- und Sicherheitskonzept ist vorhanden\, damit Interessierte die Ausstellung bedenkenlos besuchen können.\n Gerade in den aktuellen Zeiten leisten die KÖRPERWELTEN einen wertvollen Beitrag zum besseren Verständnis des eigenen Körpers\, seiner Fragilität\, aber auch seiner Widerstandskraft.\n Wir freuen uns darauf\, den KÖRPERWELTEN-Begeisterten hoffentlich sehr bald eine Ablenkung und eine selten gewordene Freizeitbeschäftigung anbieten zu können und an den Erfolg der Ausstellung in den ersten Wochen anzuknüpfen. \nWeitere infos unter www.koerperwelten.de \n                        \n                        \n                        \n                    \n                \n            \n        \n\n    \n    \n\n\nEine faszinierende Reise unter die Haut erstmals in Kassel: KÖRPERWELTEN – Eine Herzenssache \nPlastinator Dr. Gunther von Hagens und Kuratorin Dr. Angelina Whalley präsentieren ab 21. Februar 2020 erstmals ihre aktuelle Ausstellung in der documenta-Halle in Kassel: „KÖRPERWELTEN – Eine Herzenssache“! \nKÖRPERWELTEN ist eine Ausstellung\, die den Blick auf uns selbst und unsere Lebensweise nachhaltig verändert. Mehr als 50 Millionen Menschen weltweit haben sich bereits auf diese Selbstentdeckungsreise begeben. Beginnend vom Skelett des Menschen über das Zusammenwirken der Muskulatur bis hin zur Entwicklung im Mutterleib erhält der Besucher ein detailliertes Bild über Aufbau und Funktion unseres Innenlebens. Anhand einzigartiger Präparate werden für jedermann verständlich Organfunktionen und häufige Erkrankungen erläutert. Rund 200 Exponate gibt es in der Kasseler Ausstellung zu sehen\, darunter 20 Ganzkörperplastinate sowie Teilpräparate\, transparente Körperscheiben und einzelne Organe. \nThematischer Schwerpunkt dieser Ausstellung ist das Herz mit seinem weit verzweigten Gefäßsystem. Das Hochleistungsorgan des Körpers ist der Motor unseres Lebens\, aber durch die Dauerbelastung Funktionsstörungen und Verschleißerscheinungen ausgesetzt. Krankheiten des Blut-Kreislaufsystems sind heute die häufigste Todesursache. „Sie sind jedoch vermeidbar“\, so die Ärztin und Kuratorin Dr. Angelina Whalley. „Auf unser Herz\, dieses lebenswichtige Organ\, achten wir oft erst\, wenn es erkrankt oder unter großer Belastung leidet. Ich wünsche mir\, dass die Ausstellung unsere Besucher anregt\, herzbewusster und herzgesünder zu leben.“
URL:https://www.livemacher.de/event/koerperwelten-kassel/2020-09-04/
LOCATION:documentaHalle Kassel\, Du-Ry-Straße 1\, Kassel\, Hessen\, 34117\, Deutschland
CATEGORIES:Ausstellung
ATTACH;FMTTYPE=image/jpeg:https://www.livemacher.de/wp-content/uploads/2019/12/KOERPERWELTEN_Impressionen_07-e1580292589568.jpg
ORGANIZER;CN="Livemacher GmbH":MAILTO:info@livemacher.de
GEO:48.6616037;9.3501336
X-APPLE-STRUCTURED-LOCATION;VALUE=URI;X-ADDRESS=documentaHalle Kassel Du-Ry-Straße 1 Kassel Hessen 34117 Deutschland;X-APPLE-RADIUS=500;X-TITLE=Du-Ry-Straße 1:geo:9.3501336,48.6616037
END:VEVENT
END:VCALENDAR