BEGIN:VCALENDAR
VERSION:2.0
PRODID:-//Livemacher GmbH - ECPv6.15.20//NONSGML v1.0//EN
CALSCALE:GREGORIAN
METHOD:PUBLISH
X-ORIGINAL-URL:https://www.livemacher.de
X-WR-CALDESC:Veranstaltungen für Livemacher GmbH
REFRESH-INTERVAL;VALUE=DURATION:PT1H
X-Robots-Tag:noindex
X-PUBLISHED-TTL:PT1H
BEGIN:VTIMEZONE
TZID:Europe/Berlin
BEGIN:DAYLIGHT
TZOFFSETFROM:+0100
TZOFFSETTO:+0200
TZNAME:CEST
DTSTART:20190331T010000
END:DAYLIGHT
BEGIN:STANDARD
TZOFFSETFROM:+0200
TZOFFSETTO:+0100
TZNAME:CET
DTSTART:20191027T010000
END:STANDARD
BEGIN:DAYLIGHT
TZOFFSETFROM:+0100
TZOFFSETTO:+0200
TZNAME:CEST
DTSTART:20200329T010000
END:DAYLIGHT
BEGIN:STANDARD
TZOFFSETFROM:+0200
TZOFFSETTO:+0100
TZNAME:CET
DTSTART:20201025T010000
END:STANDARD
BEGIN:DAYLIGHT
TZOFFSETFROM:+0100
TZOFFSETTO:+0200
TZNAME:CEST
DTSTART:20210328T010000
END:DAYLIGHT
BEGIN:STANDARD
TZOFFSETFROM:+0200
TZOFFSETTO:+0100
TZNAME:CET
DTSTART:20211031T010000
END:STANDARD
BEGIN:DAYLIGHT
TZOFFSETFROM:+0100
TZOFFSETTO:+0200
TZNAME:CEST
DTSTART:20220327T010000
END:DAYLIGHT
BEGIN:STANDARD
TZOFFSETFROM:+0200
TZOFFSETTO:+0100
TZNAME:CET
DTSTART:20221030T010000
END:STANDARD
BEGIN:DAYLIGHT
TZOFFSETFROM:+0100
TZOFFSETTO:+0200
TZNAME:CEST
DTSTART:20230326T010000
END:DAYLIGHT
BEGIN:STANDARD
TZOFFSETFROM:+0200
TZOFFSETTO:+0100
TZNAME:CET
DTSTART:20231029T010000
END:STANDARD
END:VTIMEZONE
BEGIN:VEVENT
DTSTART;TZID=Europe/Berlin:20221003T140000
DTEND;TZID=Europe/Berlin:20221003T140000
DTSTAMP:20260420T155417
CREATED:20190415T123230Z
LAST-MODIFIED:20210514T143313Z
UID:10049046-1664805600-1664805600@www.livemacher.de
SUMMARY:Bibi Blocksberg - "Alles wie verhext!" Das Musical Ulm\, CCU
DESCRIPTION:Terminverlegung                            \n                            \n                        \n                        \n                        \n                        \n                                                Die Veranstaltung wurde auf Grund einer behördlichen Anordnung verschoben.\nDie für Sonntag\, 31.05.2020 angesetzte und bereits auf Sonntag\, 27.06.2021 verschobene Veranstaltung "Bibi Blocksberg 'Alles wie verhext!' Das Musical “ im CongressCentrum CCU in Ulm wurde aufgrund der aktuellen Situation auf Montag\, den 03.10.2022 verschoben.\n\nSelbstverständlich behalten alle Tickets ihre Gültigkeit für den neuen Termin.\n\nWir bitten um Ihr Verständnis. Vielen Dank.\n                        \n                        \n                        \n                    \n                \n            \n        \n\n    \n    \n\n\nBibi Blocksberg\, die berühmteste kleine Hexe Deutschlands\, geht von 2020 bis 2023 mit ihrem Musical „Alles wie verhext!“ auf große Tournee durch Deutschland\, Österreich und die Schweiz. Zum 40-jährigen Jubiläum der Serie ist das neue Original-COCOMICO Musical landauf\, landab LIVE zu erleben! \nÜberall begeisterte Zuschauer \nVier erfolgreiche Bibi Blocksberg Live-Musicals aus der Feder von Produzent und Autor Marcell Gödde und seinem COCOMICO Theater wurden bereits von 1\,2 Millionen Zuschauern in über 1350 Aufführungen gesehen. \nIn vielen Städten ist nun wieder einfach „Alles wie verhext!“\, wenn Bibi Blocksberg mit ihrem Besen Kartoffelbrei herbeigeflogen kommt. Insgesamt finden von 2020 bis 2023 über 300 Aufführungen vor vielen\, vielen kleinen und großen begeisterten Zuschauerinnen und Zuschauern statt! \nJetzt Tickets sichern! \nBibi Blocksberg „Alles wie verhext!“ – Das Musical \nJeder kennt das\, es gibt Tage\, an denen einfach alles schiefläuft! Das fängt morgens schon beim Aufstehen mit dem falschen Fuß an und zieht sich über den ganzen Tag. Dann ist einfach „Alles wie verhext!“. Einen solchen Tag hat auch die kleine\, freche Hexe Bibi Blocksberg erwischt: Schon morgens gibt es ein Riesendurcheinander mit ihren Eltern Barbara und Bernhard Blocksberg zu Hause. Und auch in der Schule will einfach gar nichts klappen. Bibis Lehrerin Frau Müller-Riebensehl bringt das ganz schön auf die Palme! Abends ist dann auch noch Walpurgisnacht auf dem Blocksberg. Dieses Jahr sollen dort Bibi und Barbara Blocksberg zusammen mit Oma Grete das große Hexenfeuer entfachen. Aber was wird Walpurgia\, die Vorsitzende des Hexenrates bloß dazu sagen\, wenn dort auch alles schief läuft? \nDa ist richtig was los! \nWird es den Hexen der Familie Blocksberg an diesem „verhexten“ Tag gelingen\, das Hexenfeuer zur Walpurgisnacht wie vorgesehen zu entzünden? Die kleinen und großen Hexen-Fans im Saal dürfen Bibi\, ihrer Mutter und ihrer Oma sogar dabei helfen\, denn bei diesem Familien-Pop-Musical ist Mitmachen dringend erwünscht – gerne auch verkleidet. Kleine und große Hexen in Kostümen sind herzlich willkommen!  Und wenn mit Hilfe der Kinder und aller Zuschauerinnen und Zuschauer alles gut ausgeht\, wird Karla Kolumna\, die rasende Reporterin aus Neustadt beruhigt schreiben können: Es WAR alles wie verhext. \nMitreißende Inszenierung\, tolle neue Lieder und wieder einmal ganz viel „Hex hex!“ \nDas Bibi Blocksberg-Musical „Alles wie verhext!“\, original und exklusiv vom Cocomico Theater aus Köln: Ein hexischer Spaß für die ganze Familie!
URL:https://www.livemacher.de/event/bibi-blocksberg-alles-wie-verhext-das-musical-ulm-ccu/
LOCATION:CCU Ulm Einsteinsaal\, Basteistraße 40\, Ulm\, Baden-Württemberg\, 89073\, Deutschland
CATEGORIES:Show
ATTACH;FMTTYPE=image/jpeg:https://www.livemacher.de/wp-content/uploads/2019/04/web_LM_ULM_Bibi-Blocksberg_20200531-20210627-20221003_verlegt_2.jpg
ORGANIZER;CN="Livemacher GmbH":MAILTO:info@livemacher.de
GEO:48.4001166;10.0044492
X-APPLE-STRUCTURED-LOCATION;VALUE=URI;X-ADDRESS=CCU Ulm Einsteinsaal Basteistraße 40 Ulm Baden-Württemberg 89073 Deutschland;X-APPLE-RADIUS=500;X-TITLE=Basteistraße 40:geo:10.0044492,48.4001166
END:VEVENT
BEGIN:VEVENT
DTSTART;TZID=Europe/Berlin:20200409T200000
DTEND;TZID=Europe/Berlin:20200409T200000
DTSTAMP:20260420T155417
CREATED:20190306T112754Z
LAST-MODIFIED:20200205T162023Z
UID:10049816-1586462400-1586462400@www.livemacher.de
SUMMARY:That´s life - Das Sinatra-Musical Ulm\, CCU
DESCRIPTION:Termin abgesagt                            \n                            \n                        \n                        \n                        \n                        \n                                                Das für Donnerstag\, den 09.04.2020 angesetzte That´s life - Das Sinatra-Musical im CCU in Ulm musste aus tourneetechnischen Gründen abgesagt werden. Die bereits erworbenen Tickets können an der Vorverkaufsstelle des Erwerbs bis zum Veranstaltungstag zurückgeben werden und Sie bekommen den Kaufbetrag in voller Höhe zurückerstattet. \n                        \n                        \n                        \n                    \n                \n            \n        \n\n    \n    \n\n\nFrank Sinatra\, einer der größten Entertainer der Welt\, ist bis heute unvergessen: Seine Songs wie „My Way“\, „Strangers In The Night“ oder „New York\, New York“ bescherten ihm Weltruhm und er gilt als eine der einflussreichsten Persönlichkeiten der Popmusik des 20. Jahrhunderts. Glamourös war sein Leben zwischen Las Vegas und New York\, auf den Bühnen der ganzen Welt\, leidenschaftlich seine Ehen mit Nancy Barbato\, Ava Gardner oder Mia Farrow\, geheimnisvoll seine Beziehungen zur Mafia und zur Politik. \n„That’s Life – Das Sinatra-Musical“ von Erfolgsproduzent Oliver Forster (u.a. „Falco – Das Musical“ und „BEAT IT! – Das Musical über den King of Pop!“) zeigt in beeindruckenden Bildern Sinatras unvergleichliche Karriere\, thematisiert aber auch die Schattenseiten seines mondän scheinenden Lebens. Die Las Vegas-Show präsentiert „Frankie Boy‘s“ größte Hits und versetzt die Zuschauer zurück in die legendäre Zeit des Swing mit seinen Big Bands. Zum 105. Geburtstag von Frank Sinatra feierte „That’s Life“ am 8. Januar 2020 eine glanzvolle Weltpremiere im Theater am Potsdamer Platz in Berlin und ist seitdem unterwegs auf großer Tournee durch Deutschland\, Österreich und die Schweiz\, darunter Berlin\, Leipzig\, Dresden\, München\, Wien\, Düsseldorf und Frankfurt am Main. \nFrank Sinatra war ein Mann\, auf den alle denkbaren Superlative der populären Musik Anwendung fanden. Im Laufe seiner Karriere gelang es ihm\, einen unverkennbaren Stil zu bewahren und trotz gegenläufiger Trends immer an der Spitze des kommerziellen Erfolgs zu bleiben. So wurde er zu einem der wichtigsten Charaktere im amerikanischen und internationalen Musikgeschäft. Mit über 1.800 Songaufnahmen\, 60 Filmrollen\, neun Grammys und einem Oscar sprengte er bis dato alle Rekorde der Unterhaltungsbranche.
URL:https://www.livemacher.de/event/thats-life-das-sinatra-musical-ulm-ccu/
LOCATION:CCU Ulm Einsteinsaal\, Basteistraße 40\, Ulm\, Baden-Württemberg\, 89073\, Deutschland
CATEGORIES:Jazz-Pop-Rock,Show
ATTACH;FMTTYPE=image/jpeg:https://www.livemacher.de/wp-content/uploads/2019/03/ThatsLife_KT-512x512px-abgesagt.jpg
ORGANIZER;CN="Livemacher GmbH":MAILTO:info@livemacher.de
GEO:48.4001166;10.0044492
X-APPLE-STRUCTURED-LOCATION;VALUE=URI;X-ADDRESS=CCU Ulm Einsteinsaal Basteistraße 40 Ulm Baden-Württemberg 89073 Deutschland;X-APPLE-RADIUS=500;X-TITLE=Basteistraße 40:geo:10.0044492,48.4001166
END:VEVENT
BEGIN:VEVENT
DTSTART;TZID=Europe/Berlin:20200222T200000
DTEND;TZID=Europe/Berlin:20200222T200000
DTSTAMP:20260420T155417
CREATED:20190415T124358Z
LAST-MODIFIED:20200224T094458Z
UID:10049821-1582401600-1582401600@www.livemacher.de
SUMMARY:FALCO - Das Musical Ulm\, CCU
DESCRIPTION:Am 6. Februar 1998 ist Johann „Hans“ Hölzel alias Falco im Alter von 40 Jahren bei einem Autounfall in der Dominikanischen Republik ums Leben gekommen. Mit „Der Kommissar“ gelang ihm 1981 der Sprung in die deutschsprachigen Charts. Mit „Rock Me Amadeus“ veröffentlichte er 1985 eine Single\, die es als bis heute einziger deutschsprachiger Song an die Spitze der US-Billboard-Charts schaffte. Hits wie „Vienna Calling“\, der „Jeanny“-Skandal und das vermächtnishafte „Out of the Dark“\, seine Eskapaden\, seine innere Zerissenheit und sein früher Tod machten ihn endgültig zur Legende. \nMit „FALCO – Das Musical“ dürfen sich Fans und Musikliebhaber davon überzeugen\, dass der Falke noch immer fliegt. Das zweistündige Live-Erlebnis führt durch prägende Stationen im Leben des markanten Musikers. Bildgewaltig und exzentrisch gewährt die Musical-Biographie durch kunstvolle Projektionen und Original–Videosequenzen einen tiefen Einblick in die Gedanken- und Gefühlswelt des Künstlers und den Menschen\, der hinter der schillernden Pop-Ikone steckte. Einem Menschen\, der das Leben bis an seine Grenzen auskostete und durch viele Höhen und Tiefen ging – bis hin zur Selbstzerstörung. Dabei werden alle großen Hits und auch einige zu Unrecht vergessene Titel des „Falken“ live auf die Bühne zurückgeholt und bekommen durch schrille und extravagante Tanzeinlagen neues Leben eingehaucht.
URL:https://www.livemacher.de/event/falco-das-musical-ulm-ccu/
LOCATION:CCU Ulm Einsteinsaal\, Basteistraße 40\, Ulm\, Baden-Württemberg\, 89073\, Deutschland
CATEGORIES:Jazz-Pop-Rock,Show
ATTACH;FMTTYPE=image/jpeg:https://www.livemacher.de/wp-content/uploads/2019/01/FALCO_KT-512x512px.jpg
ORGANIZER;CN="Livemacher GmbH":MAILTO:info@livemacher.de
GEO:48.4001166;10.0044492
X-APPLE-STRUCTURED-LOCATION;VALUE=URI;X-ADDRESS=CCU Ulm Einsteinsaal Basteistraße 40 Ulm Baden-Württemberg 89073 Deutschland;X-APPLE-RADIUS=500;X-TITLE=Basteistraße 40:geo:10.0044492,48.4001166
END:VEVENT
BEGIN:VEVENT
DTSTART;TZID=Europe/Berlin:20200215T200000
DTEND;TZID=Europe/Berlin:20200215T200000
DTSTAMP:20260420T155417
CREATED:20190520T100811Z
LAST-MODIFIED:20200217T083152Z
UID:10049829-1581796800-1581796800@www.livemacher.de
SUMMARY:ABBA-WORLD-REVIVAL - meets Classic Ulm\, CCU
DESCRIPTION:Wenn die zehn Musiker des „ABBA-WORLD-REVIVALS“ auf elf Philharmoniker treffen\, entsteht ein legendäres\, klassisch begleitetes ABBA Spektakel\, welches seines Gleichen sucht. Dan Hofrichter inszeniert mit „ABBA-WORLD-REVIVAL meets Classic“ eine Tribute Show der Extraklasse. Mit 21 darbietenden Künstlern auf der Bühne schafft es dieses Arrangement klassische Instrumente so mit dem unverkennbaren und ohnehin schon perfekten Abba-Sound zu verbinden\, dass ein brillantes ABBA Live -Event der Extraklasse entsteht. \nBesucher dieses einzigartigen Musik- und Konzertergebnisses dürfen sich auf alle Hits der legendären schwedischen Mega Band ABBA freuen\, von Waterloo über Dancing Queen bis zu Fernando und Chiquitita. Dabei sind nicht nur Kostüme und Bühnenchoreografie auf höchstem Niveau und dem Original perfekt nachempfunden. Auch der Sound ist 100% live\, frei von Zuspielungen oder sonstigen Playback-Techniken. Das Konzerthighlight mit Songs von ABBA in höchster Annäherung ans Original besticht durch höchste Perfektion in musikalischer als auch optischer Hinsicht. Das Ergebnis: ein harmonisches Konzert der Extraklasse! \nLassen auch Sie sich in die Welt des schwedischen Vokal-Sound mitnehmen und erleben Sie eine der wenigen Shows der „ABBA-WORLD-REVIVAL meets Classic“ Deutschlandtour.
URL:https://www.livemacher.de/event/abba-world-revival-meets-classic-ulm-ccu/
LOCATION:CCU Ulm Einsteinsaal\, Basteistraße 40\, Ulm\, Baden-Württemberg\, 89073\, Deutschland
CATEGORIES:Jazz-Pop-Rock,Show
ATTACH;FMTTYPE=image/jpeg:https://www.livemacher.de/wp-content/uploads/2020/01/web_LM_20200214_LB_Abba_meets_Classic_1000x1000_01.jpg
ORGANIZER;CN="Livemacher GmbH":MAILTO:info@livemacher.de
GEO:48.4001166;10.0044492
X-APPLE-STRUCTURED-LOCATION;VALUE=URI;X-ADDRESS=CCU Ulm Einsteinsaal Basteistraße 40 Ulm Baden-Württemberg 89073 Deutschland;X-APPLE-RADIUS=500;X-TITLE=Basteistraße 40:geo:10.0044492,48.4001166
END:VEVENT
BEGIN:VEVENT
DTSTART;TZID=Europe/Berlin:20200130T200000
DTEND;TZID=Europe/Berlin:20200130T200000
DTSTAMP:20260420T155417
CREATED:20190617T111456Z
LAST-MODIFIED:20200202T190212Z
UID:10049842-1580414400-1580414400@www.livemacher.de
SUMMARY:all you need is love! – Das Beatles-Musical Ulm\, CCU
DESCRIPTION:Nach zwei Jahren Pause kehrt das Erfolgs-Musical „all you need is love!“ pünktlich zum Dreifachjubiläum der erfolgreichsten Band aller Zeiten auf die Bühne zurück. Im Jahr 2020 jährt sich die Gründung der Beatles zum 60. Mal\, ihre Trennung liegt dann 50 Jahre zurück und auch die Show von Produzent Bernhard Kurz feiert runden Geburtstag. Im Jahr 2000 war das Musical am Chiemsee erstmals zu sehen. Seitdem absolvierte die Show mit der Originalband aus Las Vegas über 1000 Auftritte in 14 Ländern mit über einer Million Zuschauern. \nZwar sind es nicht die Beatles selbst\, die in dem Musical auftreten\, dafür aber ihre perfekt eingespielten Ebenbilder: das Quartett „Twist & Shout“ mit Alan LeBoeuf als Paul McCartney\, Howard Arthur (John Lennon)\, John Brosnan (George Harrison) und Carmine Francis Grippo (Ringo Starr). In „all you need is love! – Das Beatles-Musical“ lassen die Ausnahmekünstler den Mythos der Pilzköpfe auferstehen. \n„Twist & Shout“ überzeugt mit professionellem Live-Gesang\, bei dem der Zuschauer glaubt\, die Beatles seien leibhaftig auf die Bühne zurückgekehrt. Anschauliche Kurzgeschichten beleuchten die Meilensteine einer unvergleichlichen Karriere. „all you need is love!“ führt die Zuschauer zurück zu den Anfängen der Pilzköpfe in Hamburg\, über ihre ersten eigenen Konzerte bis hin zum Durchbruch in den USA und ihren raketenhaften Aufstieg.
URL:https://www.livemacher.de/event/all-you-need-is-love-das-beatles-musical-ulm-ccu/
LOCATION:CCU Ulm Einsteinsaal\, Basteistraße 40\, Ulm\, Baden-Württemberg\, 89073\, Deutschland
CATEGORIES:Jazz-Pop-Rock,Show
ATTACH;FMTTYPE=image/jpeg:https://www.livemacher.de/wp-content/uploads/2019/01/AYNIL_KT-512x512px.jpg
ORGANIZER;CN="Livemacher GmbH":MAILTO:info@livemacher.de
GEO:48.4001166;10.0044492
X-APPLE-STRUCTURED-LOCATION;VALUE=URI;X-ADDRESS=CCU Ulm Einsteinsaal Basteistraße 40 Ulm Baden-Württemberg 89073 Deutschland;X-APPLE-RADIUS=500;X-TITLE=Basteistraße 40:geo:10.0044492,48.4001166
END:VEVENT
BEGIN:VEVENT
DTSTART;TZID=Europe/Berlin:20200127T200000
DTEND;TZID=Europe/Berlin:20200127T200000
DTSTAMP:20260420T155417
CREATED:20190306T113505Z
LAST-MODIFIED:20200131T201946Z
UID:10049817-1580155200-1580155200@www.livemacher.de
SUMMARY:Simply The Best – Die Tina Turner Story Ulm\, CCU
DESCRIPTION:Zum 80. Geburtstag auf großer Tour: Die Story um die Rock-Legende Tina Turner  \n2019 ist das Jahr besonderer Tina Turner-Jubiläen: Vor 35 Jahren erschien ihr über 20 Millionen Mal verkauftes und mit vier Grammys ausgezeichnetes Album „Private Dancer“\, der Start eines unglaublichen Comebacks und einer Weltkarriere. Zu Ehren des 80. Geburtstags der „Queen of Rock“ wird „Simply The Best – Die Tina Turner Story“ auf große Tour durch Deutschland\, Österreich und die Schweiz gehen!  \nAnna Mae Bullock\, geboren am 26. November 1939 in Brownsville\, Tennessee (USA)\, aufgewachsen in Nutbush\, wurde als Tina Turner zum Weltstar und zur Legende. Ab 1958 an der Seite ihres späteren Ehemannes Ike Turner. 1984 startete sie ein überragendes Comeback als Solo-Künstlerin\, das in diesem Ausmaß nur mit dem von Elvis vergleichbar ist. 2009 ging die Sängerin mit dem unverwechselbaren Timbre das letzte Mal auf Welttournee. Diese Tour war der großartige Abschluss einer auІergewöhnlichen Karriere: Ein halbes Jahrhundert Rock-Geschichte mit Höhen und Tiefen\, mit Aufstieg und Fall – und über 180 Millionen verkauften Tonträgern\, unzähligen Nummer 1-Hits und Chartplatzierungen wie „Simply The Best“\, „Private Dancer“ oder „We Don’t Need Another Hero“. Ihr legendäres Konzert 1988 im Maracanã-Stadion in Rio de Janeiro erlebten 188.000 Zuschauer live – dafür gab es sogar den Eintrag ins Guinness-Buch der Rekorde. \nhttps://livemacher.de/wp-content/uploads/2020/01/2019_12_31_Silvestershow-Brandenburger-Tor_STB-sm.mp4
URL:https://www.livemacher.de/event/simply-the-best-die-tina-turner-story-ulm-ccu/
LOCATION:CCU Ulm Einsteinsaal\, Basteistraße 40\, Ulm\, Baden-Württemberg\, 89073\, Deutschland
CATEGORIES:Jazz-Pop-Rock,Show
ATTACH;FMTTYPE=image/jpeg:https://www.livemacher.de/wp-content/uploads/2019/03/web_LM_20200411_FRB_SIC_Simply-the-Best_1000x1000_01.jpg
ORGANIZER;CN="Livemacher GmbH":MAILTO:info@livemacher.de
GEO:48.4001166;10.0044492
X-APPLE-STRUCTURED-LOCATION;VALUE=URI;X-ADDRESS=CCU Ulm Einsteinsaal Basteistraße 40 Ulm Baden-Württemberg 89073 Deutschland;X-APPLE-RADIUS=500;X-TITLE=Basteistraße 40:geo:10.0044492,48.4001166
END:VEVENT
END:VCALENDAR