BEGIN:VCALENDAR
VERSION:2.0
PRODID:-//Livemacher GmbH - ECPv6.15.20//NONSGML v1.0//EN
CALSCALE:GREGORIAN
METHOD:PUBLISH
X-ORIGINAL-URL:https://www.livemacher.de
X-WR-CALDESC:Veranstaltungen für Livemacher GmbH
REFRESH-INTERVAL;VALUE=DURATION:PT1H
X-Robots-Tag:noindex
X-PUBLISHED-TTL:PT1H
BEGIN:VTIMEZONE
TZID:Europe/Berlin
BEGIN:DAYLIGHT
TZOFFSETFROM:+0100
TZOFFSETTO:+0200
TZNAME:CEST
DTSTART:20210328T010000
END:DAYLIGHT
BEGIN:STANDARD
TZOFFSETFROM:+0200
TZOFFSETTO:+0100
TZNAME:CET
DTSTART:20211031T010000
END:STANDARD
BEGIN:DAYLIGHT
TZOFFSETFROM:+0100
TZOFFSETTO:+0200
TZNAME:CEST
DTSTART:20220327T010000
END:DAYLIGHT
BEGIN:STANDARD
TZOFFSETFROM:+0200
TZOFFSETTO:+0100
TZNAME:CET
DTSTART:20221030T010000
END:STANDARD
BEGIN:DAYLIGHT
TZOFFSETFROM:+0100
TZOFFSETTO:+0200
TZNAME:CEST
DTSTART:20230326T010000
END:DAYLIGHT
BEGIN:STANDARD
TZOFFSETFROM:+0200
TZOFFSETTO:+0100
TZNAME:CET
DTSTART:20231029T010000
END:STANDARD
END:VTIMEZONE
BEGIN:VEVENT
DTSTART;TZID=Europe/Berlin:20221217T200000
DTEND;TZID=Europe/Berlin:20221217T200000
DTSTAMP:20260422T144449
CREATED:20200203T145416Z
LAST-MODIFIED:20220914T145106Z
UID:10050064-1671307200-1671307200@www.livemacher.de
SUMMARY:Mundstuhl - "Kann Spuren von Nüssen enthalten - Das brandneue Programm!" in Calw\, Aula
DESCRIPTION:Terminverlegung                            \n                            \n                        \n                        \n                        \n                        \n                                                Die Veranstaltung wurde auf Grund einer behördlichen Anordnung verschoben. Die für Freitag\, den 20.11.2020 angesetzte und bereits verlegte Veranstaltung "Mundstuhl - FLAMONGOS" im Kronenzentrum in Bietigheim-Bissingen wurde aus o.g. Gründen erneut verschoben auf Freitag\, den 17.12.2022. Für die ursprüngliche Veranstaltung erworbene Tickets behalten Ihre Gültigkeit.  \n                        \n                        \n                        \n                    \n                \n            \n        \n\n    \n    \n\n\nDas beste Comedyduo des Universums holt aus zum nächsten Streich! \nUnd ja! Es wird noch lustiger als jemals zuvor. Wer geglaubt hat\, der Gipfel humoristischen Wahnsinns sei nach 25 Jahren MUNDSTUHL bereits erreicht\, wird mit dem brandneuen Programm KANN SPUREN VON NÜSSEN ENTHALTEN  eines Besseren belehrt. \nJetzt Tickets sichern! \nSo frisch und abwechslungsreich\, so durchgeknallt und schnell\, als hätten sich die beiden symphatischen Echopreisträger eine Adrenalinspritze ins vegetative Humorzentrum gedrückt. In bester Mundstuhlmanier geben sich auf der Bühne liebgewonnene aber auch nagelneue Charaktere die Klinke in die Hand. \nDer psychopathische Grillschorsch\, der cholerische Andi\, die drucklosen Friedensaktivisten Malte und Torben  von No Pressure und als Special Guest Der Dschieses\, der auf Geheiß seines Vaters wieder auf der Erde weilt – alle Mundstuhl-Figuren haben schwer einen an der Klatsche und sind als ins Absurde überdrehte Karikaturen angelegt. \nSo auch die ostdeutschen Hartz-IV-Mütter Peggy und Sandy\,  die schlechtesten Zauberer der Welt Sickroy und Fried und natürlich Dragan und Alder\, die Erfinder der Kanakcomedy\, die den hessischen Kultkomikern vor einem Vierteljahrhundert den Durchbruch bescherten. \nImmer wieder leuchten satirische Spitzen auf\, meist aber geht es um die pure Lust am Blödsinn\, die mit ansteckender Spielfreude präsentiert wird. \nIn Zeiten von stets erhobenen Zeigefingern\, Gendersternchen und Political Correctness machen MUNDSTUHL weiterhin Späße über Alles und Jeden und das Beste ist: Man darf und muss herzhaft darüber lachen. \nDie beiden Comedians und Podcaster Lars Niedereichholz und Ande Werner gelten als das erfolgreichste und wandelbarste Comedy-Doppel Deutschlands und erreichen in ihrem neuen Programm eine geradezu irrwitzige Pointendichte. \nAber Achtung! Dieses Programm  KANN SPUREN VON NÜSSEN ENTHALTEN. \n„Riesenapplaus unter Lachtränen!“ BILD Zeitung\n„MUNDSTUHL sind die AC/DC der Comedy! Zum Kaputtlachen!“ SZ\n„Politisch völlig inkorrekt und zum Brüllen komisch“ Westfälische Allgemeine\n„MUNDSTUHL sind einmalig“ BZ
URL:https://www.livemacher.de/event/mundstuhl-flamongos-calw-aula/
LOCATION:Calw\, Aula\, Am Schießberg 20\, Calw\, Baden-Württemberg\, 75365\, Deutschland
CATEGORIES:Bühne
ORGANIZER;CN="Livemacher GmbH":MAILTO:info@livemacher.de
GEO:48.7129345;8.7388944
X-APPLE-STRUCTURED-LOCATION;VALUE=URI;X-ADDRESS=Calw Aula Am Schießberg 20 Calw Baden-Württemberg 75365 Deutschland;X-APPLE-RADIUS=500;X-TITLE=Am Schießberg 20:geo:8.7388944,48.7129345
END:VEVENT
BEGIN:VEVENT
DTSTART;TZID=Europe/Berlin:20221210T140000
DTEND;TZID=Europe/Berlin:20221210T140000
DTSTAMP:20260422T144450
CREATED:20190930T155124Z
LAST-MODIFIED:20210428T140046Z
UID:10049168-1670680800-1670680800@www.livemacher.de
SUMMARY:Bibi Blocksberg - "Alles wie verhext!" Das Musical Calw\, Aula
DESCRIPTION:Terminverlegung                            \n                            \n                        \n                        \n                        \n                        \n                                                Die Veranstaltung wurde auf Grund einer behördlichen Anordnung verschoben.\nDie für Sonntag\, den 23.05.2021 angesetzte Veranstaltung "Bibi Blocksberg – „Alles wie verhext! Das Musical“ in der Aula in Calw wurde aufgrund der aktuellen Situation auf Samstag\, den 10.12.2022 verschoben.Selbstverständlich behalten alle Tickets ihre Gültigkeit für den neuen Termin. Wir bitten um Ihr Verständnis. Vielen Dank.\n                        \n                        \n                        \n                    \n                \n            \n        \n\n    \n    \n\n\nBibi Blocksberg\, die berühmteste kleine Hexe Deutschlands\, geht von 2020 bis 2023 mit ihrem Musical „Alles wie verhext!“ auf große Tournee durch Deutschland\, Österreich und die Schweiz. Zum 40-jährigen Jubiläum der Serie ist das neue Original-COCOMICO Musical landauf\, landab LIVE zu erleben! \nÜberall begeisterte Zuschauer \nVier erfolgreiche Bibi Blocksberg Live-Musicals aus der Feder von Produzent und Autor Marcell Gödde und seinem COCOMICO Theater wurden bereits von 1\,2 Millionen Zuschauern in über 1350 Aufführungen gesehen. \nIn vielen Städten ist nun wieder einfach „Alles wie verhext!“\, wenn Bibi Blocksberg mit ihrem Besen Kartoffelbrei herbeigeflogen kommt. Insgesamt finden von 2020 bis 2023 über 300 Aufführungen vor vielen\, vielen kleinen und großen begeisterten Zuschauerinnen und Zuschauern statt! \nJetzt Tickets sichern! \nBibi Blocksberg „Alles wie verhext!“ – Das Musical \nJeder kennt das\, es gibt Tage\, an denen einfach alles schiefläuft! Das fängt morgens schon beim Aufstehen mit dem falschen Fuß an und zieht sich über den ganzen Tag. Dann ist einfach „Alles wie verhext!“. Einen solchen Tag hat auch die kleine\, freche Hexe Bibi Blocksberg erwischt: Schon morgens gibt es ein Riesendurcheinander mit ihren Eltern Barbara und Bernhard Blocksberg zu Hause. Und auch in der Schule will einfach gar nichts klappen. Bibis Lehrerin Frau Müller-Riebensehl bringt das ganz schön auf die Palme! Abends ist dann auch noch Walpurgisnacht auf dem Blocksberg. Dieses Jahr sollen dort Bibi und Barbara Blocksberg zusammen mit Oma Grete das große Hexenfeuer entfachen. Aber was wird Walpurgia\, die Vorsitzende des Hexenrates bloß dazu sagen\, wenn dort auch alles schief läuft? \nDa ist richtig was los! \nWird es den Hexen der Familie Blocksberg an diesem „verhexten“ Tag gelingen\, das Hexenfeuer zur Walpurgisnacht wie vorgesehen zu entzünden? Die kleinen und großen Hexen-Fans im Saal dürfen Bibi\, ihrer Mutter und ihrer Oma sogar dabei helfen\, denn bei diesem Familien-Pop-Musical ist Mitmachen dringend erwünscht – gerne auch verkleidet. Kleine und große Hexen in Kostümen sind herzlich willkommen!  Und wenn mit Hilfe der Kinder und aller Zuschauerinnen und Zuschauer alles gut ausgeht\, wird Karla Kolumna\, die rasende Reporterin aus Neustadt beruhigt schreiben können: Es WAR alles wie verhext. \nMitreißende Inszenierung\, tolle neue Lieder und wieder einmal ganz viel „Hex hex!“ \nDas Bibi Blocksberg-Musical „Alles wie verhext!“\, original und exklusiv vom Cocomico Theater aus Köln: Ein hexischer Spaß für die ganze Familie!
URL:https://www.livemacher.de/event/bibi-blocksberg-alles-wie-verhext-das-musical-calw-aula/
LOCATION:Calw\, Aula\, Am Schießberg 20\, Calw\, Baden-Württemberg\, 75365\, Deutschland
CATEGORIES:Show
ORGANIZER;CN="Livemacher GmbH":MAILTO:info@livemacher.de
GEO:48.7129345;8.7388944
X-APPLE-STRUCTURED-LOCATION;VALUE=URI;X-ADDRESS=Calw Aula Am Schießberg 20 Calw Baden-Württemberg 75365 Deutschland;X-APPLE-RADIUS=500;X-TITLE=Am Schießberg 20:geo:8.7388944,48.7129345
END:VEVENT
BEGIN:VEVENT
DTSTART;TZID=Europe/Berlin:20221117T200000
DTEND;TZID=Europe/Berlin:20221117T200000
DTSTAMP:20260422T144450
CREATED:20200205T082607Z
LAST-MODIFIED:20211112T110901Z
UID:10050072-1668715200-1668715200@www.livemacher.de
SUMMARY:Die Füenf "ENDLICH! Die Abschiedstour mit den Highlights aus 25 Jahren" in Calw\, Aula
DESCRIPTION:Terminverlegung                            \n                            \n                        \n                        \n                        \n                        \n                                                Die Veranstaltung wurde auf Grund einer behördlichen Anordnung verschoben. Die für Samstag\, den 27.03.2021 angesetzte und bereits auf onntag\, den 07.11.2021 verschobene Veranstaltung "Die Füenf – 005 im Dienste ihrer Mayonnaise“ in der Aula in Calw wurde aufgrund der aktuellen Situation auf Donnerstag\, den 17.11.2022 verschoben. Selbstverständlich behalten alle Tickets ihre Gültigkeit für den neuen Termin. Wir bitten um Ihr Verständnis. Vielen Dank. \n                        \n                        \n                        \n                    \n                \n            \n        \n\n    \n    \n\n\nENDLICH!\nDie Abschiedstour mit Highlights aus 25 Jahren\nENDLICH Schluss mit lustig?\nGeht den Maulhelden ENDLICH mal die Puste aus? Werden diese Kindsköpfe ENDLICH erwachsen? \nJetzt Tickets sichern! \nTja\, scheint so. Wohl auch die geilste Zeit währt nicht ewig. So kommt nun auch die Ära füenf auf die Zielgerade für den Endspott der Besinglichkeiten! \nJetzt aber erst mal runter von der Tränendrüse. So sang- und klanglos machen sie sich nicht vom Acker. Bis für Justice\, Pelvis\, Memphis\, Little Joe und Dottore Basso also ENDLICH der letzte Vorhang fällt\, haben sie nochmals richtig Böcke\, für euch ein musikomisches Freudenfeuer eines Vierteljahrhunderts Sing & Unsing abzufackeln. \nfüenf bedanken sich aufs scherzlichste mit dem Besten\, was ihr bescheidenes Repertoire zu bieten hat – nebst einem allabendlichen Wunschkonzert – ENDLICH bei den treuesten Fans der Welt! \nAlso langer Rede schnurzer Sing: füenf\, halt doch mal die Klappe…na ENDLICH!
URL:https://www.livemacher.de/event/die-fueenf-mit-neuem-programm-calw-aula/
LOCATION:Calw\, Aula\, Am Schießberg 20\, Calw\, Baden-Württemberg\, 75365\, Deutschland
CATEGORIES:Bühne,Jazz-Pop-Rock
ORGANIZER;CN="Livemacher GmbH":MAILTO:info@livemacher.de
GEO:48.7129345;8.7388944
X-APPLE-STRUCTURED-LOCATION;VALUE=URI;X-ADDRESS=Calw Aula Am Schießberg 20 Calw Baden-Württemberg 75365 Deutschland;X-APPLE-RADIUS=500;X-TITLE=Am Schießberg 20:geo:8.7388944,48.7129345
END:VEVENT
BEGIN:VEVENT
DTSTART;TZID=Europe/Berlin:20221016T190000
DTEND;TZID=Europe/Berlin:20221016T190000
DTSTAMP:20260422T144450
CREATED:20210601T121956Z
LAST-MODIFIED:20220914T120954Z
UID:10050201-1665946800-1665946800@www.livemacher.de
SUMMARY:Bodo Bach - "Das Guteste aus 20 Jahren" Calw\, Aula
DESCRIPTION:Termin ersatzlos abgesagt                            \n                            \n                        \n                        \n                        \n                        \n                                                Die für Sonntag\, den 16.10.2022 angesetzte Veranstaltung „Bodo Bach - 'Das Guteste aus 20 Jahren' “ in der Aula in Calw wurde ersatzlos abgesagt.  Die für diese Veranstaltung erworbenen Tickets können bei der Vorverkaufsstelle\, bei der Sie diese Tickets erworben haben\, zurückgegeben werden und Sie bekommen Ihr Geld erstattet. \n                        \n                        \n                        \n                    \n                \n            \n        \n\n    \n    \n\n\nDIE JUBILÄUMSTOUR 2020 \nKinder wie die Zeit vergeht. Bodo Bach steht jetzt schon seit 20 Jahren auf der Bühne. Selber schuld – er hätte sich ja auch mal setzen können. \nJetzt Tickets sichern! \nSeit zwei Jahrzehnten ist Bodo Bach auf Welttournee durch Deutschland\, und das Showgeschäft fordert mit den Jahren seinen Tribut. Jeden Abend das Hotelzimmer zertrümmern\, das geht allmählich auf den Rücken. \nDa kommt man irgendwann ins Grübeln. Wie soll es jetzt weiter gehen mit Hessens beliebtestem Humorbotschafter? Zu jung für den Ruhestand\, zu alt für StandUp-Comedy – da bleibt nur eins: Ab sofort macht Bodo RuheStandUp-Comedy. \nBodo Bach nimmt Sie mit auf eine verrückte Vergnügungsreise durch seine acht Bühnenprogramme und präsentiert das Beste aus 20 Jahren … oder zumindest das bisschen\, das er sich davon noch merken konnte. \nFreuen Sie sich auf zwei Stunden prall gefüllt mit garagengepflegten Gebraucht-Gags und natürlich den schönsten Bach- und Lachgeschichten seiner Karriere. \nBodo ist älter geworden\, vernünftiger aber nicht unbedingt. Auch auf seine alten Tage hat er nicht mehr alle Schnabeltassen im Schrank\, aber er lernt immer noch gern dazu. Zum Beispiel weiß er jetzt: Ein „Seniorenstift“ ist kein Kugelschreiber für alte Leute. Irgendwie ist es also auch ein Bildungsprogramm. \nBodo mistet sein Oberstübchen aus und stellt dabei fest: Blödsinn wird nicht blöder\, sondern sinniger. Einen ganzen Abend lang hebt Bodo einen Sprachschatz nach dem anderen und erzählt noch einmal „Das Guteste aus 20 Jahren“. Also Deutschland: Bodo Bach geht nochmal auf Tournee\, oder\, wer weiß\, vielleicht lässt er sich auch tragen … Jedenfalls sucht er dafür noch jede Menge applausbegabte und lachkundige Zuschauer. Möglichst aus der Region. Wegen der Umwelt. \nFür diese spezielle Jubiläums-Tournee setzt der Künstler zum ersten Mal auch auf eine sensationell aufwendige Bühnentechnik. Bodo kommt neuerdings nur noch mit Treppenlift auf die Bühne. Auch an atemberaubenden Spezialeffekten wurde diesmal nicht gespart. Am Anfang geht das Bühnenlicht an und am Ende geht es sogar wieder aus. Ja\, man kriegt was geboten fürs Geld! \nDeshalb besuchen Sie den hessischen Godfather of Babbsack\, und lassen Sie sich zwei Stunden lang das Zwerchfell kraulen.  \nKurz Vita & TV Auswahl\nDer ehemalige Radio- und TV-Moderator (WDR / Hit Radio FFH) Robert Treutel alias Bodo Bach ist gebürtiger Frankfurter. Bekannt wurde er Mitte der 90’er Jahre durch seine Spaßanrufe mit der Einleitung: „Ich hätt da gern emal ein Problem.“ \nSeit 2000 ist Bodo Bach mit seinen Comedy-Programmen („Kaffeefahrt“/ „Bodo auf Solo-Tour“/ „Aus ‚em Häusche“/ „Grinskram“ / „4-tel nach Bach“ / „…und…wie war ich?“ / „Auf der Überholspur“ und „Pech gehabt“) deutschlandweit auf Tournee. \nSein Programm „Pech gehabt“ begeisterte Fans und Kritiker gleichermaßen. („Ungalublich gut“\, Focus Online) \nLegendär sind sein Auftritt bei „Wetten dass…?“ (ZDF) und die Comedy-Reportagen für „Verstehen Sie Spaß?“ (DAS ERSTE)\, wo Bodo für Frank Elstner zwischen 2006 und 2009 im Einsatz war. Er ist gern gesehener Gast in nahezu allen Comedy- Kabarett- und Quiz-Formaten im Fernsehen\, u.a. bei „Meister des Alltags“ (SWR/ARD)\, „Spätschicht“ (SWR)\, „Comedy Contest“ (NDR)\, „Wer weiß denn sowas?“ (DAS ERSTE)\, „Darf er das? (RTL)“\, „strassenstars“\, „Dings vom Dach“ sowie „Comedy Tower“ (alle HR) oder „Mitternachtsspitzen“ (WDR).
URL:https://www.livemacher.de/event/bodo-bach-das-guteste-aus-20-jahren-calw-aula/
LOCATION:Calw\, Aula\, Am Schießberg 20\, Calw\, Baden-Württemberg\, 75365\, Deutschland
CATEGORIES:Bühne
ORGANIZER;CN="Livemacher GmbH":MAILTO:info@livemacher.de
GEO:48.7129345;8.7388944
X-APPLE-STRUCTURED-LOCATION;VALUE=URI;X-ADDRESS=Calw Aula Am Schießberg 20 Calw Baden-Württemberg 75365 Deutschland;X-APPLE-RADIUS=500;X-TITLE=Am Schießberg 20:geo:8.7388944,48.7129345
END:VEVENT
BEGIN:VEVENT
DTSTART;TZID=Europe/Berlin:20221002T190000
DTEND;TZID=Europe/Berlin:20221002T190000
DTSTAMP:20260422T144450
CREATED:20191127T104552Z
LAST-MODIFIED:20220827T120208Z
UID:10049856-1664737200-1664737200@www.livemacher.de
SUMMARY:Rolf Miller "Obacht Miller" - Se return of se normal one in Calw\, Aula: ABGESAGT!
DESCRIPTION:Termin ersatzlos abgesagt                            \n                            \n                        \n                        \n                        \n                        \n                                                Die für Sonntag\, den 02.10.2022 angesetzte Veranstaltung „Rolf Miller „Obacht Miller“ – Se return of se normal one" in der Aula in Calw wurde ersatzlos abgesagt.  Die für diese Veranstaltung erworbenen Tickets können bei der Vorverkaufsstelle\, bei der Sie diese Tickets erworben haben\, zurückgegeben werden und Sie bekommen Ihr Geld erstattet.\n                        \n                        \n                        \n                    \n                \n            \n        \n\n    \n    \n\n\nOBACHT MILLER – das neue Programm von Rolf Miller. \nDas Halbsatz-Phänomen zeigt uns erneut\, dass wir nicht alles glauben dürfen\, was wir denken….\n„Ball flach halten\, kein Problem…ganz ruhig\, „alles schlimmer äh… wie sich‘s anhört…“ wie immer weiß Miller nicht\, was er sagt\, und meint es genauso\, denn wenn gesicherte Ahnungen in spritzwasserdichte Tatsachen münden\, wer erliegt da nicht Millers Charme. Eben. Und das Ganze auch noch besser wie in echt\, als ob Gerhard Polt im Audi A6 neben ihm sitzt. \nJetzt Tickets sichern! \nRolf Millers Figur kann einfach nicht anders: garantiert oft erreicht und nie kopiert. Und bleibt dabei einzigartig wie sie ist\, versprochen. – Keine Sorge. Er verspricht uns ein Chaos der verqueren Pointen\,  mal ums Eck\, mal gerade\, mit und ohne Dings\, lehnen Sie sich einfach zurück\, entspannen Sie in ihrem Kampfanzug\, und atmen Sie locker aus der Hose – in die Tüte.\nUnd der Satiriker lässt wie immer nichts aus: die Notwendigkeit eines Atomkrieges\, das unerlässliche Sel e beim Autobahnga en\, „äh\, jaaaa\, wieso denn nicht?“ – oder Jogis Jungs nach der Putin-WM. Und natürlich wie immer die „ eischfressende Freisprechanlage“ (so nennt Achim vorsichtig Millers Ex).
URL:https://www.livemacher.de/event/rolf-miller-obacht-miller-se-return-of-se-normal-one-calw-aula/
LOCATION:Calw\, Aula\, Am Schießberg 20\, Calw\, Baden-Württemberg\, 75365\, Deutschland
CATEGORIES:Bühne
ORGANIZER;CN="Livemacher GmbH":MAILTO:info@livemacher.de
GEO:48.7129345;8.7388944
X-APPLE-STRUCTURED-LOCATION;VALUE=URI;X-ADDRESS=Calw Aula Am Schießberg 20 Calw Baden-Württemberg 75365 Deutschland;X-APPLE-RADIUS=500;X-TITLE=Am Schießberg 20:geo:8.7388944,48.7129345
END:VEVENT
BEGIN:VEVENT
DTSTART;TZID=Europe/Berlin:20220313T190000
DTEND;TZID=Europe/Berlin:20220313T190000
DTSTAMP:20260422T144450
CREATED:20200212T103300Z
LAST-MODIFIED:20220201T201455Z
UID:10050077-1647198000-1647198000@www.livemacher.de
SUMMARY:ABBA World Revival - "A Tribute to ABBA!" Calw\, Aula
DESCRIPTION:Terminverlegung                            \n                            \n                        \n                        \n                        \n                        \n                                                Die Veranstaltung wurde auf Grund einer behördlichen Anordnung verschoben. Das für Freitag\, den 29.01.2021 angesetzte Musical "ABBA World Revival - A Tribute to ABBA!“  in der Aula in Calw wurde aus oben genannten Gründen auf Sonntag\, den 13.03.2022 verschoben. Für die ursprüngliche Veranstaltung erworbene Tickets behalten Ihre Gültigkeit \n                        \n                        \n                        \n                    \n                \n            \n        \n\n    \n    \n\n\nWenn Sie die Songs von ABBA in höchster Annäherung ans Original hören wollen\, sind Sie hier richtig. Es erwartet Sie eine tolle Bühenshow mit allen Hits von ABBA. Die Darbietung ist zu 100% live. Es werden keinerlei Zuspielungen oder Playback-Techniken verwendet. Das Repertoire von ABBA World Revival umfasst mehr als 30 der bekanntesten Songs der legendären schwedischen Mega-Band der 70er Jahre. \nABGESAGT!\n10 Profimusiker haben sich zusammengetan\, um die Musik von ABBA\, die sie alle lieben und bewundern\, zu spielen und zu singen. \nDie Live Show bietet nicht nur höchste Perfektion in musikalischer Hinsicht\, auch die Bühnenshow\, die Kostüme und die Bühnen Choreographie sind auf höchstem Niveau und dem Original perfekt nachempfunden. \nExtravagante Kostüme und eine mit Tanzeinlagen und Lichteffekten angereicherte Bühnenshow\, aber das sind nur schmückende Elemente am Rande. Im Mittelpunkt steht die zeitlose Musik von ABBA\, in allen ihren Facetten von der treibenden Disco-Nummer\, bei der man spontan aufspringt und mittanzt\, bis zur anrührenden Ballade\, die das Publikum mäuschenstill werden und die Feuerzeuge zücken lässt. \nABBA WORLD REVIVAL ist eine Band\, der man anmerkt\, dass sie die Musik von ABBA liebt.
URL:https://www.livemacher.de/event/abba-world-revival-a-tribute-to-abba-calw-aula/
LOCATION:Calw\, Aula\, Am Schießberg 20\, Calw\, Baden-Württemberg\, 75365\, Deutschland
CATEGORIES:Jazz-Pop-Rock,Show
ORGANIZER;CN="Livemacher GmbH":MAILTO:info@livemacher.de
GEO:48.7129345;8.7388944
X-APPLE-STRUCTURED-LOCATION;VALUE=URI;X-ADDRESS=Calw Aula Am Schießberg 20 Calw Baden-Württemberg 75365 Deutschland;X-APPLE-RADIUS=500;X-TITLE=Am Schießberg 20:geo:8.7388944,48.7129345
END:VEVENT
BEGIN:VEVENT
DTSTART;TZID=Europe/Berlin:20220115T140000
DTEND;TZID=Europe/Berlin:20220115T140000
DTSTAMP:20260422T144450
CREATED:20210316T152727Z
LAST-MODIFIED:20210609T113423Z
UID:10050191-1642255200-1642255200@www.livemacher.de
SUMMARY:Conni - Das Zirkus-Musical! Calw\, Aula
DESCRIPTION:Das Cocomico-Musical „Conni – Das Zirkus-Musical!“ geht auf große Tournee! \nConni hat am Wochenende etwas ganz Besonderes vor: Zusammen mit ihren Freunden Julia und Simon steht eine große Zirkus-Aufführung in der KiTa bevor\, vorher soll dort auch noch übernachtet werden. Bis zur Aufführung geht allerdings so einiges schief\, und sogar Connis Eltern müssen bei der Zirkus-Aufführung einspringen. Und welche Rolle spielt Connis Kater Mau\, um das großartige Event zu retten? \nFür Conni\, ihre Familie\, ihre Freunde und all ihre kleinen und großen Zuschauer wird es in diesem Zirkus-Musical-Abenteuer nie langweilig. Es ist immer etwas los\, und Conni hat viel Spaß\, auch wenn es einige Probleme zu lösen gilt. Denn sie hat ja Rückhalt durch all ihre vielen Zuschauer\, von ihren Freunden Julia und Simon\, von Mama und Papa Klawitter\, und sogar von ihrem geliebten Kater Mau! \nJetzt Tickets sichern! \nFrei nach dem Motto „Was Conni kann – das könnt ihr auch!“ werden die Musicalbesucher zum Teil der Inszenierung und können Conni und ihren Freunden helfen\, das Zirkus-Musical-Abenteuer zu meistern und über sich hinaus zu wachsen. \nHeraus kommt ein Musicalspaß für Jung und Alt\, zum Mitmachen\, Mitlachen und Miterleben\, mit vielen tollen Songs und ganz viel Charme! \n„Conni – Das Zirkus-Musical“: einzigartig und besonders\, exklusiv vom Cocomico Theater auf großer Tournee! \nConni zählt zu den beliebtesten Kinderbuchfiguren und begeistert seit knapp drei Jahrzehnten Kinder ab drei Jahren. Für ihre jungen Leser ist Conni eine Art „beste Freundin“\, die genau wie sie die verschiedensten Situationen des Alltags meistert. Weit über hundert verschiedene Conni-Bücher sind in den vergangenen vielen Jahren erschienen. Conni ist zudem ein Dauerbrenner auf Kassette\, CD und DVD\, im Fernsehen und auch im Kino! \nDie Cocomico-Conni-Musicals begeisterten weit über 500.000 kleine und große Besucher! Die Presse jubelt: „Großes Theater für kleine Leute!“ – „Riesenapplaus von begeisterten Kids!“
URL:https://www.livemacher.de/event/conni-das-zirkus-musical-schwaebisch-gmuend-congress-centrum-stadtgarten-2/
LOCATION:Calw\, Aula\, Am Schießberg 20\, Calw\, Baden-Württemberg\, 75365\, Deutschland
CATEGORIES:Show
ATTACH;FMTTYPE=image/jpeg:https://www.livemacher.de/wp-content/uploads/2020/02/web_Conni-Das-Zirkus-Musical_A6_quer_3.jpg
ORGANIZER;CN="Livemacher GmbH":MAILTO:info@livemacher.de
GEO:48.7129345;8.7388944
X-APPLE-STRUCTURED-LOCATION;VALUE=URI;X-ADDRESS=Calw Aula Am Schießberg 20 Calw Baden-Württemberg 75365 Deutschland;X-APPLE-RADIUS=500;X-TITLE=Am Schießberg 20:geo:8.7388944,48.7129345
END:VEVENT
END:VCALENDAR