BEGIN:VCALENDAR
VERSION:2.0
PRODID:-//Livemacher GmbH - ECPv6.15.20//NONSGML v1.0//EN
CALSCALE:GREGORIAN
METHOD:PUBLISH
X-ORIGINAL-URL:https://www.livemacher.de
X-WR-CALDESC:Veranstaltungen für Livemacher GmbH
REFRESH-INTERVAL;VALUE=DURATION:PT1H
X-Robots-Tag:noindex
X-PUBLISHED-TTL:PT1H
BEGIN:VTIMEZONE
TZID:Europe/Berlin
BEGIN:DAYLIGHT
TZOFFSETFROM:+0100
TZOFFSETTO:+0200
TZNAME:CEST
DTSTART:20200329T010000
END:DAYLIGHT
BEGIN:STANDARD
TZOFFSETFROM:+0200
TZOFFSETTO:+0100
TZNAME:CET
DTSTART:20201025T010000
END:STANDARD
BEGIN:DAYLIGHT
TZOFFSETFROM:+0100
TZOFFSETTO:+0200
TZNAME:CEST
DTSTART:20210328T010000
END:DAYLIGHT
BEGIN:STANDARD
TZOFFSETFROM:+0200
TZOFFSETTO:+0100
TZNAME:CET
DTSTART:20211031T010000
END:STANDARD
BEGIN:DAYLIGHT
TZOFFSETFROM:+0100
TZOFFSETTO:+0200
TZNAME:CEST
DTSTART:20220327T010000
END:DAYLIGHT
BEGIN:STANDARD
TZOFFSETFROM:+0200
TZOFFSETTO:+0100
TZNAME:CET
DTSTART:20221030T010000
END:STANDARD
END:VTIMEZONE
BEGIN:VEVENT
DTSTART;TZID=Europe/Berlin:20211205T190000
DTEND;TZID=Europe/Berlin:20211205T190000
DTSTAMP:20260420T110159
CREATED:20210609T115140Z
LAST-MODIFIED:20210609T120412Z
UID:10050205-1638730800-1638730800@www.livemacher.de
SUMMARY:Hämmerle und Fola Dada - "Der Tannenbaum brennt …“Besigheim\, Bürgerhalle Ottmarsheim
DESCRIPTION:Der Tannenbaum brennt … Von Rausch und Gold und Engeln \nWeihnachten naht.\nDas überrascht uns.\nUnd\, geben wir es ruhig zu\, wir sind auch wieder ein wenig erschüttert. \nWie alle Jahre! \nJetzt Tickets sichern! \nDoch halt\, lässt sich nicht noch etwas retten?\nNun\, da müsste schon ein Experte her\, einer\, der Weihnachten durch und durch verstanden hat\, der es selbst durchlebt und in gewissem Sinne überwunden hat. \nAuftritt: Herr Hämmerle! \nAls geprüfte Fachkraft für Alltagsfragen des heutigen Daseins einschließlich Bewältigung desselben ist Hämmerle genau der\, den wir jetzt brauchen. Seine Hämmerle-Hotline weiß zuverlässig Rat in Weihnachtsfragen. Das Geschenk war ein Fehlkauf? Umtausch ist kinderleicht! Den Weihnachtsbaum schnell selber fällen? Kein Problem! Die Verwandtschaft fernhalten? Mit Abstand die beste Idee! Hämmerles Kompetenz erstreckt sich gar\, über das Fest der Feste hinaus\, aufs drohende Kalenderende. Denn auch die Schrecken der Silvester-und-Neujahrstage kann Hämmerle uns besingen wie kein anderer. \nFür all das hat er sich zudem die beste denkbare Begleitung ausgesucht: An Hämmerles Seite sehen und hören wir die strahlende Swing- und Soul-Lady Fola Dada. Die beiden grooven sich gemeinsam ein zum klingenden Galopp durch Hämmerles Christfest-ABC\, angereichert mit individuellen Versionen unverzichtbarer Welthits. Für Weihnachtsmuffel ebenso wie für Weihnachtsfans ein musikalisch-komödiantischer Hochgenuss – mit garantiert saisonalem und regionalem Erkenntnisgewinn!
URL:https://www.livemacher.de/event/haemmerle-und-fola-dada-der-tannenbaum-brennt-besigheim-buergerhalle-ottmarsheim/
LOCATION:Bürgerhalle Ottmarsheim\, Keitländerstraße\, Besigheim\, Baden-Württemberg\, 74354\, Deutschland
CATEGORIES:Bühne
ATTACH;FMTTYPE=image/jpeg:https://www.livemacher.de/wp-content/uploads/2021/06/web_LM_20211205_OTT_Haemmerle_800x800.jpg
ORGANIZER;CN="Livemacher GmbH":MAILTO:info@livemacher.de
END:VEVENT
END:VCALENDAR