BEGIN:VCALENDAR
VERSION:2.0
PRODID:-//Livemacher GmbH - ECPv6.15.20//NONSGML v1.0//EN
CALSCALE:GREGORIAN
METHOD:PUBLISH
X-ORIGINAL-URL:https://www.livemacher.de
X-WR-CALDESC:Veranstaltungen für Livemacher GmbH
REFRESH-INTERVAL;VALUE=DURATION:PT1H
X-Robots-Tag:noindex
X-PUBLISHED-TTL:PT1H
BEGIN:VTIMEZONE
TZID:Europe/Berlin
BEGIN:DAYLIGHT
TZOFFSETFROM:+0100
TZOFFSETTO:+0200
TZNAME:CEST
DTSTART:20210328T010000
END:DAYLIGHT
BEGIN:STANDARD
TZOFFSETFROM:+0200
TZOFFSETTO:+0100
TZNAME:CET
DTSTART:20211031T010000
END:STANDARD
BEGIN:DAYLIGHT
TZOFFSETFROM:+0100
TZOFFSETTO:+0200
TZNAME:CEST
DTSTART:20220327T010000
END:DAYLIGHT
BEGIN:STANDARD
TZOFFSETFROM:+0200
TZOFFSETTO:+0100
TZNAME:CET
DTSTART:20221030T010000
END:STANDARD
BEGIN:DAYLIGHT
TZOFFSETFROM:+0100
TZOFFSETTO:+0200
TZNAME:CEST
DTSTART:20230326T010000
END:DAYLIGHT
BEGIN:STANDARD
TZOFFSETFROM:+0200
TZOFFSETTO:+0100
TZNAME:CET
DTSTART:20231029T010000
END:STANDARD
BEGIN:DAYLIGHT
TZOFFSETFROM:+0100
TZOFFSETTO:+0200
TZNAME:CEST
DTSTART:20240331T010000
END:DAYLIGHT
BEGIN:STANDARD
TZOFFSETFROM:+0200
TZOFFSETTO:+0100
TZNAME:CET
DTSTART:20241027T010000
END:STANDARD
END:VTIMEZONE
BEGIN:VEVENT
DTSTART;TZID=Europe/Berlin:20230423T140000
DTEND;TZID=Europe/Berlin:20230423T140000
DTSTAMP:20260422T122105
CREATED:20211210T153945Z
LAST-MODIFIED:20211210T154803Z
UID:10050457-1682258400-1682258400@www.livemacher.de
SUMMARY:Bibi Blocksberg - "Alles wie verhext!" Das Musical in Böblingen\, Kongresshalle
DESCRIPTION:Bibi Blocksberg\, die berühmteste kleine Hexe Deutschlands\, geht von 2020 bis 2023 mit ihrem Musical „Alles wie verhext!“ auf große Tournee durch Deutschland\, Österreich und die Schweiz. Zum 40-jährigen Jubiläum der Serie ist das neue Original-COCOMICO Musical landauf\, landab LIVE zu erleben! \nÜberall begeisterte Zuschauer \nVier erfolgreiche Bibi Blocksberg Live-Musicals aus der Feder von Produzent und Autor Marcell Gödde und seinem COCOMICO Theater wurden bereits von 1\,2 Millionen Zuschauern in über 1350 Aufführungen gesehen. \nIn vielen Städten ist nun wieder einfach „Alles wie verhext!“\, wenn Bibi Blocksberg mit ihrem Besen Kartoffelbrei herbeigeflogen kommt. Insgesamt finden von 2020 bis 2023 über 300 Aufführungen vor vielen\, vielen kleinen und großen begeisterten Zuschauerinnen und Zuschauern statt! \nJetzt Tickets sichern \nBibi Blocksberg „Alles wie verhext!“ – Das Musical \nJeder kennt das\, es gibt Tage\, an denen einfach alles schiefläuft! Das fängt morgens schon beim Aufstehen mit dem falschen Fuß an und zieht sich über den ganzen Tag. Dann ist einfach „Alles wie verhext!“. Einen solchen Tag hat auch die kleine\, freche Hexe Bibi Blocksberg erwischt: Schon morgens gibt es ein Riesendurcheinander mit ihren Eltern Barbara und Bernhard Blocksberg zu Hause. Und auch in der Schule will einfach gar nichts klappen. Bibis Lehrerin Frau Müller-Riebensehl bringt das ganz schön auf die Palme! Abends ist dann auch noch Walpurgisnacht auf dem Blocksberg. Dieses Jahr sollen dort Bibi und Barbara Blocksberg zusammen mit Oma Grete das große Hexenfeuer entfachen. Aber was wird Walpurgia\, die Vorsitzende des Hexenrates bloß dazu sagen\, wenn dort auch alles schief läuft? \nDa ist richtig was los! \nWird es den Hexen der Familie Blocksberg an diesem „verhexten“ Tag gelingen\, das Hexenfeuer zur Walpurgisnacht wie vorgesehen zu entzünden? Die kleinen und großen Hexen-Fans im Saal dürfen Bibi\, ihrer Mutter und ihrer Oma sogar dabei helfen\, denn bei diesem Familien-Pop-Musical ist Mitmachen dringend erwünscht – gerne auch verkleidet. Kleine und große Hexen in Kostümen sind herzlich willkommen!  Und wenn mit Hilfe der Kinder und aller Zuschauerinnen und Zuschauer alles gut ausgeht\, wird Karla Kolumna\, die rasende Reporterin aus Neustadt beruhigt schreiben können: Es WAR alles wie verhext. \nMitreißende Inszenierung\, tolle neue Lieder und wieder einmal ganz viel „Hex hex!“ \nDas Bibi Blocksberg-Musical „Alles wie verhext!“\, original und exklusiv vom Cocomico Theater aus Köln: Ein hexischer Spaß für die ganze Familie!
URL:https://www.livemacher.de/event/bibi-blocksberg-alles-wie-verhext-das-musical-in-boeblingen-kongresshalle/
LOCATION:Böblingen\, Kongresshalle\, Ida-Ehre-Platz 1\, Böblingen\, Baden-Württemberg\, 71032\, Deutschland
CATEGORIES:Show
ORGANIZER;CN="Livemacher GmbH":MAILTO:info@livemacher.de
END:VEVENT
BEGIN:VEVENT
DTSTART;TZID=Europe/Berlin:20221211T190000
DTEND;TZID=Europe/Berlin:20221211T190000
DTSTAMP:20260422T122105
CREATED:20210601T124256Z
LAST-MODIFIED:20221209T163851Z
UID:10050202-1670785200-1670785200@www.livemacher.de
SUMMARY:Matze Knop "Mut zur Lücke" in Böblingen\, Kongresshalle
DESCRIPTION:Termin ersatzlos abgesagt                            \n                            \n                        \n                        \n                        \n                        \n                                                Die Veranstaltung wurde ersatzlos abgesagt. Die für Sonntag\, den 11.12.2022 angesetzte Veranstaltung 'Mut zur Lücke' in der Kongresshalle in Böblingen\, wurde aus organisatorischen Gründen ersatzlos abgesagt. Die für diese Veranstaltung erworbenen Tickets können bei der Vorverkaufsstelle\, bei der Sie diese Tickets erworben haben\, zurückgegeben werden und Sie bekommen Ihr Geld erstattet. \n                        \n                        \n                        \n                                        \n                    \n                \n            \n        \n\n    \n    \n\n\nIm deutschen Comedy-Business hat Matze Knop den wahrscheinlich Größten …\nAbstand zwischen seinen Schneidezähnen natürlich!\nUnd ausgerechnet diese Zahnlücke hat ihn jetzt zum Titel seines neuen Live-Programms inspiriert: „Mut zur Lücke“. \nJetzt Tickets sichern! \nDort nimmt er die Absurditäten des Alltags\, die Tücken der Technik und die Peinlichkeiten von Promis und Politikern scharfsinnig auf die Schippe und liefert erneut ein großartiges Live-Entertainment-Programm.\nNatürlich dürfen auch Matzes Kult-Parodien nicht fehlen. Fußballstar Christiano Ronaldo\, Bundestrainer Jogi Löw\, der Kult-Kloppo\, Dieter Bohlen und viele weitere prominente Persönlichkeiten werden im neuen Programm mit dabei sein. Und auch für die Live-Show gilt für Matze: „Mut zur Lücke“! Wer eine minutiös durchgeplante Show erwartet\, liegt hier falsch. Den Zuschauer erwarten Improvisation und viele Überraschungen während der Show. \nAuf Regenwetter\, Pandemie-Generve\, Fake News\, schlecht gelaunte Menschen und überteuerte Teesorten á la Instagram kann Matze gut verzichten. Mut zur eigenen Lücke\, viel Humor und eine positive Grundeinstellung lautet seine Devise! Denn: Niemand ist perfekt! Und das ist auch gut so. \nIn vielen Bereichen des Lebens gilt: „Weniger ist mehr“.\nIn der deutschen Rechtschreibung ist dieses Motto schon an der Tagesordnung. Die neue Rechtschreibreform der Jugend in WhatsApp und Co. lautet „GrammatikTOK“. Hier ist die Wahl des Hashtags deutlich wichtiger\, als die Verwendung von Satzzeichen.\n„Bestimmte Artikel“ findet man hier nur noch im eigenen Amazon-Warenkorb. \nUnd wieso nicht mal ohne Navigationssystem zu Omma Erna nach Wanne-Eickel fahren? Oder glaubt ihr\, dass James Cook und Kolumbus etwa mit Google Maps losgeschippert sind?\nNa also – auf zu neuen Abenteuern!
URL:https://www.livemacher.de/event/matze-knop-mut-zur-lu%cc%88ckeboeblingen-kongresshalle/
LOCATION:Böblingen\, Kongresshalle\, Ida-Ehre-Platz 1\, Böblingen\, Baden-Württemberg\, 71032\, Deutschland
CATEGORIES:Bühne
ORGANIZER;CN="Livemacher GmbH":MAILTO:info@livemacher.de
END:VEVENT
BEGIN:VEVENT
DTSTART;TZID=Europe/Berlin:20221030T140000
DTEND;TZID=Europe/Berlin:20221030T140000
DTSTAMP:20260422T122105
CREATED:20210924T082812Z
LAST-MODIFIED:20210924T083127Z
UID:10049837-1667138400-1667138400@www.livemacher.de
SUMMARY:Conni - Das Zirkus-Musical! in Böblingen\, Kongresshalle
DESCRIPTION:Das Cocomico-Musical „Conni – Das Zirkus-Musical!“ geht auf große Tournee! \nConni hat am Wochenende etwas ganz Besonderes vor: Zusammen mit ihren Freunden Julia und Simon steht eine große Zirkus-Aufführung in der KiTa bevor\, vorher soll dort auch noch übernachtet werden. Bis zur Aufführung geht allerdings so einiges schief\, und sogar Connis Eltern müssen bei der Zirkus-Aufführung einspringen. Und welche Rolle spielt Connis Kater Mau\, um das großartige Event zu retten? \nFür Conni\, ihre Familie\, ihre Freunde und all ihre kleinen und großen Zuschauer wird es in diesem Zirkus-Musical-Abenteuer nie langweilig. Es ist immer etwas los\, und Conni hat viel Spaß\, auch wenn es einige Probleme zu lösen gilt. Denn sie hat ja Rückhalt durch all ihre vielen Zuschauer\, von ihren Freunden Julia und Simon\, von Mama und Papa Klawitter\, und sogar von ihrem geliebten Kater Mau! \nJetzt Tickets sichern! \nFrei nach dem Motto „Was Conni kann – das könnt ihr auch!“ werden die Musicalbesucher zum Teil der Inszenierung und können Conni und ihren Freunden helfen\, das Zirkus-Musical-Abenteuer zu meistern und über sich hinaus zu wachsen. \nHeraus kommt ein Musicalspaß für Jung und Alt\, zum Mitmachen\, Mitlachen und Miterleben\, mit vielen tollen Songs und ganz viel Charme! \n„Conni – Das Zirkus-Musical“: einzigartig und besonders\, exklusiv vom Cocomico Theater auf großer Tournee! \nConni zählt zu den beliebtesten Kinderbuchfiguren und begeistert seit knapp drei Jahrzehnten Kinder ab drei Jahren. Für ihre jungen Leser ist Conni eine Art „beste Freundin“\, die genau wie sie die verschiedensten Situationen des Alltags meistert. Weit über hundert verschiedene Conni-Bücher sind in den vergangenen vielen Jahren erschienen. Conni ist zudem ein Dauerbrenner auf Kassette\, CD und DVD\, im Fernsehen und auch im Kino! \nDie Cocomico-Conni-Musicals begeisterten weit über 500.000 kleine und große Besucher! Die Presse jubelt: „Großes Theater für kleine Leute!“ – „Riesenapplaus von begeisterten Kids!“
URL:https://www.livemacher.de/event/conni-das-zirkus-musical-in-boeblingen-kongresshalle/
LOCATION:Böblingen\, Kongresshalle\, Ida-Ehre-Platz 1\, Böblingen\, Baden-Württemberg\, 71032\, Deutschland
CATEGORIES:Show
ATTACH;FMTTYPE=image/jpeg:https://www.livemacher.de/wp-content/uploads/2021/08/web_LM_20221030_BOEB_Conni_1600x1600.jpg
ORGANIZER;CN="Livemacher GmbH":MAILTO:info@livemacher.de
END:VEVENT
BEGIN:VEVENT
DTSTART;TZID=Europe/Berlin:20221002T190000
DTEND;TZID=Europe/Berlin:20221002T190000
DTSTAMP:20260422T122105
CREATED:20210623T095950Z
LAST-MODIFIED:20220820T080043Z
UID:10050329-1664737200-1664737200@www.livemacher.de
SUMMARY:Götz Alsmann: "L.I.E.B.E."Böblingen\, Kongresshalle
DESCRIPTION:Termin ersatzlos abgesagt                            \n                            \n                        \n                        \n                        \n                        \n                                                Die für Sonntag\, den 02.10.2022 angesetzte Veranstaltung „Götz-Alsmann - 'L.I.E.B.E' " in der Kongresshalle in Böblingen wurde ersatzlos abgesagt.  Die für diese Veranstaltung erworbenen Tickets können bei der Vorverkaufsstelle\, bei der Sie diese Tickets erworben haben\, zurückgegeben werden und Sie bekommen Ihr Geld erstattet. \n                        \n                        \n                        \n                    \n                \n            \n        \n\n    \n    \n\n\nGÖTZ ALSMANN: L.I.E.B.E. \nGötz Alsmann singt Lieder der Liebe. Tut er das nicht immer? Eigentlich ja.\nAber nach seinen musikalischen Ausflügen nach Paris\, New York und Rom\, jeweils dokumentiert durch preisgekrönte Alben und über 700 Konzerte in den letzten neun Jahren\, widmet sich der König des Jazzschlagers wieder den Werken der großen Komponisten und Texter des deutschen Sprachraums. Deren Spezialität waren schon immer Liebeslieder – romantisch und zart\, verträumt und verrucht – aber auch draufgängerisch und wild. \nJetzt Tickets sichern! \nGanz gleich\, ob es sich dabei um Werke aus der Zeit der „silbernen Operette“ der 20er und 30er Jahre handelt\, um Chansons der Nachkriegszeit oder um Preziosen aus der Schlagerwelt der 50er und 60er Jahre – all’ diese Klassiker werden im typischen Sound der Götz Alsmann Band mithilfe der Arrangements ihres Bandleaders behutsam in die Welt des Jazz überführt und beweisen dadurch ihren Charme\, ihre Eleganz\, ihren Humor und ihre zeitlose Qualität. \nDie Band\, die Götz Alsmann bei den Konzerten zur Seite steht\, besteht aus Musikern\, die zum größten Teil seit Jahrzehnten zum Ensemble gehören.\nBei buchstäblich Tausenden von Konzerten haben sie an Alsmanns immerwährendem Einsatz für den Jazzschlager teilgenommen.\nIhr Platz in der Musikgeschichte ist ihnen sicher. \nSie erleben: \nGötz Alsmann (Gesang\, Piano und mehr)\nAltfrid M. Sicking (Vibraphon\, Xylophon und mehr)\nIngo Senst (Kontrabass)\nDominik Hahn (Schlagzeug)\nMarkus Paßlick (Congas\, Bongos\, Percussion) \nGötz Alsmann singt Lieder der Liebe – zu Recht!
URL:https://www.livemacher.de/event/goetz-alsmann-l-i-e-b-e-boeblingen-kongresshalle/
LOCATION:Böblingen\, Kongresshalle\, Ida-Ehre-Platz 1\, Böblingen\, Baden-Württemberg\, 71032\, Deutschland
CATEGORIES:Bühne
ORGANIZER;CN="Livemacher GmbH":MAILTO:info@livemacher.de
END:VEVENT
END:VCALENDAR