BEGIN:VCALENDAR
VERSION:2.0
PRODID:-//Livemacher GmbH - ECPv6.15.20//NONSGML v1.0//EN
CALSCALE:GREGORIAN
METHOD:PUBLISH
X-ORIGINAL-URL:https://www.livemacher.de
X-WR-CALDESC:Veranstaltungen für Livemacher GmbH
REFRESH-INTERVAL;VALUE=DURATION:PT1H
X-Robots-Tag:noindex
X-PUBLISHED-TTL:PT1H
BEGIN:VTIMEZONE
TZID:Europe/Berlin
BEGIN:DAYLIGHT
TZOFFSETFROM:+0100
TZOFFSETTO:+0200
TZNAME:CEST
DTSTART:20140330T010000
END:DAYLIGHT
BEGIN:STANDARD
TZOFFSETFROM:+0200
TZOFFSETTO:+0100
TZNAME:CET
DTSTART:20141026T010000
END:STANDARD
BEGIN:DAYLIGHT
TZOFFSETFROM:+0100
TZOFFSETTO:+0200
TZNAME:CEST
DTSTART:20150329T010000
END:DAYLIGHT
BEGIN:STANDARD
TZOFFSETFROM:+0200
TZOFFSETTO:+0100
TZNAME:CET
DTSTART:20151025T010000
END:STANDARD
BEGIN:DAYLIGHT
TZOFFSETFROM:+0100
TZOFFSETTO:+0200
TZNAME:CEST
DTSTART:20160327T010000
END:DAYLIGHT
BEGIN:STANDARD
TZOFFSETFROM:+0200
TZOFFSETTO:+0100
TZNAME:CET
DTSTART:20161030T010000
END:STANDARD
BEGIN:DAYLIGHT
TZOFFSETFROM:+0100
TZOFFSETTO:+0200
TZNAME:CEST
DTSTART:20170326T010000
END:DAYLIGHT
BEGIN:STANDARD
TZOFFSETFROM:+0200
TZOFFSETTO:+0100
TZNAME:CET
DTSTART:20171029T010000
END:STANDARD
BEGIN:DAYLIGHT
TZOFFSETFROM:+0100
TZOFFSETTO:+0200
TZNAME:CEST
DTSTART:20180325T010000
END:DAYLIGHT
BEGIN:STANDARD
TZOFFSETFROM:+0200
TZOFFSETTO:+0100
TZNAME:CET
DTSTART:20181028T010000
END:STANDARD
BEGIN:DAYLIGHT
TZOFFSETFROM:+0100
TZOFFSETTO:+0200
TZNAME:CEST
DTSTART:20190331T010000
END:DAYLIGHT
BEGIN:STANDARD
TZOFFSETFROM:+0200
TZOFFSETTO:+0100
TZNAME:CET
DTSTART:20191027T010000
END:STANDARD
BEGIN:DAYLIGHT
TZOFFSETFROM:+0100
TZOFFSETTO:+0200
TZNAME:CEST
DTSTART:20200329T010000
END:DAYLIGHT
BEGIN:STANDARD
TZOFFSETFROM:+0200
TZOFFSETTO:+0100
TZNAME:CET
DTSTART:20201025T010000
END:STANDARD
BEGIN:DAYLIGHT
TZOFFSETFROM:+0100
TZOFFSETTO:+0200
TZNAME:CEST
DTSTART:20210328T010000
END:DAYLIGHT
BEGIN:STANDARD
TZOFFSETFROM:+0200
TZOFFSETTO:+0100
TZNAME:CET
DTSTART:20211031T010000
END:STANDARD
BEGIN:DAYLIGHT
TZOFFSETFROM:+0100
TZOFFSETTO:+0200
TZNAME:CEST
DTSTART:20220327T010000
END:DAYLIGHT
BEGIN:STANDARD
TZOFFSETFROM:+0200
TZOFFSETTO:+0100
TZNAME:CET
DTSTART:20221030T010000
END:STANDARD
END:VTIMEZONE
BEGIN:VEVENT
DTSTART;TZID=Europe/Berlin:20210815T200000
DTEND;TZID=Europe/Berlin:20210815T200000
DTSTAMP:20260422T133409
CREATED:20190902T125816Z
LAST-MODIFIED:20210730T110919Z
UID:10049067-1629057600-1629057600@www.livemacher.de
SUMMARY:Dui do on de Sell & Hansy Vogt - "Ein badisch – schwäbisches Freundschaftsspiel" Besigheim\, Openair Keltervorplatz
DESCRIPTION:Terminverlegung                            \n                            \n                        \n                        \n                        \n                        \n                                                Die Veranstaltung wurde auf Grund einer behördlichen Anordnung verschoben. Das für Samstag\, den 01.08.2020 angesetzte Openair "Dui Do on de Sell + Hansy Vogt" in Besigheim auf dem Keltervorplatz wurde aus oben genannten Gründen auf Sonntag\, den 15.08.2021 verlegt. Für die ursprüngliche Veranstaltung erworbene Tickets behalten Ihre Gültigkeit. \n                        \n                        \n                        \n                    \n                \n            \n        \n\n    \n    \n\n\n\n\n    \n\n    \n        \n            \n\n                \n                \n                \n                                \n                    \n                                            \n                    \n                \n                                        \n                    \n                        \n                                                \n\n                                                            3G Hygienekonzept                            \n                            \n                        \n                        \n                        \n                        \n                                                \nDer Nachweis einer Impfung\, Genesung oder eines negativen Testergebnisses muss vorgelegt werden.\nDie Maskenpflicht während der Veranstaltung entfällt\, jedoch nicht für die Innenräume auf dem Weg zur Toilette.\nDie allgemein gültigen Hygieneregelungen gelten weiterhin.\nDie Kontaktdaten der Besucher werden am Einlass registriert. \nDie Veranstaltungen finden mit begrenzter Besucherzahl statt.\n\n                        \n                        \n                        \n                                        \n                    \n                                    \n                \n                \n            \n        \n\n    \n    \n\n\nAuch wenn es so manche Unterschiede zwischen Badenern und Schwaben zu geben scheint – gemeinsam\, herzhaft lachen verbindet!  \nMit ihrem Sommerspecial feiern Dui do on de Sell\, alias Petra Binder und Doris Reichenauer und Hansy Vogt mit viel Humor eine besondere Freundschaft zwischen Badenern und Schwaben.  \nJetzt Tickets sichern! \nDie schlagfertigen Powerfrauen Dui do on de Sell gehören zu den beliebtesten Kabarett-Stars im Ländle. Den süddeutschen Feingeist karikieren die wortgewaltigen Powerfrauen überspitzt und schlagfertig. Ob Badener oder Schwabe – das Publikum erkennt sich gnadenlos selbst und brüllt vor Lachen. An diesem Abend präsentieren die zwei Schwertgoschen die Lieblings-Szenen ihrer Zuschauer aus über 16 Jahren Kabarett.  \nMit viel Charme\, seiner natürlich frischen Art und intelligentem Sprachwitz sorgt der sympathische Badener Hansy Vogt für beste abwechslungsreiche Unterhaltung. Ob mit oder ohne seine beliebten Puppen – Hansy Vogt begeistert sein Publikum seit über 20 Jahren. Fingerspitzengefühl und seine unglaubliche Spontaneität\, sorgen für humoristische individuelle Überraschungsmomente.  \nGemeinsam zünden\, die drei befreundeten Künstler\, ein geniales badisch-schwäbisches Comedy-Feuerwerk\, das schlagfertiger und authentischer nicht sein könnte. Da bleibt kein Auge trocken. 
URL:https://www.livemacher.de/event/dui-do-on-de-sell-hansy-vogt-ein-badisch-schwaebisches-freundschaftsspiel-besigheim-openair-keltervorplatz/
LOCATION:Besigheim\, Kelterplatz (Open Air)\, Hauptstraße 57\, Besigheim\, Baden-Württemberg\, 74354\, Deutschland
CATEGORIES:Bühne
ORGANIZER;CN="Livemacher GmbH":MAILTO:info@livemacher.de
GEO:49.0007831;9.1395337
X-APPLE-STRUCTURED-LOCATION;VALUE=URI;X-ADDRESS=Besigheim Kelterplatz (Open Air) Hauptstraße 57 Besigheim Baden-Württemberg 74354 Deutschland;X-APPLE-RADIUS=500;X-TITLE=Hauptstraße 57:geo:9.1395337,49.0007831
END:VEVENT
BEGIN:VEVENT
DTSTART;TZID=Europe/Berlin:20210814T200000
DTEND;TZID=Europe/Berlin:20210814T200000
DTSTAMP:20260422T133409
CREATED:20190902T130437Z
LAST-MODIFIED:20210730T111041Z
UID:10049069-1628971200-1628971200@www.livemacher.de
SUMMARY:Best of Queen live Besigheim\, Openair Keltervorplatz
DESCRIPTION:Terminverlegung                            \n                            \n                        \n                        \n                        \n                        \n                                                Die Veranstaltung wurde auf Grund einer behördlichen Anordnung verschoben. Das für Sonntag\, den 02.08.2020 angesetzte Openair "Best of Queen live" in \nBesigheim auf dem Keltervorplatz wurde aus oben genannten Gründen auf Samstag\, den 14.08.2021 verlegt. Für die ursprüngliche Veranstaltung erworbene Tickets behalten Ihre Gültigkeit. \n                        \n                        \n                        \n                    \n                \n            \n        \n\n    \n    \n\n\n\n\n    \n\n    \n        \n            \n\n                \n                \n                \n                                \n                    \n                                            \n                    \n                \n                                        \n                    \n                        \n                                                \n\n                                                            3G Hygienekonzept                            \n                            \n                        \n                        \n                        \n                        \n                                                \nDer Nachweis einer Impfung\, Genesung oder eines negativen Testergebnisses muss vorgelegt werden.\nDie Maskenpflicht während der Veranstaltung entfällt\, jedoch nicht für die Innenräume auf dem Weg zur Toilette.\nDie allgemein gültigen Hygieneregelungen gelten weiterhin.\nDie Kontaktdaten der Besucher werden am Einlass registriert. \nDie Veranstaltungen finden mit begrenzter Besucherzahl statt.\n\n                        \n                        \n                        \n                                        \n                    \n                                    \n                \n                \n            \n        \n\n    \n    \n\n\nQUEEN ist eine der erfolgreichsten und wichtigsten Bands des Rockgenre. Allein das letzte QUEEN-Album „Made in Heaven“ erreichte weltweit 5 mal Gold\, 10 mal Platin\, 4 mal Doppelplatin. Mit mehr als 20 LP- und CD Veröffentlichungen und über 40 Single Auskopplungen\, prägte QUEEN 20 Jahre lang die Rockgeschichte. Nach dem Tod des Sängers Freddie Mercury\, machten es sich fünf Musiker aus dem Düsseldorfer Raum zur Aufgabe\, die phantastische Atmosphäre der legendären QUEEN-Konzerte weiter leben zu lassen. \nJetzt Tickets sichern! \nUnter dem Namen QUEEN REVIVAL BAND wurde dieses Projekt bereits 1993 gegründet und war somit die erste professionelle QUEEN LIVE SHOW in Deutschland. Durch die Zusammenarbeit mit dem Leadsänger und Freddie Double Harry Rose\, der seit 1999 zur Band gehört\, ist diese Formation perfekt besetzt. Rose ist durch seine Stimmgewalt und sein Charisma wie geschaffen für diese Rolle. \nSein sportliches Auftreten in originalgetreuen Kostümen bringt seine Darbietung auch optisch täuschend nah ans Original. Die Protagonisten Harry Rose als Freddie Mercury und Stefan Pfeiffer als Brian May\, sind durch ihre verblüffende Ähnlichkeit von ihren Vorbildern kaum zu unterscheiden. Die weiteren Mitglieder der Band spielten schon Jahre vor der Gründung der Queen Revival Band zusammen. Das erklärt die musikalische Einheit\, die bei den Konzerten jeden Zuhörer fasziniert. Die bis ins letzte Detail gecoverten Queen-Songs werden mit dem gewohnt wuchtigen Queen-Sound nahezu perfekt dargeboten. Sogar die Instrumente und Gitarrenverstärker\, sowie zahlreiche Requisiten\, entsprechen den Originalen. Weiter steht bei jedem Konzert der Q-REVIVAL BAND die Einbindung des Publikums stark im Vordergrund der Show. Durch eine spektakuläre Live-Show\, mit originalgetreuem Bühnenaufbau\, überzeugt die Q-REVIVAL BAND nicht nur musikalisch\, sondern auch optisch. Zeugen hierfür gibt es nicht nur in Deutschland. Durch brillante Shows in Italien\, Schweiz\, Österreich\, Dänemark\, Holland\, Frankreich\, Schottland und natürlich Deutschland\, ist diese Formation zur besten Queen Coverband Europas gereift. \nDiese Voraussetzungen und Qualitäten der Q- REVIVAL BAND hat bis heute keine andere Queen-coverband zu bieten\, obwohl das Konzept der Q-REVIVAL BAND oft kopiert\, aber nie erreicht wurde.
URL:https://www.livemacher.de/event/best-of-queen-live-besigheim-openair-keltervorplatz/
LOCATION:Besigheim\, Kelterplatz (Open Air)\, Hauptstraße 57\, Besigheim\, Baden-Württemberg\, 74354\, Deutschland
CATEGORIES:Jazz-Pop-Rock,Show
ORGANIZER;CN="Livemacher GmbH":MAILTO:info@livemacher.de
GEO:49.0007831;9.1395337
X-APPLE-STRUCTURED-LOCATION;VALUE=URI;X-ADDRESS=Besigheim Kelterplatz (Open Air) Hauptstraße 57 Besigheim Baden-Württemberg 74354 Deutschland;X-APPLE-RADIUS=500;X-TITLE=Hauptstraße 57:geo:9.1395337,49.0007831
END:VEVENT
BEGIN:VEVENT
DTSTART;TZID=Europe/Berlin:20180812T200000
DTEND;TZID=Europe/Berlin:20180812T200000
DTSTAMP:20260422T133409
CREATED:20180119T080554Z
LAST-MODIFIED:20191202T085841Z
UID:10048835-1534104000-1534104000@www.livemacher.de
SUMMARY:OPEN AIR - SUPER TROUPER das ABBA Sommer-Konzert Besigheim
DESCRIPTION:Wenn Sie die Songs von ABBA in höchster Annäherung ans Original hören wollen\, sind Sie hier richtig. Es erwartet Sie eine tolle Bühenshow mit allen Hits von ABBA. Die Darbietung ist zu 100% live. Es werden keinerlei Zuspielungen oder Playback-Techniken verwendet. Das Repertoire von ABBA World Revival umfasst mehr als 30 der bekanntesten Songs der legendären schwedischen Mega-Band der 70er Jahre. \n10 Profimusiker haben sich zusammengetan\, um die Musik von ABBA\, die sie alle lieben und bewundern\, zu spielen und zu singen. \nDie Live Show bietet nicht nur höchste Perfektion in musikalischer Hinsicht\, auch die Bühnenshow\, die Kostüme und die Bühnen Choreographie sind auf höchstem Niveau und dem Original perfekt nachempfunden. \nExtravagante Kostüme und eine mit Tanzeinlagen und Lichteffekten angereicherte Bühnenshow\, aber das sind nur schmückende Elemente am Rande. Im Mittelpunkt steht die zeitlose Musik von ABBA\, in allen ihren Facetten von der treibenden Disco-Nummer\, bei der man spontan aufspringt und mittanzt\, bis zur anrührenden Ballade\, die das Publikum mäuschenstill werden und die Feuerzeuge zücken lässt. \nABBA WORLD REVIVAL ist eine Band\, der man anmerkt\, dass sie die Musik von ABBA liebt. Genießen Sie ihre Show SUPER TROUPER unter freiem Sommerhimmel!
URL:https://www.livemacher.de/event/open-air-super-trouper-das-abba-sommer-konzert/
LOCATION:Besigheim\, Kelterplatz (Open Air)\, Hauptstraße 57\, Besigheim\, Baden-Württemberg\, 74354\, Deutschland
CATEGORIES:Jazz-Pop-Rock,Show
ATTACH;FMTTYPE=image/jpeg:https://www.livemacher.de/wp-content/uploads/2018/01/MAP_1948.jpg
ORGANIZER;CN="Livemacher GmbH":MAILTO:info@livemacher.de
GEO:49.0007831;9.1395337
X-APPLE-STRUCTURED-LOCATION;VALUE=URI;X-ADDRESS=Besigheim Kelterplatz (Open Air) Hauptstraße 57 Besigheim Baden-Württemberg 74354 Deutschland;X-APPLE-RADIUS=500;X-TITLE=Hauptstraße 57:geo:9.1395337,49.0007831
END:VEVENT
BEGIN:VEVENT
DTSTART;TZID=Europe/Berlin:20180811T200000
DTEND;TZID=Europe/Berlin:20180811T200000
DTSTAMP:20260422T133409
CREATED:20180119T074635Z
LAST-MODIFIED:20191202T085845Z
UID:10048834-1534017600-1534017600@www.livemacher.de
SUMMARY:OPEN AIR - 7 Schwaben Comedy Besigheim
DESCRIPTION:SCHWABENCOMEDY at it’s best! \nDie schlagfertigen Powerfrauen Dui do on de Sell gehören zu den beliebtesten Kabarett-Stars im Ländle und lassen sie ihr Publikum „brüllen“ vorlachen. In dem Spezialprogramm präsentieren die zwei Schwertgoschen die Lieblings-Szenen ihrer Zuschauer aus über 15 Jahren Kabarett – von ihren ersten Rollen als Karlene und Mariele über das Erfolgsprogramm „Wechseljahre“ bis hin zu „Reg mi net uf“. \nDie Schrillen Fehlaperlen begeistern mit Wortwitz\, schrillen Outfits und derb-schwäbischen Liedern\, von denen viele ihr Publikum noch lange danach als absolute Ohrwürmer begleiten. Ihr Hit „mir roichts\, dass i woiß\, dass i kennt\, wenn i wed“ ist in aller Munde und der absolute Erfolgstitel in fast jedem Whatsapp-Achriv. \nGemeinsam zünden die 7 Schwaben ein geniales schwäbisches Comedy-Feuerwerk\, dass schlagfertiger und authentischer nicht sein könnte. Da bleibt kein Auge trocken.
URL:https://www.livemacher.de/event/open-air-7-schwaben-comedy/
LOCATION:Besigheim\, Kelterplatz (Open Air)\, Hauptstraße 57\, Besigheim\, Baden-Württemberg\, 74354\, Deutschland
CATEGORIES:Bühne
ATTACH;FMTTYPE=image/jpeg:https://www.livemacher.de/wp-content/uploads/2018/01/Plakat_A3_Music_Factory_final_gold.jpg
ORGANIZER;CN="Livemacher GmbH":MAILTO:info@livemacher.de
GEO:49.0007831;9.1395337
X-APPLE-STRUCTURED-LOCATION;VALUE=URI;X-ADDRESS=Besigheim Kelterplatz (Open Air) Hauptstraße 57 Besigheim Baden-Württemberg 74354 Deutschland;X-APPLE-RADIUS=500;X-TITLE=Hauptstraße 57:geo:9.1395337,49.0007831
END:VEVENT
BEGIN:VEVENT
DTSTART;TZID=Europe/Berlin:20170709T190000
DTEND;TZID=Europe/Berlin:20170709T190000
DTSTAMP:20260422T133409
CREATED:20180201T105817Z
LAST-MODIFIED:20191202T090218Z
UID:10048922-1499626800-1499626800@www.livemacher.de
SUMMARY:OPEN AIR - The Fabulous Music Factory "Stars in Las Vegas" Besigheim
DESCRIPTION:Erleben Sie eine Reise durch Raum und Zeit der Musikgeschichte mit „STARS IN LAS VEGAS“. Die einzigartige und grandiose “Las Vegas Gala Show“ \nMichael Jackson\, die Blues Brothers\, PINK\, ABBA\, Lady Gaga\, Elvis\, Kiss\, Falco\, Tina Turner\, Beyonce\, Elton John\, Queen\, Kiss\, AC/DC und viele mehr live und in Farbe! \nDie FABULOUS MUSIC FACTORY bietet Ihnen beste Unterhaltung und eine grandiose Bühnenshow. Wir garantieren einen Abend voller energiegeladener Bühnenperformance und visuellem Hochgenuss. Mehr als 200 originalgetreue Kostüme machen diese Show einzigartig und bringen die größten Stars der letzten fünf Dekaden zurück auf Ihre Bühne. \nShowmaster „Garry Grand“ führt als interaktiver Entertainer stilecht und dynamisch durch die große Las Vegas Show. Begleitet wird die Show von langjährig erfahrenen Profimusikern\, die über weltweite Erfahrung im Tour- und Showgeschäft verfügen und diese\, sowie ihre unbändige Spielfreude beisteuern. Lassen Sie sich begeistern und mitreisen und nehmen Sie platz auf unserer großen Showbühne \nFEEL FABULOUS – FEEL VEGAS
URL:https://www.livemacher.de/event/open-air-the-fabulous-music-factory-stars-in-las-vegas-besigheim/
LOCATION:Besigheim\, Kelterplatz (Open Air)\, Hauptstraße 57\, Besigheim\, Baden-Württemberg\, 74354\, Deutschland
CATEGORIES:Jazz-Pop-Rock,Show
ATTACH;FMTTYPE=image/jpeg:https://www.livemacher.de/wp-content/uploads/2018/01/FMF-Pressefoto-1-las-vegas.jpg
ORGANIZER;CN="Livemacher GmbH":MAILTO:info@livemacher.de
GEO:49.0007831;9.1395337
X-APPLE-STRUCTURED-LOCATION;VALUE=URI;X-ADDRESS=Besigheim Kelterplatz (Open Air) Hauptstraße 57 Besigheim Baden-Württemberg 74354 Deutschland;X-APPLE-RADIUS=500;X-TITLE=Hauptstraße 57:geo:9.1395337,49.0007831
END:VEVENT
BEGIN:VEVENT
DTSTART;TZID=Europe/Berlin:20170708T190000
DTEND;TZID=Europe/Berlin:20170708T190000
DTSTAMP:20260422T133409
CREATED:20180201T105836Z
LAST-MODIFIED:20191202T090224Z
UID:10048923-1499540400-1499540400@www.livemacher.de
SUMMARY:OPEN AIR - Christoph Sonntag "Bloß kein Trend verpennt!" Besigheim
DESCRIPTION:Das SWR-Fernsehen zeigt den Vorzeigekabarettisten Baden-Württembergs regelmäßig von seiner besten\, satirischen Seite\, und in Deutschlands beliebtestem Radiosender\, SWR3\, wird seine neue Erfolgscomedy. \n»Bloß kein Trend verpennt!« rauf und runter gespielt. Und das gibt es jetzt auch zu sehen: Christoph Sonntag gibt in seiner neuen\, fulminanten Liveshow den »Trend-Jägermeister«! Jeden Tag wird ein neuer Trend durchs Dorf und durch die Stadt gejagt. Der neue Trend muss dabei nicht besser sein\, sondern nur »trendy«. Quasi ein: »Must-have!« \nDamit wir alle »in« bleiben\, rennt Christoph Sonntag für uns jedem Trend hinterher und checkt ihn ab\, auf Zeitgeist\, Hip – und Coolness. Das ist entlarvend\, meist peinlich für den Trend und immer zum Totlachen. Denn am Schluss hat Sonntag den vermeintlichen Megatrend so witzverwurstelt\, dass er sich stets als ganz ganz kleines »Must-have-le« entlarvt.
URL:https://www.livemacher.de/event/open-air-christoph-sonntag-bloss-kein-trend-verpennt-besigheim/
LOCATION:Besigheim\, Kelterplatz (Open Air)\, Hauptstraße 57\, Besigheim\, Baden-Württemberg\, 74354\, Deutschland
CATEGORIES:Bühne
ATTACH;FMTTYPE=image/jpeg:https://www.livemacher.de/wp-content/uploads/2018/02/AZNZ_Christoph_Sonntag2.jpg
ORGANIZER;CN="Livemacher GmbH":MAILTO:info@livemacher.de
GEO:49.0007831;9.1395337
X-APPLE-STRUCTURED-LOCATION;VALUE=URI;X-ADDRESS=Besigheim Kelterplatz (Open Air) Hauptstraße 57 Besigheim Baden-Württemberg 74354 Deutschland;X-APPLE-RADIUS=500;X-TITLE=Hauptstraße 57:geo:9.1395337,49.0007831
END:VEVENT
BEGIN:VEVENT
DTSTART;TZID=Europe/Berlin:20150809T190000
DTEND;TZID=Europe/Berlin:20150809T190000
DTSTAMP:20260422T133409
CREATED:20180201T111021Z
LAST-MODIFIED:20191202T090344Z
UID:10049053-1439146800-1439146800@www.livemacher.de
SUMMARY:OPEN AIR - Graceland "A Tribute to Simon & Garfunkel" Besigheim
DESCRIPTION:Mit Liedern wie „The Sound of Silence“ und „Cecilia“ schufen Simon & Garfunkel poetische Hymnen für eine ganze Generation. „Mrs. Robinson“ wurde 1969 weltberühmt durch den US-amerikanischen Spielfilm „Die Reifeprüfung“. 1968 schrieb das US-amerikanische Duo mit „The Boxer“ ein hochemotionales Loblied auf einen Überlebenskünstler. Als Botschaft der Hoffnung ging zwei Jahre später mit „Bridge Over Troubled Water“ eine Komposition von schlichter Schönheit in die Musikgeschichte ein. \nSeit einigen Jahren spürt das Duo Graceland dem musikalischen Geist seiner Vorbilder intensiv nach und tourt mit dem Programm „A Tribute to Simon & Garfunkel“ überaus erfolgreich durch die Republik. In ihrem aktuellen Projekt beweisen Thomas Wacker (Paul Simon) und Thorsten Gary (Art Garfunkel) eindrücklich: Die unzähligen Klassiker des wohl erfolgreichsten Folkrock-Duos der Welt harmonieren perfekt mit dem unverkennbaren Klang eines klassischen Streichensembles.
URL:https://www.livemacher.de/event/open-air-graceland-a-tribute-to-simon-garfunkel-besigheim/
LOCATION:Besigheim\, Kelterplatz (Open Air)\, Hauptstraße 57\, Besigheim\, Baden-Württemberg\, 74354\, Deutschland
CATEGORIES:Jazz-Pop-Rock
ATTACH;FMTTYPE=image/jpeg:https://www.livemacher.de/wp-content/uploads/2018/02/graceland2.jpg
ORGANIZER;CN="Livemacher GmbH":MAILTO:info@livemacher.de
GEO:49.0007831;9.1395337
X-APPLE-STRUCTURED-LOCATION;VALUE=URI;X-ADDRESS=Besigheim Kelterplatz (Open Air) Hauptstraße 57 Besigheim Baden-Württemberg 74354 Deutschland;X-APPLE-RADIUS=500;X-TITLE=Hauptstraße 57:geo:9.1395337,49.0007831
END:VEVENT
BEGIN:VEVENT
DTSTART;TZID=Europe/Berlin:20150809T190000
DTEND;TZID=Europe/Berlin:20150809T190000
DTSTAMP:20260422T133409
CREATED:20180201T110758Z
LAST-MODIFIED:20191202T090348Z
UID:10049051-1439146800-1439146800@www.livemacher.de
SUMMARY:OPEN AIR - MundARTmonika Besigheim
DESCRIPTION:„Vier Stimmen und vier Männer“\, das ist das Motto der Neckarsulmer a cappella-Band mundARTmonika\, die sich seit ihrer Gründung vor 7 Jahren weit über die Region hinaus einen Namen gemacht hat. Für Galaauftritte wurden die vier Nachwuchskünstler unter anderem zum Unternehmensjubiläum 100 Jahre Audi AG gebucht\, vom Goethe-Institut Tokio in die Deutsche Botschaft in Japan eingeladen und sind regelmäßig bei den beiden Festivals Haigern Live und auf dem Gaffenberg mit von der Partie. \nTimo Mühlbacher (Countertenor)\, Robert Wanek (Tenor)\, Christian Schmierer (Bariton) und Lukas Fluhr (Bass) interpretieren nur mit ihren Stimmen Rock- und Popklassiker wie „Papa was a rolling stone“\, „Nothing else matters“\, aber auch viele deutsche Eigenkompositionen. Mit ihrem Musikstil\, den sie selbst als „Vocal Pop Comedy“ bezeichnen\, gelingt ihnen der Spagat zwischen Gesangskunst und unterhaltsamer Bühnenshow. Mit ihrem Gesang\, der witzig-selbstironischen Moderation und ihrem ganzen Charme sorgen sie für beste Unterhaltung\, die immer mit einem Augenzwinkern daherkommt.
URL:https://www.livemacher.de/event/open-air-mundartmonika-besigheim/
LOCATION:Besigheim\, Kelterplatz (Open Air)\, Hauptstraße 57\, Besigheim\, Baden-Württemberg\, 74354\, Deutschland
CATEGORIES:Bühne,Jazz-Pop-Rock
ATTACH;FMTTYPE=image/jpeg:https://www.livemacher.de/wp-content/uploads/2018/02/mundARTmonika2.jpg
ORGANIZER;CN="Livemacher GmbH":MAILTO:info@livemacher.de
GEO:49.0007831;9.1395337
X-APPLE-STRUCTURED-LOCATION;VALUE=URI;X-ADDRESS=Besigheim Kelterplatz (Open Air) Hauptstraße 57 Besigheim Baden-Württemberg 74354 Deutschland;X-APPLE-RADIUS=500;X-TITLE=Hauptstraße 57:geo:9.1395337,49.0007831
END:VEVENT
BEGIN:VEVENT
DTSTART;TZID=Europe/Berlin:20150808T190000
DTEND;TZID=Europe/Berlin:20150808T190000
DTSTAMP:20260422T133409
CREATED:20180201T111002Z
LAST-MODIFIED:20191202T090353Z
UID:10049052-1439060400-1439060400@www.livemacher.de
SUMMARY:OPEN AIR - Schwäbischer Sommernachtstraum Besigheim
DESCRIPTION:Dui do on de Sell treffen Hämmerle und Leibssle \nSommerzeit: Urlaubszeit! Warum nicht eine Kreuzfahrt\, die ist schließlich lustig und auch schön – wenn da nicht die Brecher wären\, die unvorhergesehen das Schiff in Schieflage kippen! Nörgelnde Maschinisten\, orientierungslose Kapitäne\, leichte Matrosen und lüsterne Matronen steuern den Kahn durch brausende Wogen – doch als Krone der schäumenden Gischt treffen die Sterne des Kabaretts aus dem Süden\, „Dui do ond de Sell“\, auf das Kreuz des Südens\, „Hämmerle und Leibssle“. Und wer die vier Herrschaften kennt\, weiß: diese Reise wird ein unvergessliches Erlebnis\, denn fortan navigiert der Tanker mit gehöriger Schlagseite durch schwere See ohne Land in Sicht; und keiner weiß\, wer ist Steuermann und wer der Smutje\, der die ganze Suppe eingebrockt hat. \nEin Sommerspecial mit Doris Reichenauer und Petra Binder alias „Dui do on de Sell“ sowie Bernd Kohlhepp und Eckhard Grauer\, bekannt als „Hämmerle und Leibssle„. Sie feiern gemeinsam mit ihrem Publikum einen einzigartigen schwäbischen Sommernachtstraum: chaotisch\, saukomisch\, schlagfertig\, grotesk und natürlich wie gewohnt äußerst charmant. \n„Sonst aber bleiben sie Mensch; an dem einzigen Gliede verurteilt Tragen sie die Ohren hinfort von dem langsam schreitenden Esel.“\n(William Shakespeare)
URL:https://www.livemacher.de/event/open-air-schwaebischer-sommernachtstraum-besigheim/
LOCATION:Besigheim\, Kelterplatz (Open Air)\, Hauptstraße 57\, Besigheim\, Baden-Württemberg\, 74354\, Deutschland
CATEGORIES:Bühne
ATTACH;FMTTYPE=image/jpeg:https://www.livemacher.de/wp-content/uploads/2018/01/duidoundesell_web.jpg
ORGANIZER;CN="Livemacher GmbH":MAILTO:info@livemacher.de
GEO:49.0007831;9.1395337
X-APPLE-STRUCTURED-LOCATION;VALUE=URI;X-ADDRESS=Besigheim Kelterplatz (Open Air) Hauptstraße 57 Besigheim Baden-Württemberg 74354 Deutschland;X-APPLE-RADIUS=500;X-TITLE=Hauptstraße 57:geo:9.1395337,49.0007831
END:VEVENT
END:VCALENDAR