BEGIN:VCALENDAR
VERSION:2.0
PRODID:-//Livemacher GmbH - ECPv6.15.20//NONSGML v1.0//EN
CALSCALE:GREGORIAN
METHOD:PUBLISH
X-ORIGINAL-URL:https://www.livemacher.de
X-WR-CALDESC:Veranstaltungen für Livemacher GmbH
REFRESH-INTERVAL;VALUE=DURATION:PT1H
X-Robots-Tag:noindex
X-PUBLISHED-TTL:PT1H
BEGIN:VTIMEZONE
TZID:Europe/Berlin
BEGIN:DAYLIGHT
TZOFFSETFROM:+0100
TZOFFSETTO:+0200
TZNAME:CEST
DTSTART:20170326T010000
END:DAYLIGHT
BEGIN:STANDARD
TZOFFSETFROM:+0200
TZOFFSETTO:+0100
TZNAME:CET
DTSTART:20171029T010000
END:STANDARD
BEGIN:DAYLIGHT
TZOFFSETFROM:+0100
TZOFFSETTO:+0200
TZNAME:CEST
DTSTART:20180325T010000
END:DAYLIGHT
BEGIN:STANDARD
TZOFFSETFROM:+0200
TZOFFSETTO:+0100
TZNAME:CET
DTSTART:20181028T010000
END:STANDARD
BEGIN:DAYLIGHT
TZOFFSETFROM:+0100
TZOFFSETTO:+0200
TZNAME:CEST
DTSTART:20190331T010000
END:DAYLIGHT
BEGIN:STANDARD
TZOFFSETFROM:+0200
TZOFFSETTO:+0100
TZNAME:CET
DTSTART:20191027T010000
END:STANDARD
BEGIN:DAYLIGHT
TZOFFSETFROM:+0100
TZOFFSETTO:+0200
TZNAME:CEST
DTSTART:20200329T010000
END:DAYLIGHT
BEGIN:STANDARD
TZOFFSETFROM:+0200
TZOFFSETTO:+0100
TZNAME:CET
DTSTART:20201025T010000
END:STANDARD
BEGIN:DAYLIGHT
TZOFFSETFROM:+0100
TZOFFSETTO:+0200
TZNAME:CEST
DTSTART:20210328T010000
END:DAYLIGHT
BEGIN:STANDARD
TZOFFSETFROM:+0200
TZOFFSETTO:+0100
TZNAME:CET
DTSTART:20211031T010000
END:STANDARD
END:VTIMEZONE
BEGIN:VEVENT
DTSTART;TZID=Europe/Berlin:20200621T140000
DTEND;TZID=Europe/Berlin:20200621T140000
DTSTAMP:20260423T161118
CREATED:20190215T160452Z
LAST-MODIFIED:20200508T142519Z
UID:10049254-1592748000-1592748000@www.livemacher.de
SUMMARY:Conni - Das Schul-Musical! Bad Rappenau\, Kurhaus
DESCRIPTION:Terminverlegung                            \n                            \n                        \n                        \n                        \n                        \n                                                Die Veranstaltung wurde auf Grund der Corona Pandemie abgesagt. Das auf den Sonntag\, den 21.06.2020 verlegte Conni-Musical im Kurhaus in Bad Rappenau wurde aus oben genannten Gründen abgesagt. Die für diese Veranstaltung erworbenen Tickets können bei der Vorverkaufsstelle\, bei der Sie diese Tickets erworben haben\, zurückgegeben werden und Sie bekommen Ihr Geld erstattet.  \n\n\n                        \n                        \n                        \n                    \n                \n            \n        \n\n    \n    \n\n\nConni ist in der Schule und erlebt dort zusammen mit ihren Freunden Anna und Paul eine Menge aufregender Dinge. Jeden Tag gibt es Neues zu erleben\, so dass es für Conni und ihre Freunde nie langweilig wird. In der Schule ist sehr viel los\, und Conni hat bei ihrem Schul-Musical-Abenteuer immer viel Spaß\, auch wenn es manchmal Probleme zu lösen gilt. Z. B. wenn alles nur nach dem Hausmeister der Grundschule\, Herrn Müller\, gehen soll. Conni und ihre Freunde schaffen es zusammen mit ihrer Lehrerin Frau Sommer\, und natürlich den vielen kleinen und großen Zuschauern im Publikum\, Herrn Müller von ihren eigenen Ideen zu überzeugen. Und bei Conni zu Hause gibt es Rückhalt von Mama und Papa Klawitter\, und von Teddy und Kater Mau! \nFrei nach dem Motto „Was Conni kann – das könnt ihr auch!“ werden die Musicalbesucher zum Teil der Inszenierung und können Conni und ihren Freunden helfen\, das Schul-Abenteuer zu meistern und über sich hinaus zu wachsen. Heraus kommt ein Musicalspaß für Jung und Alt\, zum Mitmachen\, Mitlachen und Miterleben\, mit vielen tollen Songs und ganz viel Charme! \n„Conni – Das Schul-Musical“: einzigartig und besonders\, exklusiv vom Cocomico Theater auf großer Tournee – noch bis Mai 2020\, bevor Cocomico ab Februar 2021 dann mit der neuen Tourneeproduktion „Conni – Das Zirkus-Musical“ startet! \nConni zählt zu den beliebtesten Kinderbuchfiguren und begeistert seit über 25 Jahren Kinder ab drei Jahren. Für ihre jungen Leser ist Conni eine Art „beste Freundin“\, die genau wie sie die verschiedensten Situationen des Alltags meistert. Über hundert verschiedene Conni-Bücher sind in den vergangenen über 25 Jahren erschienen. Conni ist zudem ein Dauerbrenner auf Kassette\, CD und DVD\, im Fernsehen und auch im Kino! \nDie Cocomico-Conni-Musicals begeisterten bereits knapp 500.000 kleine und große Besucher! Die Presse jubelt: „Großes Theater für kleine Leute!“ – „Riesenapplaus von begeisterten Kids!“
URL:https://www.livemacher.de/event/conni-das-schul-musical-bad-rappenau-kurhaus/
LOCATION:Bad Rappenau\, Kurhaus\, Fritz-Hagner-Promenade 2\, Bad Rappenau\, Baden-Württemberg\, 74906\, Deutschland
CATEGORIES:Show
ATTACH;FMTTYPE=image/jpeg:https://www.livemacher.de/wp-content/uploads/2019/02/conni-abgesagt.jpg
ORGANIZER;CN="Livemacher GmbH":MAILTO:info@livemacher.de
GEO:49.2403513;9.1078422
X-APPLE-STRUCTURED-LOCATION;VALUE=URI;X-ADDRESS=Bad Rappenau Kurhaus Fritz-Hagner-Promenade 2 Bad Rappenau Baden-Württemberg 74906 Deutschland;X-APPLE-RADIUS=500;X-TITLE=Fritz-Hagner-Promenade 2:geo:9.1078422,49.2403513
END:VEVENT
BEGIN:VEVENT
DTSTART;TZID=Europe/Berlin:20200221T193000
DTEND;TZID=Europe/Berlin:20200221T193000
DTSTAMP:20260423T161118
CREATED:20190109T092226Z
LAST-MODIFIED:20200224T094436Z
UID:10049242-1582313400-1582313400@www.livemacher.de
SUMMARY:Markus Maria Profitlich - Schwer verrückt! Bad Rappenau\, Kurhaus
DESCRIPTION:Wir leben in einer verrückten Welt. Einer Welt\, in der man ohne Hochschulstudium kein Busticket mehr ziehen kann\, während anderswo per Twitter Politik gemacht wird. Beziehungsgespräche ohne Therapeut sind undenkbar\, aber wenn der Kreislauf Probleme bereitet\, befragen wir lieber eine App als den Arzt. Kein Wunder also\, dass die Menschen sich immer häufiger fragen: Leben wir eigentlich in einer gigantischen Irrenanstalt und wenn ja\, wann kommen die Medikamente?\nVollblutkomiker Markus Maria Profitlich macht endlich Schluss mit der Unsicherheit. In seinem brandneuen Soloprogramm präsentiert er die wirksamste Glückspille der Welt: sich selbst. Mit treffsicherer Komik entlarvt Markus den alltäglichen Irrsinn\, gibt wertvolle Tipps im Umgang mit den eigenen Marotten und beantwortet auf seine unnachahmliche Art unter Einsatz seines ganzen Körpers die Frage aller Fragen: Wie verrückt muss man selber sein\, um den galoppierenden Wahnsinn um sich herum zu überstehen? \nZwei Stunden hochkonzentriertes Balsam für die Seele – garantiert rezeptfrei und fast ohne Nebenwirkungen. Denn mit starkem Lachmuskelkater muss auf jeden Fall gerechnet werden!
URL:https://www.livemacher.de/event/markus-maria-profitlich-schwer-verrueckt-bad-rappenau-kurhaus/
LOCATION:Bad Rappenau\, Kurhaus\, Fritz-Hagner-Promenade 2\, Bad Rappenau\, Baden-Württemberg\, 74906\, Deutschland
CATEGORIES:Bühne
ATTACH;FMTTYPE=image/jpeg:https://www.livemacher.de/wp-content/uploads/2019/01/markus-maria-profittlich-2.jpg
ORGANIZER;CN="Livemacher GmbH":MAILTO:info@livemacher.de
GEO:49.2403513;9.1078422
X-APPLE-STRUCTURED-LOCATION;VALUE=URI;X-ADDRESS=Bad Rappenau Kurhaus Fritz-Hagner-Promenade 2 Bad Rappenau Baden-Württemberg 74906 Deutschland;X-APPLE-RADIUS=500;X-TITLE=Fritz-Hagner-Promenade 2:geo:9.1078422,49.2403513
END:VEVENT
BEGIN:VEVENT
DTSTART;TZID=Europe/Berlin:20191108T193000
DTEND;TZID=Europe/Berlin:20191108T193000
DTSTAMP:20260423T161118
CREATED:20180312T115921Z
LAST-MODIFIED:20191202T082537Z
UID:10049163-1573241400-1573241400@www.livemacher.de
SUMMARY:Rüdiger Hoffmann - ALLES MEGA - Gut ist nicht gut genug Bad Rappenau
DESCRIPTION:Versprochen: ab jetzt ist alles mega. Auch bei Ihnen! Ob Partnerschaft\, Power-Diät\, Pärchenclub oder Pubertät: Rüdiger Hoffmann geht dahin\, wo es weh tut. Und zwar vor Lachen. \nIn seinem inzwischen 13. Programm „Alles Mega“ stellt sich der Godfather of Slow-Comedy den ganz großen Fragen der Menschheit: Wer sind wir? Muss das sein? Und: Was soll der Quatsch? In einer immer schnelleren Welt brauchen wir Idole wie Rüdiger Hoffmann. Ein Mann\, der langsamer redet als sein Schatten. Ein Mann\, der zu Gefühlen steht\, die keiner gerne haben will. Ein Mann wie Rüdiger. \nScheitern als Schicksal und Chance: Rüdiger Hoffmann wird Ihr Leben verändern – einen ganzen Abend lang. Gönnen Sie sich das. Sie haben es sich verdient!
URL:https://www.livemacher.de/event/ruediger-hoffmann-alles-mega-gut-ist-nicht-gut-genug-bad-rappenau/
LOCATION:Bad Rappenau\, Kurhaus\, Fritz-Hagner-Promenade 2\, Bad Rappenau\, Baden-Württemberg\, 74906\, Deutschland
CATEGORIES:Bühne
ORGANIZER;CN="Livemacher GmbH":MAILTO:info@livemacher.de
GEO:49.2403513;9.1078422
X-APPLE-STRUCTURED-LOCATION;VALUE=URI;X-ADDRESS=Bad Rappenau Kurhaus Fritz-Hagner-Promenade 2 Bad Rappenau Baden-Württemberg 74906 Deutschland;X-APPLE-RADIUS=500;X-TITLE=Fritz-Hagner-Promenade 2:geo:9.1078422,49.2403513
END:VEVENT
BEGIN:VEVENT
DTSTART;TZID=Europe/Berlin:20190329T193000
DTEND;TZID=Europe/Berlin:20190329T193000
DTSTAMP:20260423T161118
CREATED:20180312T111558Z
LAST-MODIFIED:20200213T104812Z
UID:10049063-1553887800-1553887800@www.livemacher.de
SUMMARY:Pangea – The Beatles Live Show Bad Rappenau
DESCRIPTION:Die Gruppe Pangea – The Beatles Live Show gehört zu den europäischen Revival-Topgruppen und widmet sich professionell einer treuen Interpretierung der legendären Vierergruppe aus Liverpool. Ausgefeilte Spieldetails\, perfektes Einstudieren der Lieder\, genau klingende Vokalharmonie in ursprünglichen Tonarten\, originale Musikinstrumente (Gitarren Gretsch\, Rickenbacker\, Höfner und Epiphone\, Apparate Vox und Schlagzeuge Ludwig)\, vollendete Kostümrepliken\, charakteristische Frisuren und nicht zuletzt auch ein linkshändiger Bassgitarrespieler – dass alles sind Attribute\, welche die Gruppe Pangea charakterisieren. \nBeweis der Qualität der Gruppe sind unter anderem der Sieg im Wettbewerb der Beatles-Revival-Gruppen im Juni 2010 oder die persönliche Einladung der Mutter von Paul McCartney zum Auftritt im Rahmen der feierlichen Taufe ihres Memoirenbuchs\, die im Januar 2013 in der Liverpool-Philharmonie stattfand.  Pangea wurde auch zur Teilnahme am internationalen Prestigefestival Beatleweek 2011 in Liverpool ausgewählt. Hier hatte die Gruppe eine Serie von Auftritten\, deren Höhepunkt die Konzerte im legendären Klub Cavem waren. Diese Konzerte fanden hier 50 Jahre nach dem ersten Auftritt der Beatles in diesem Klub statt.
URL:https://www.livemacher.de/event/pangea-the-beatles-live-show-bad-rappenau/
LOCATION:Bad Rappenau\, Kurhaus\, Fritz-Hagner-Promenade 2\, Bad Rappenau\, Baden-Württemberg\, 74906\, Deutschland
CATEGORIES:Jazz-Pop-Rock
ATTACH;FMTTYPE=image/jpeg:https://www.livemacher.de/wp-content/uploads/2018/02/Pangea-Beatles-chair2.jpg
ORGANIZER;CN="Livemacher GmbH":MAILTO:info@livemacher.de
GEO:49.2403513;9.1078422
X-APPLE-STRUCTURED-LOCATION;VALUE=URI;X-ADDRESS=Bad Rappenau Kurhaus Fritz-Hagner-Promenade 2 Bad Rappenau Baden-Württemberg 74906 Deutschland;X-APPLE-RADIUS=500;X-TITLE=Fritz-Hagner-Promenade 2:geo:9.1078422,49.2403513
END:VEVENT
BEGIN:VEVENT
DTSTART;TZID=Europe/Berlin:20190315T193000
DTEND;TZID=Europe/Berlin:20190315T193000
DTSTAMP:20260423T161118
CREATED:20180312T110653Z
LAST-MODIFIED:20191202T085309Z
UID:10049062-1552678200-1552678200@www.livemacher.de
SUMMARY:Bodo Bach - "Pech gehabt" Bad Rappenau
DESCRIPTION:PECH GEHABT – das neue Programm! \nUnser durchgeknallter Planet dreht sich unermüdlich weiter. Bodo Bach macht das Beste draus und nimmt’s wie’s kommt und nicht selten kommt’s dicke. \nSei es die neue Liebe seines Sohnes Rüdiger\, der Besuch einer Erotikmesse oder das überraschende Ableben seines ungeliebten Nachbarn. \nWer in Bodos letzten Programmen den kulturellen Anspruch vermisst hat\, wird diesmal nicht enttäuscht. Bodo besucht ein Museum und erklärt uns die moderne Kunst: „Öl auf Leinwand geht ganz schwer raus\, aber lieber vom Lebe‘ gezeichnet als vom Picasso gemalt.“ \nBodo steht wieder mittendrin im prallen Leben und stellt die richtigen Fragen: „Werd‘ ich vom Pech verfolgt oder geh’n mir nur zufällig in die gleiche Richtung?“ Egal welche Erlebnisberichte unser Lieblingshesse diesmal abliefert\, wie immer zeigt sich Bodo vielseitig\, vielschichtig und vor allem vielosophisch! \nAm Ende steht die Frage für wen es dumm gelaufen ist. Dreimal dürfen Sie raten. Gewissheit bringt der Besuch seines neuen Comedy-Programms: „PECH GEHABT“ \nUnd denken Sie immer dran: Wenn wir Pech haben\, ist das Glück nicht weg. Das hat dann nur ein anderer.
URL:https://www.livemacher.de/event/bodo-bach-pech-gehabt-bad-rappenau/
LOCATION:Bad Rappenau\, Kurhaus\, Fritz-Hagner-Promenade 2\, Bad Rappenau\, Baden-Württemberg\, 74906\, Deutschland
CATEGORIES:Bühne
ATTACH;FMTTYPE=image/jpeg:https://www.livemacher.de/wp-content/uploads/2018/01/Bodo-Bach-Plakatmotiv-8x8cm-cRobert-Maschke_gross_ZB.jpg
ORGANIZER;CN="Livemacher GmbH":MAILTO:info@livemacher.de
GEO:49.2403513;9.1078422
X-APPLE-STRUCTURED-LOCATION;VALUE=URI;X-ADDRESS=Bad Rappenau Kurhaus Fritz-Hagner-Promenade 2 Bad Rappenau Baden-Württemberg 74906 Deutschland;X-APPLE-RADIUS=500;X-TITLE=Fritz-Hagner-Promenade 2:geo:9.1078422,49.2403513
END:VEVENT
BEGIN:VEVENT
DTSTART;TZID=Europe/Berlin:20190215T193000
DTEND;TZID=Europe/Berlin:20190215T193000
DTSTAMP:20260423T161118
CREATED:20180312T102305Z
LAST-MODIFIED:20191202T085545Z
UID:10049056-1550259000-1550259000@www.livemacher.de
SUMMARY:Die Füenf - „005 im Dienste ihrer Mayonnaise“ Bad Rappenau
DESCRIPTION:005 im Dienste ihrer Mayonnaise\n Sing und Unsing \nDie Monotonie will mal wieder die Weltherrschaft? Aber nicht mit uns! Füenf\, die tonsicherste Einheiztruppe ihrer Haihaut wagt es einmal öfter\, sich eurem Einerlei mit Sing und Unsing wacker in den Weg zu stellen. \nFüenf machten gesungene Musicomedy deutschlandweit populär und werden und werden nicht müde. Sie haben die Lizenz zum Blödeln in gereimter Mission\, juxgefährlich\, uninstrumental\, scherzgewaltig! \nAuch ihre 10. Show feiert wieder den tagtäglichen Irrsinn zwischen den Zeilen der Vernunft\, scharfzüngig und lachkrampferprobt\, natürlich mit einem neuen Liebeshorst\, Raritäten aus der Recyclingtonne\, Liedern fürs Auge\, Gags & Sex fürs Ohr im wie gewohnt unnachahmlichen Freestyle Deutschlands lustigster A-cappella-Band.
URL:https://www.livemacher.de/event/die-fueenf-005-im-dienste-ihrer-mayonnaise-bad-rappenau/
LOCATION:Bad Rappenau\, Kurhaus\, Fritz-Hagner-Promenade 2\, Bad Rappenau\, Baden-Württemberg\, 74906\, Deutschland
CATEGORIES:Bühne,Jazz-Pop-Rock
ATTACH;FMTTYPE=image/jpeg:https://www.livemacher.de/wp-content/uploads/2018/03/fueenf-005.jpg
ORGANIZER;CN="Livemacher GmbH":MAILTO:info@livemacher.de
GEO:49.2403513;9.1078422
X-APPLE-STRUCTURED-LOCATION;VALUE=URI;X-ADDRESS=Bad Rappenau Kurhaus Fritz-Hagner-Promenade 2 Bad Rappenau Baden-Württemberg 74906 Deutschland;X-APPLE-RADIUS=500;X-TITLE=Fritz-Hagner-Promenade 2:geo:9.1078422,49.2403513
END:VEVENT
BEGIN:VEVENT
DTSTART;TZID=Europe/Berlin:20181214T193000
DTEND;TZID=Europe/Berlin:20181214T193000
DTSTAMP:20260423T161118
CREATED:20180119T102849Z
LAST-MODIFIED:20191202T085743Z
UID:10048844-1544815800-1544815800@www.livemacher.de
SUMMARY:ABBA World Revival - "A Tribute to ABBA!" Bad Rappenau
DESCRIPTION:Wenn Sie die Songs von ABBA in höchster Annäherung ans Original hören wollen\, sind Sie hier richtig. Es erwartet Sie eine tolle Bühenshow mit allen Hits von ABBA. Die Darbietung ist zu 100% live. Es werden keinerlei Zuspielungen oder Playback-Techniken verwendet. Das Repertoire von ABBA World Revival umfasst mehr als 30 der bekanntesten Songs der legendären schwedischen Mega-Band der 70er Jahre. \n10 Profimusiker haben sich zusammengetan\, um die Musik von ABBA\, die sie alle lieben und bewundern\, zu spielen und zu singen. \nDie Live Show bietet nicht nur höchste Perfektion in musikalischer Hinsicht\, auch die Bühnenshow\, die Kostüme und die Bühnen Choreographie sind auf höchstem Niveau und dem Original perfekt nachempfunden. \nExtravagante Kostüme und eine mit Tanzeinlagen und Lichteffekten angereicherte Bühnenshow\, aber das sind nur schmückende Elemente am Rande. Im Mittelpunkt steht die zeitlose Musik von ABBA\, in allen ihren Facetten von der treibenden Disco-Nummer\, bei der man spontan aufspringt und mittanzt\, bis zur anrührenden Ballade\, die das Publikum mäuschenstill werden und die Feuerzeuge zücken lässt. \nABBA WORLD REVIVAL ist eine Band\, der man anmerkt\, dass sie die Musik von ABBA liebt.
URL:https://www.livemacher.de/event/abba-world-revival-a-tribute-to-abba-bad-rappenau/
LOCATION:Bad Rappenau\, Kurhaus\, Fritz-Hagner-Promenade 2\, Bad Rappenau\, Baden-Württemberg\, 74906\, Deutschland
CATEGORIES:Jazz-Pop-Rock,Show
ORGANIZER;CN="Livemacher GmbH":MAILTO:info@livemacher.de
GEO:49.2403513;9.1078422
X-APPLE-STRUCTURED-LOCATION;VALUE=URI;X-ADDRESS=Bad Rappenau Kurhaus Fritz-Hagner-Promenade 2 Bad Rappenau Baden-Württemberg 74906 Deutschland;X-APPLE-RADIUS=500;X-TITLE=Fritz-Hagner-Promenade 2:geo:9.1078422,49.2403513
END:VEVENT
BEGIN:VEVENT
DTSTART;TZID=Europe/Berlin:20181123T193000
DTEND;TZID=Europe/Berlin:20181123T193000
DTSTAMP:20260423T161118
CREATED:20180119T094815Z
LAST-MODIFIED:20191202T085805Z
UID:10048841-1543001400-1543001400@www.livemacher.de
SUMMARY:Dui do on de Sell - "Wechseljahre" Bad Rappenau
DESCRIPTION:Als schlagfertige Powerfrauen gehören Dui do on de Sell zu den beliebtesten Kabarett-Stars im Ländle und sind Garant für ausverkaufte Hallen und begeisterte Zuschauer. \nIn ihrem Programm „Wechseljahre“ widmen sich Dui do on de Sell dem weiblichen Sprengstoffthema schlechthin: Wechseljahre – oder sind es Jahre des Wechsels? Was Frau jenseits der Fünfzig erwartet\, ist kein Zuckerschlecken. Die Hormone fahren Achterbahn\, Schönheits-Chirurgie wird zur Änderungsschneiderei\, und bei all dem muss auch noch der Marktwert gehalten werden. Denn die Wünsche bei der Neu-Partnersuche im Web 2.0 sind klar: Der kultivierte Holzfällertyp darf’s für die urbane Schwäbin schon sein. \n„Dui do on de Sell“ holen das Leben auf die Bühne und machen das Kabarett zur Gesprächstherapie im Großgruppenverbund. Mit einer einzigartigen Mischung aus warmherziger Satire\, messerscharfer Ironie und knochentrockenem Humor. Vor allem aber so authentisch\, dass man vergisst\, dass man im Theater sitzt.
URL:https://www.livemacher.de/event/dui-do-on-de-sell-wechseljahre/
LOCATION:Bad Rappenau\, Kurhaus\, Fritz-Hagner-Promenade 2\, Bad Rappenau\, Baden-Württemberg\, 74906\, Deutschland
CATEGORIES:Bühne
ORGANIZER;CN="Livemacher GmbH":MAILTO:info@livemacher.de
GEO:49.2403513;9.1078422
X-APPLE-STRUCTURED-LOCATION;VALUE=URI;X-ADDRESS=Bad Rappenau Kurhaus Fritz-Hagner-Promenade 2 Bad Rappenau Baden-Württemberg 74906 Deutschland;X-APPLE-RADIUS=500;X-TITLE=Fritz-Hagner-Promenade 2:geo:9.1078422,49.2403513
END:VEVENT
END:VCALENDAR