BEGIN:VCALENDAR
VERSION:2.0
PRODID:-//Livemacher GmbH - ECPv6.15.20//NONSGML v1.0//EN
CALSCALE:GREGORIAN
METHOD:PUBLISH
X-WR-CALNAME:Livemacher GmbH
X-ORIGINAL-URL:https://www.livemacher.de
X-WR-CALDESC:Veranstaltungen für Livemacher GmbH
REFRESH-INTERVAL;VALUE=DURATION:PT1H
X-Robots-Tag:noindex
X-PUBLISHED-TTL:PT1H
BEGIN:VTIMEZONE
TZID:Europe/Berlin
BEGIN:DAYLIGHT
TZOFFSETFROM:+0100
TZOFFSETTO:+0200
TZNAME:CEST
DTSTART:20210328T010000
END:DAYLIGHT
BEGIN:STANDARD
TZOFFSETFROM:+0200
TZOFFSETTO:+0100
TZNAME:CET
DTSTART:20211031T010000
END:STANDARD
BEGIN:DAYLIGHT
TZOFFSETFROM:+0100
TZOFFSETTO:+0200
TZNAME:CEST
DTSTART:20220327T010000
END:DAYLIGHT
BEGIN:STANDARD
TZOFFSETFROM:+0200
TZOFFSETTO:+0100
TZNAME:CET
DTSTART:20221030T010000
END:STANDARD
BEGIN:DAYLIGHT
TZOFFSETFROM:+0100
TZOFFSETTO:+0200
TZNAME:CEST
DTSTART:20230326T010000
END:DAYLIGHT
BEGIN:STANDARD
TZOFFSETFROM:+0200
TZOFFSETTO:+0100
TZNAME:CET
DTSTART:20231029T010000
END:STANDARD
END:VTIMEZONE
BEGIN:VEVENT
DTSTART;TZID=Europe/Berlin:20220115T200000
DTEND;TZID=Europe/Berlin:20220115T200000
DTSTAMP:20260422T144841
CREATED:20210316T160851Z
LAST-MODIFIED:20211217T154559Z
UID:10050192-1642276800-1642276800@www.livemacher.de
SUMMARY:Jörg Knör – „COMEBACK des LEBENS!“in Besigheim\, Alte Kelter
DESCRIPTION:Termin ersatzlos abgesagt                            \n                            \n                        \n                        \n                        \n                        \n                                                Die Veranstaltung wurde auf Grund der Corona Pandemie ersatzlos abgesagt. Die für Samstag\, den 15.01.2022 angesetzte Veranstaltung „Jörg Knör - 'COMEBACK des LEBENS!' in der Stadthalle Alte Kelter in Besigheim\, wurde aus oben genannten Gründen ersatzlos abgesagt. Die für diese Veranstaltung erworbenen Tickets können bei der Vorverkaufsstelle\, bei der Sie diese Tickets erworben haben\, zurückgegeben werden und Sie bekommen Ihr Geld erstattet. \n                        \n                        \n                        \n                    \n                \n            \n        \n\n    \n    \n\n\n„COMEBACK des LEBENS!“  Jörg Knör’s Re-Start-Show\nNach gefühlt endloser Zeit und „Wir müssen Draußen bleiben“ für sämtliche Bühnenschaffenden ist bei Jörg Knör nicht nur die Sehnsucht auf „endlich wieder Live“ gewachsen\, sondern auch eine neue Bühnenshow gereift. \nEin Programm voller Wertschätzung für alles\, was Künstler und Zuschauer so lange vermisst haben: Applaus\, Verzaubern\, Berühren\, Erstaunen\, Erheitern… \nABGESAGT\nJörg Knör musste erkennen\, dass man Kultur nicht wie Klopapier hamstern und horten kann. Sie muss live geschehen\, nicht gefiltert oder virtuell. Darum ist „COMEBACK des LEBENS!“ für den Entertainer eine ganz besondere Show. Eine mit viel Anlauf\, Vorfreude und Dankbarkeit. \nAls Parodist hat Jörg Knör natürlich auch alle Krisen-Akteure durchleuchtet\, allerdings mit der Diagnose: Nicht komisch! \nDarum entstand „COMEBACK des LEBENS!“ vor allem durch den neuen Blick auf alte überdauernden Werte – Vorbilder\, Lieblings-Songs und -Legenden\, die Jörg Knör selbst am meisten bedeuten.
URL:https://www.livemacher.de/event/joerg-knoer-old-school-aber-geil-die-parodiesische-show-besigheim-alte-kelter/
LOCATION:Baden-Württemberg\, Deutschland
CATEGORIES:Bühne
ORGANIZER;CN="Livemacher GmbH":MAILTO:info@livemacher.de
END:VEVENT
END:VCALENDAR