BEGIN:VCALENDAR
VERSION:2.0
PRODID:-//Livemacher GmbH - ECPv6.15.20//NONSGML v1.0//EN
CALSCALE:GREGORIAN
METHOD:PUBLISH
X-ORIGINAL-URL:https://www.livemacher.de
X-WR-CALDESC:Veranstaltungen für Livemacher GmbH
REFRESH-INTERVAL;VALUE=DURATION:PT1H
X-Robots-Tag:noindex
X-PUBLISHED-TTL:PT1H
BEGIN:VTIMEZONE
TZID:Europe/Berlin
BEGIN:DAYLIGHT
TZOFFSETFROM:+0100
TZOFFSETTO:+0200
TZNAME:CEST
DTSTART:20170326T010000
END:DAYLIGHT
BEGIN:STANDARD
TZOFFSETFROM:+0200
TZOFFSETTO:+0100
TZNAME:CET
DTSTART:20171029T010000
END:STANDARD
BEGIN:DAYLIGHT
TZOFFSETFROM:+0100
TZOFFSETTO:+0200
TZNAME:CEST
DTSTART:20180325T010000
END:DAYLIGHT
BEGIN:STANDARD
TZOFFSETFROM:+0200
TZOFFSETTO:+0100
TZNAME:CET
DTSTART:20181028T010000
END:STANDARD
BEGIN:DAYLIGHT
TZOFFSETFROM:+0100
TZOFFSETTO:+0200
TZNAME:CEST
DTSTART:20190331T010000
END:DAYLIGHT
BEGIN:STANDARD
TZOFFSETFROM:+0200
TZOFFSETTO:+0100
TZNAME:CET
DTSTART:20191027T010000
END:STANDARD
BEGIN:DAYLIGHT
TZOFFSETFROM:+0100
TZOFFSETTO:+0200
TZNAME:CEST
DTSTART:20200329T010000
END:DAYLIGHT
BEGIN:STANDARD
TZOFFSETFROM:+0200
TZOFFSETTO:+0100
TZNAME:CET
DTSTART:20201025T010000
END:STANDARD
BEGIN:DAYLIGHT
TZOFFSETFROM:+0100
TZOFFSETTO:+0200
TZNAME:CEST
DTSTART:20210328T010000
END:DAYLIGHT
BEGIN:STANDARD
TZOFFSETFROM:+0200
TZOFFSETTO:+0100
TZNAME:CET
DTSTART:20211031T010000
END:STANDARD
BEGIN:DAYLIGHT
TZOFFSETFROM:+0100
TZOFFSETTO:+0200
TZNAME:CEST
DTSTART:20220327T010000
END:DAYLIGHT
BEGIN:STANDARD
TZOFFSETFROM:+0200
TZOFFSETTO:+0100
TZNAME:CET
DTSTART:20221030T010000
END:STANDARD
BEGIN:DAYLIGHT
TZOFFSETFROM:+0100
TZOFFSETTO:+0200
TZNAME:CEST
DTSTART:20230326T010000
END:DAYLIGHT
BEGIN:STANDARD
TZOFFSETFROM:+0200
TZOFFSETTO:+0100
TZNAME:CET
DTSTART:20231029T010000
END:STANDARD
BEGIN:DAYLIGHT
TZOFFSETFROM:+0100
TZOFFSETTO:+0200
TZNAME:CEST
DTSTART:20240331T010000
END:DAYLIGHT
BEGIN:STANDARD
TZOFFSETFROM:+0200
TZOFFSETTO:+0100
TZNAME:CET
DTSTART:20241027T010000
END:STANDARD
END:VTIMEZONE
BEGIN:VEVENT
DTSTART;TZID=Europe/Berlin:20230311T180000
DTEND;TZID=Europe/Berlin:20230311T180000
DTSTAMP:20260420T155319
CREATED:20190506T100042Z
LAST-MODIFIED:20230217T105531Z
UID:10049824-1678557600-1678557600@www.livemacher.de
SUMMARY:Night of Freestyle in Stuttgart\, Hans-Martin-Schleyer-Halle
DESCRIPTION:Termin ersatzlos abgesagt                            \n                            \n                        \n                        \n                        \n                        \n                                                Die Veranstaltung wurde ersatzlos abgesagt. Die für Samstag\, den 11.03.2023 angesetzte Veranstaltung 'Night of Freestyle' in der Hans-Martin-Schleyer-Halle in Stuttgart\, wurde ersatzlos abgesagt. Die für diese Veranstaltung erworbenen Tickets können bei der Vorverkaufsstelle\, bei der Sie diese Tickets erworben haben\, zurückgegeben werden und Sie bekommen Ihr Geld erstattet. \n\n                        \n                        \n                        \n                                        \n                    \n                \n            \n        \n\n    \n    \n\n\nDIE NIGHT OF FREESTYLE GEHT WIEDER AUF GROSSE TOUR\nÜber 50.000 Fans strömten 2018/2019 zu den Night of Freestyle Super Hero Shows in 8 Deutschen Städten um die Fahrer mit den verschiedensten Gefährten über die Rampen springen und flippen zu sehen. \n\n\n\n\nAuch in der Saison 2019/2020 wird die Night of Freestyle erneut auf Deutschlandtour gehen und das Level von atemberaubenden Stunts und Tricks nochmals erhöhen. \nABGESAGT \nDie Zuschauer dürfen sich weiterhin auf Disziplinen wie Freestyle Motocross\, Mountainbike\, BMX\, Snowmobile\, Quads und Buggy freuen\, die ihre besten Tricks präsentieren werden. \nGeplant sind sportliche Highlights wie neue Frontflip-Kombinationen auf dem Motorrad\, side by side Double Backflips auf dem Motorrad\, neue Body Varials auf dem Motorrad\, Quattro Backflips mit dem BMX\, Double Frontflips auf dem Mountainbike und ein Frontflip oder sogar ein Double Backflip mit dem Buggy. \nNatürlich wird das sportliche Spektakel auch weiterhin von einer gigantischen Pyro- und Lasershow garniert und auch da sind ein paar neue Überraschungen geplant. \nUnser Motto bleibt jedoch auch in dieser Saison unverändert: Diese Show kennt nur eins\, Action! Deshalb schnell Eure Tickets im Vorverkauf sichern und dabei sein!
URL:https://www.livemacher.de/event/night-of-freestyle-stuttgart-hans-martin-schleyer-halle/
LOCATION:Hanns-Martin-Schleyer-Halle Stuttgart\, Mercedesstraße 69\, Stuttgart\, Baden-Württemberg\, 70372\, Deutschland
CATEGORIES:Show
ATTACH;FMTTYPE=image/jpeg:https://www.livemacher.de/wp-content/uploads/2019/05/web_LM_20210213_20220212_20230311_STU_Night-Of-Freestyle_1600x1600_ABGESAGT.jpg
ORGANIZER;CN="Livemacher GmbH":MAILTO:info@livemacher.de
GEO:48.793634;9.2276367
X-APPLE-STRUCTURED-LOCATION;VALUE=URI;X-ADDRESS=Hanns-Martin-Schleyer-Halle Stuttgart Mercedesstraße 69 Stuttgart Baden-Württemberg 70372 Deutschland;X-APPLE-RADIUS=500;X-TITLE=Mercedesstraße 69:geo:9.2276367,48.793634
END:VEVENT
BEGIN:VEVENT
DTSTART;TZID=Europe/Berlin:20191221T190000
DTEND;TZID=Europe/Berlin:20191221T190000
DTSTAMP:20260420T155319
CREATED:20190408T082237Z
LAST-MODIFIED:20191223T105051Z
UID:10049043-1576954800-1576954800@www.livemacher.de
SUMMARY:Night of Freestyle München\, Olympiahalle
DESCRIPTION:Über 50.000 Fans strömten 2018/2019 zu den Night of Freestyle Super Hero Shows in 8 deutschen Städten um die Fahrer mit den verschiedensten Gefährten über die Rampen springen und flippen zu sehen. \nAuch in der Saison 2019/2020 wird die Night of Freestyle erneut auf Deutschlandtour gehen und das Level von atemberaubenden Stunts und Tricks nochmals erhöhen. Die Zuschauer dürfen sich weiterhin auf Disziplinen wie Freestyle Motocross\, Mountainbike\, BMX\, Snowmobile\, Quads und Buggy freuen\, die ihre besten Tricks präsentieren werden. \nGeplant sind sportliche Highlights wie neue Frontflip-Kombinationen auf dem Motorrad\, side by side Double Backflips auf dem Motorrad\, neue Body Varials auf dem Motorrad\, Quattro Backflips mit dem BMX\, Double Frontflips auf dem Mountainbike und ein Frontflip oder sogar ein Double Backflip mit dem Buggy. Natürlich wird das sportliche Spektakel auch weiterhin von einer gigantischen Pyround Lasershow garniert und auch da sind ein paar neue Überraschungen geplant. Unser Motto bleibt jedoch auch in dieser Saison unverändert: Diese Show kennt nur eins\, Action! Deshalb schnell Eure Tickets im Vorverkauf sichern und dabei sein!
URL:https://www.livemacher.de/event/night-of-freestyle-las-vegas-tour-muenchen-olympiahalle/
LOCATION:Olympiahalle München\, Spiridon-Louis-Ring 21\, München\, Bayern\, 80809\, Deutschland
CATEGORIES:Show
ATTACH;FMTTYPE=image/jpeg:https://www.livemacher.de/wp-content/uploads/2018/01/NOF_Magdeburg_AnnaMohn_2014-e1580297591163.jpg
ORGANIZER;CN="Livemacher GmbH":MAILTO:info@livemacher.de
GEO:48.17519;11.5561867
X-APPLE-STRUCTURED-LOCATION;VALUE=URI;X-ADDRESS=Olympiahalle München Spiridon-Louis-Ring 21 München Bayern 80809 Deutschland;X-APPLE-RADIUS=500;X-TITLE=Spiridon-Louis-Ring 21:geo:11.5561867,48.17519
END:VEVENT
BEGIN:VEVENT
DTSTART;TZID=Europe/Berlin:20190223T190000
DTEND;TZID=Europe/Berlin:20190223T190000
DTSTAMP:20260420T155319
CREATED:20180528T152537Z
LAST-MODIFIED:20191202T085520Z
UID:10049178-1550948400-1550948400@www.livemacher.de
SUMMARY:Night of Freestyle - Super Heroes TourStuttgart
DESCRIPTION:Die Superstars der Freestyle-Szene in Stuttgart  \nÜber 50.000 Fans strömten 2017/2018 zu den Night of Freestyle Shows in 8 Deutschen Städten\, um die Fahrer mit den verschiedensten Gefährten über die Rampen springen und flippen zu sehen. \nNach der ausverkauften Premiere im Februar 2018 wird die Night of Freestyle am 23.02.2019 mit einer neuen Show in die Hanns-Martin-Schleyer Halle nach Stuttgart zurückkehren.  \nDer Level von atemberaubenden Stunts und Tricks wird in der Saison 2018/2019 nochmals für Euch erhöht! Dazu haben wir die Superheroes der verschiedensten Disziplinen\, wie Freestyle Motocross\, Mountainbike\, BMX\, Snowmobile\, Quad und Buggy eingeladen\, ihre besten Tricks zu präsentieren. Natürlich wollen aber auch jede Menge Herausforderer gegen sie antreten und versuchen\, den Titel des Superheldens für sich zu gewinnen. \nDeshalb braucht sich das neue Programm auf keinen Fall zu verstecken\, denn geplant sind neue Body Varials auf dem Motorrad\, ein Double Backflip auf dem Motorrad\, Triple Backflips mit dem BMX\, Double Frontflips auf dem Mountainbike und ein Frontflip oder sogar ein Double Backflip mit dem Buggy. Und auch das spanische Tandem Duo Antonio Navas und Rocky Florensa tüfteln über den Sommer hinweg an neuen\, atemberaubenden Tricks. \nWas auf Grund der geringen Deckenhöhe der Schleyer-Halle im Februar 2018 noch unmöglich schien\, werden wir in der kommenden Saison für Euch möglich machen: Einen Frontflip auf dem Motorrad! Durch Änderungen an der Rampe werden auch die Zuschauer in Stuttgart in der Saison 2018/2019 einen Frontflip zu sehen bekommen und vielleicht dürfen wir uns da ja auch schon auf ein paar Frontflip Kombinationen freuen.  \nNatürlich wird das sportliche Spektakel auch weiterhin von einer gigantischen Pyro- und Lasershow garniert und auch da sind ein paar neue Überraschungen geplant. 
URL:https://www.livemacher.de/event/night-of-freestyle-super-heroes-tourstuttgart/
LOCATION:Hanns-Martin-Schleyer-Halle Stuttgart\, Mercedesstraße 69\, Stuttgart\, Baden-Württemberg\, 70372\, Deutschland
CATEGORIES:Show
ATTACH;FMTTYPE=image/jpeg:https://www.livemacher.de/wp-content/uploads/2018/05/066-Michael-Mohaupt_1897.jpg
ORGANIZER;CN="Livemacher GmbH":MAILTO:info@livemacher.de
GEO:48.793634;9.2276367
X-APPLE-STRUCTURED-LOCATION;VALUE=URI;X-ADDRESS=Hanns-Martin-Schleyer-Halle Stuttgart Mercedesstraße 69 Stuttgart Baden-Württemberg 70372 Deutschland;X-APPLE-RADIUS=500;X-TITLE=Mercedesstraße 69:geo:9.2276367,48.793634
END:VEVENT
BEGIN:VEVENT
DTSTART;TZID=Europe/Berlin:20180224T170000
DTEND;TZID=Europe/Berlin:20180224T170000
DTSTAMP:20260420T155319
CREATED:20180119T150939Z
LAST-MODIFIED:20191202T090125Z
UID:10048852-1519491600-1519491600@www.livemacher.de
SUMMARY:Night of Freestyle Stuttgart
DESCRIPTION:Über 30.000 Fans strömten 2016/ 2017 zu den Night of Freestyle Shows in der ganzen Republik. Die ultimative Freestyle-Show mit wahnsinnigen Stunts und den verrücktesten Extremsportlern dieses Planeten tourt 2017/2018 erneut durch Deutschland. \nIn mehreren Städten präsentiert das ultimative Extremsport-Spektakel atemberaubende Stunts und viele der verrücktesten und begabtesten Athleten dieses Planeten. Egal ob auf Motocross Bikes\, Mountainbikes\, Quads\, Schneemobilen\, Mini Bikes\, BMX Bikes oder dem Buggy – die Fahrer flippen und springen mit allem über die Rampen\, was Räder hat\, und zeigen\, dass die Schwerkraft für sie kein Hindernis bietet. \nDie neue Show der Night of Freestyle liefert ein Wahnsinns Level an Extremsport gepaart mit einem gigantischen Pyro- und Laser-Spektakel. Was vor über 15 Jahren mit einer Freestyle Show in Lübtheen begann\, hat sich zur größten Actionstuntshow aus Deutschland entwickelt. Im Vergleich zum letzten Jahr wird das wahnwitzige Level im Freestyle Motocross um Tricks wie verschiedene Body Varials\, darunter die Inside Roll oder der Volt\, einen Frontflip und vieles mehr erweitert. Auch im Mountainbike-Part wird vom Triple Backflip bis zur Cash Roll alles an Tricks gezeigt\, was derzeit auf diesem Planeten möglich ist. \nDas Team der Night of Freestyle beinhaltet Extremsportler wie den Österreicher Gerd Mayr\, der verrückte Buggy-Backflipper\, das spanische Duo Antonio Navas und Rocky Florensa\, mit ihren unglaublichen Tandem-FMX-Tricks\, die besten Deutschen FMX-Sportler und mehrfachen Deutschenmeister Luc und Hannes Ackermann\, den Italiener Jason Cesco\, der mit dem über 300 kg schweren Schneemobil einen Rückwärtssalto macht\, Nico Scholze und Patrick Schweika\, zwei der besten deutschen Mountainbike Sportler uva. Insgesamt werden über 30 Athleten irre Tricks und Stunts präsentieren.
URL:https://www.livemacher.de/event/night-of-freestyle-stuttgart/
LOCATION:Hanns-Martin-Schleyer-Halle Stuttgart\, Mercedesstraße 69\, Stuttgart\, Baden-Württemberg\, 70372\, Deutschland
CATEGORIES:Show
ATTACH;FMTTYPE=image/jpeg:https://www.livemacher.de/wp-content/uploads/2018/01/NOF_Magdeburg_AnnaMohn_2014-e1580297591163.jpg
ORGANIZER;CN="Livemacher GmbH":MAILTO:info@livemacher.de
GEO:48.793634;9.2276367
X-APPLE-STRUCTURED-LOCATION;VALUE=URI;X-ADDRESS=Hanns-Martin-Schleyer-Halle Stuttgart Mercedesstraße 69 Stuttgart Baden-Württemberg 70372 Deutschland;X-APPLE-RADIUS=500;X-TITLE=Mercedesstraße 69:geo:9.2276367,48.793634
END:VEVENT
END:VCALENDAR