BEGIN:VCALENDAR
VERSION:2.0
PRODID:-//Livemacher GmbH - ECPv6.15.20//NONSGML v1.0//EN
CALSCALE:GREGORIAN
METHOD:PUBLISH
X-WR-CALNAME:Livemacher GmbH
X-ORIGINAL-URL:https://www.livemacher.de
X-WR-CALDESC:Veranstaltungen für Livemacher GmbH
REFRESH-INTERVAL;VALUE=DURATION:PT1H
X-Robots-Tag:noindex
X-PUBLISHED-TTL:PT1H
BEGIN:VTIMEZONE
TZID:Europe/Berlin
BEGIN:DAYLIGHT
TZOFFSETFROM:+0100
TZOFFSETTO:+0200
TZNAME:CEST
DTSTART:20230326T010000
END:DAYLIGHT
BEGIN:STANDARD
TZOFFSETFROM:+0200
TZOFFSETTO:+0100
TZNAME:CET
DTSTART:20231029T010000
END:STANDARD
BEGIN:DAYLIGHT
TZOFFSETFROM:+0100
TZOFFSETTO:+0200
TZNAME:CEST
DTSTART:20240331T010000
END:DAYLIGHT
BEGIN:STANDARD
TZOFFSETFROM:+0200
TZOFFSETTO:+0100
TZNAME:CET
DTSTART:20241027T010000
END:STANDARD
BEGIN:DAYLIGHT
TZOFFSETFROM:+0100
TZOFFSETTO:+0200
TZNAME:CEST
DTSTART:20250330T010000
END:DAYLIGHT
BEGIN:STANDARD
TZOFFSETFROM:+0200
TZOFFSETTO:+0100
TZNAME:CET
DTSTART:20251026T010000
END:STANDARD
END:VTIMEZONE
BEGIN:VEVENT
DTSTART;TZID=Europe/Berlin:20240928T200000
DTEND;TZID=Europe/Berlin:20240928T230000
DTSTAMP:20260422T160949
CREATED:20231220T103018Z
LAST-MODIFIED:20240314T151818Z
UID:10051154-1727553600-1727564400@www.livemacher.de
SUMMARY:MICHAEL JACKSON "Tribute Live Experience" in Freiberg\, PRISMA
DESCRIPTION:Erleben Sie noch einmal die größten Hits von Michael Jackson und den Jackson 5 in einer spektakulären und beeindruckenden Bühnenshow.\nSeine Hits sind in der ganzen Welt inzwischen Kult-Songs und werden heute noch in allen Diskotheken dieser Welt gespielt. \nJetzt Tickets sichern… \nAber auch Live-Shows sollen die Musik des King of Pop weiterhin leben lassen. So auch die 2 stündige Show mit großer Band \, Tänzerinnen und einen überragenden Solist – Sascha Pazdera.\nEr gilt als der beste deutsche Live-Tribute Michael Jackson Interpret. So wurde er auch vielfach ausgezeichnet und 2017 zum Künstler des Jahres in Deutschland und der Schweiz gekürt.\nDie Michael Jackson Tribute Show ist die Einzige und originale Show in Deutschland die unter der choreographischen Leitung von La Velle Smith Jr. (Michael Jackson-Choreograph und Dancer für Thriller & Ghost) mit entwickelt wurde.\nGastspiele des Ensembles gab es bereits im Leipziger Gewandhaus\, Berliner Tempodrom \, Circus Krone München\, Meistersingerhalle Nürnberg\, Sylt Meerkabarett\, ZDF Fernsehgarten und sogar bei „Wetten dass ?!“.\nDie Fans dürfen sich freuen auf die Hits des „King of Pop“ mit viel Tanz\, Emotionen und einer spielstarken Band. \n 
URL:https://www.livemacher.de/event/michael-jackson-tribute-live-experience-in-freiberg-prisma/
LOCATION:Freiberg am Neckar\, PRISMA\, Marktplatz 22\, Freiberg am Neckar\, Baden-Württemberg\, 71691\, Deutschland
CATEGORIES:Kultur
ATTACH;FMTTYPE=image/jpeg:https://www.livemacher.de/wp-content/uploads/2023/03/web-20231216-MAR-Michael_Jackson_Tribute-1600x1600-1.jpg
ORGANIZER;CN="Livemacher GmbH":MAILTO:info@livemacher.de
GEO:48.93591;9.19215
X-APPLE-STRUCTURED-LOCATION;VALUE=URI;X-ADDRESS=Freiberg am Neckar PRISMA Marktplatz 22 Freiberg am Neckar Baden-Württemberg 71691 Deutschland;X-APPLE-RADIUS=500;X-TITLE=Marktplatz 22:geo:9.19215,48.93591
END:VEVENT
END:VCALENDAR