BEGIN:VCALENDAR
VERSION:2.0
PRODID:-//Livemacher GmbH - ECPv6.15.20//NONSGML v1.0//EN
CALSCALE:GREGORIAN
METHOD:PUBLISH
X-ORIGINAL-URL:https://www.livemacher.de
X-WR-CALDESC:Veranstaltungen für Livemacher GmbH
REFRESH-INTERVAL;VALUE=DURATION:PT1H
X-Robots-Tag:noindex
X-PUBLISHED-TTL:PT1H
BEGIN:VTIMEZONE
TZID:Europe/Berlin
BEGIN:DAYLIGHT
TZOFFSETFROM:+0100
TZOFFSETTO:+0200
TZNAME:CEST
DTSTART:20230326T010000
END:DAYLIGHT
BEGIN:STANDARD
TZOFFSETFROM:+0200
TZOFFSETTO:+0100
TZNAME:CET
DTSTART:20231029T010000
END:STANDARD
BEGIN:DAYLIGHT
TZOFFSETFROM:+0100
TZOFFSETTO:+0200
TZNAME:CEST
DTSTART:20240331T010000
END:DAYLIGHT
BEGIN:STANDARD
TZOFFSETFROM:+0200
TZOFFSETTO:+0100
TZNAME:CET
DTSTART:20241027T010000
END:STANDARD
BEGIN:DAYLIGHT
TZOFFSETFROM:+0100
TZOFFSETTO:+0200
TZNAME:CEST
DTSTART:20250330T010000
END:DAYLIGHT
BEGIN:STANDARD
TZOFFSETFROM:+0200
TZOFFSETTO:+0100
TZNAME:CET
DTSTART:20251026T010000
END:STANDARD
END:VTIMEZONE
BEGIN:VEVENT
DTSTART;TZID=Europe/Berlin:20240317T140000
DTEND;TZID=Europe/Berlin:20240317T163000
DTSTAMP:20260420T183601
CREATED:20230512T131817Z
LAST-MODIFIED:20240208T092744Z
UID:10050833-1710684000-1710693000@www.livemacher.de
SUMMARY:Ritter Rost „Best of: Ritter Rost Revue\, Die Jubiläumsshow!“ Tamm\, Bürgersaal
DESCRIPTION:Termin ersatzlos abgesagt                            \n                            \n                        \n                        \n                        \n                        \n                                                Die Veranstaltung wurde ersatzlos abgesagt. Die für Sonntag\, den 17.03.2024 angesetzte Veranstaltung 'Ritter Rost - Best of' im Bürgerhaus in Tamm\, wurde ersatzlos abgesagt. Die für diese Veranstaltung erworbenen Tickets können bei der Vorverkaufsstelle\, bei der Sie diese Tickets erworben haben\, zurückgegeben werden und Sie bekommen Ihr Geld erstattet. \n\n                        \n                        \n                        \n                                        \n                    \n                \n            \n        \n\n    \n    \n\n\nIn 2020 sind es zwanzig Jahre\, seit die erste Ritter Rost-Produktion nach der Uraufführung im Altonaer Theater in Hamburg auf große Tournee ging.\nMittlerweile wurden 5 weitere Produktionen „ Ritter Rost und das Gespenst“\, „Ritter Rost feiert Weihnachten“\, „Ritter Rost geht zur Schule“\, „Ritter Rost und das Haustier“ und „Ritter Rost ist krank“ (alle nach den gleichnamigen Büchern von Jörg Hilbert mit der Musik von Felix Janosa) auf die Reise durch Deutschland geschickt. \nJetzt Tickets sichern! \nDie nunmehr siebte Produktion fasst die Höhepunkte dieser Aufführungen mit einer frischen\, neuen Rahmenhandlung zusammen und lässt die schönsten Lieder\, Szenen und Momente aus 20 Jahren Tournee noch einmal „aufleuchten“: \nErleben Sie mit uns Ritter Rost\, unseren „tapferen“ Helden\, Koks\, den quirligen Drachen\, das mutige Burgfräulein Bö\, das ängstliche kleine Burggespenst\, den kultigen Pizzablitz Paolo und natürlich den frechen sprechenden Hut.\nUnsere Helden aus den 16 bisher erschienenen Büchern\, die schon weit über zwei Millionen mal verkauft wurden\, erleben mit dem Publikum zusammen ein neues Bühnenspektakel in bester LEUCHTENDE AUGEN Qualität. \nRitter Rost\, Bö und Koks sitzen in der Burgküche und unterhalten sich. Der Ritter erzählt stolz von seiner Ritter-Schul-Prüfung vor König Bleifuss; Koks erinnert sich voller Freude an die tollen Tage\, an denen er mit dem kleinen Gespenst zusammen in der Burg „gespukt“ hat; Bö berichtet vom Plätzchenbacken und vom flippigen Paolo\, dem Pizzablitz; der Hut plappert vom „Duell“ von Koks und Bö auf der eisernen Burg und der Ritter Rost kriegt schon wieder das „pfeifende Dosenfieber“\, wenn er nur ans Aufräumen denkt. \nFeiern Sie mit uns mit dieser hinreißenden Inszenierung das Jubiläum der Leuchtende Augen Produktion Hamburg von Mike Frede!
URL:https://www.livemacher.de/event/ritter-rost-best-of-ritter-rost-revue-die-jubilaeumsshow-tamm-buergersaal/
LOCATION:Tamm\, Kulturzentrum Bürgersaal\, Bissinger Straße 8\, Tamm\, Baden-Württemberg\, 71732\, Deutschland
CATEGORIES:Kultur
ATTACH;FMTTYPE=image/jpeg:https://www.livemacher.de/wp-content/uploads/2023/05/web_LM_20220326_BES_Ritter-Rost_1600x1600.jpg
ORGANIZER;CN="Livemacher GmbH":MAILTO:info@livemacher.de
GEO:48.9226;9.1222
X-APPLE-STRUCTURED-LOCATION;VALUE=URI;X-ADDRESS=Tamm Kulturzentrum Bürgersaal Bissinger Straße 8 Tamm Baden-Württemberg 71732 Deutschland;X-APPLE-RADIUS=500;X-TITLE=Bissinger Straße 8:geo:9.1222,48.9226
END:VEVENT
BEGIN:VEVENT
DTSTART;TZID=Europe/Berlin:20240316T140000
DTEND;TZID=Europe/Berlin:20240316T163000
DTSTAMP:20260420T183601
CREATED:20230512T133223Z
LAST-MODIFIED:20240208T092516Z
UID:10050834-1710597600-1710606600@www.livemacher.de
SUMMARY:Ritter Rost „Best of: Ritter Rost Revue\, Die Jubiläumsshow!“ im Kurhaus in Bad Rappenau
DESCRIPTION:Termin ersatzlos abgesagt                            \n                            \n                        \n                        \n                        \n                        \n                                                Die Veranstaltung wurde ersatzlos abgesagt. Die für Samstag\, den 16.03.2024 angesetzte Veranstaltung 'Ritter Rost - Best of' im Kurhaus in Bad Rappenau\, wurde ersatzlos abgesagt. Die für diese Veranstaltung erworbenen Tickets können bei der Vorverkaufsstelle\, bei der Sie diese Tickets erworben haben\, zurückgegeben werden und Sie bekommen Ihr Geld erstattet. \n\n                        \n                        \n                        \n                                        \n                    \n                \n            \n        \n\n    \n    \n\n\nIn 2020 sind es zwanzig Jahre\, seit die erste Ritter Rost-Produktion nach der Uraufführung im Altonaer Theater in Hamburg auf große Tournee ging.\nMittlerweile wurden 5 weitere Produktionen „ Ritter Rost und das Gespenst“\, „Ritter Rost feiert Weihnachten“\, „Ritter Rost geht zur Schule“\, „Ritter Rost und das Haustier“ und „Ritter Rost ist krank“ (alle nach den gleichnamigen Büchern von Jörg Hilbert mit der Musik von Felix Janosa) auf die Reise durch Deutschland geschickt. \nJetzt Tickets sichern! \nDie nunmehr siebte Produktion fasst die Höhepunkte dieser Aufführungen mit einer frischen\, neuen Rahmenhandlung zusammen und lässt die schönsten Lieder\, Szenen und Momente aus 20 Jahren Tournee noch einmal „aufleuchten“: \nErleben Sie mit uns Ritter Rost\, unseren „tapferen“ Helden\, Koks\, den quirligen Drachen\, das mutige Burgfräulein Bö\, das ängstliche kleine Burggespenst\, den kultigen Pizzablitz Paolo und natürlich den frechen sprechenden Hut.\nUnsere Helden aus den 16 bisher erschienenen Büchern\, die schon weit über zwei Millionen mal verkauft wurden\, erleben mit dem Publikum zusammen ein neues Bühnenspektakel in bester LEUCHTENDE AUGEN Qualität. \nRitter Rost\, Bö und Koks sitzen in der Burgküche und unterhalten sich. Der Ritter erzählt stolz von seiner Ritter-Schul-Prüfung vor König Bleifuss; Koks erinnert sich voller Freude an die tollen Tage\, an denen er mit dem kleinen Gespenst zusammen in der Burg „gespukt“ hat; Bö berichtet vom Plätzchenbacken und vom flippigen Paolo\, dem Pizzablitz; der Hut plappert vom „Duell“ von Koks und Bö auf der eisernen Burg und der Ritter Rost kriegt schon wieder das „pfeifende Dosenfieber“\, wenn er nur ans Aufräumen denkt. \nFeiern Sie mit uns mit dieser hinreißenden Inszenierung das Jubiläum der Leuchtende Augen Produktion Hamburg von Mike Frede!
URL:https://www.livemacher.de/event/ritter-rost-best-of-ritter-rost-revue-die-jubilaeumsshow-im-kurhaus-in-bad-rappenau/
LOCATION:Bad Rappenau\, Kurhaus\, Fritz-Hagner-Promenade 2\, Bad Rappenau\, Baden-Württemberg\, 74906\, Deutschland
CATEGORIES:Kultur
ATTACH;FMTTYPE=image/jpeg:https://www.livemacher.de/wp-content/uploads/2023/05/web_LM_20220326_BES_Ritter-Rost_1600x1600.jpg
ORGANIZER;CN="Livemacher GmbH":MAILTO:info@livemacher.de
GEO:49.2403513;9.1078422
X-APPLE-STRUCTURED-LOCATION;VALUE=URI;X-ADDRESS=Bad Rappenau Kurhaus Fritz-Hagner-Promenade 2 Bad Rappenau Baden-Württemberg 74906 Deutschland;X-APPLE-RADIUS=500;X-TITLE=Fritz-Hagner-Promenade 2:geo:9.1078422,49.2403513
END:VEVENT
END:VCALENDAR