BEGIN:VCALENDAR
VERSION:2.0
PRODID:-//Livemacher GmbH - ECPv6.15.20//NONSGML v1.0//EN
CALSCALE:GREGORIAN
METHOD:PUBLISH
X-WR-CALNAME:Livemacher GmbH
X-ORIGINAL-URL:https://www.livemacher.de
X-WR-CALDESC:Veranstaltungen für Livemacher GmbH
REFRESH-INTERVAL;VALUE=DURATION:PT1H
X-Robots-Tag:noindex
X-PUBLISHED-TTL:PT1H
BEGIN:VTIMEZONE
TZID:Europe/Berlin
BEGIN:DAYLIGHT
TZOFFSETFROM:+0100
TZOFFSETTO:+0200
TZNAME:CEST
DTSTART:20250330T010000
END:DAYLIGHT
BEGIN:STANDARD
TZOFFSETFROM:+0200
TZOFFSETTO:+0100
TZNAME:CET
DTSTART:20251026T010000
END:STANDARD
BEGIN:DAYLIGHT
TZOFFSETFROM:+0100
TZOFFSETTO:+0200
TZNAME:CEST
DTSTART:20260329T010000
END:DAYLIGHT
BEGIN:STANDARD
TZOFFSETFROM:+0200
TZOFFSETTO:+0100
TZNAME:CET
DTSTART:20261025T010000
END:STANDARD
BEGIN:DAYLIGHT
TZOFFSETFROM:+0100
TZOFFSETTO:+0200
TZNAME:CEST
DTSTART:20270328T010000
END:DAYLIGHT
BEGIN:STANDARD
TZOFFSETFROM:+0200
TZOFFSETTO:+0100
TZNAME:CET
DTSTART:20271031T010000
END:STANDARD
END:VTIMEZONE
BEGIN:VEVENT
DTSTART;TZID=Europe/Berlin:20261010T200000
DTEND;TZID=Europe/Berlin:20261010T223000
DTSTAMP:20260422T185733
CREATED:20251003T104950Z
LAST-MODIFIED:20260309T123954Z
UID:10053204-1791662400-1791671400@www.livemacher.de
SUMMARY:Mitsingkonzert - Aus voller Kehle für die Seele in Tamm\, Kulturzentrum Bürgersaal
DESCRIPTION:Die zweite Auflage „Aus voller Kehle für die Seele“ in Tamm richtet sich an alle Menschen\, die gerne singen!\nEs sind wirklich alle gemeint: Jene\, die denken\, dass sie gar nicht singen können und jene\, die es ein wenig können oder es oft und gerne tun.\nEs ist kein normaler Chor mit regelmäßigen Terminen und Aufführungen. Es ist eigentlich gar kein Chor! Sondern eine Verabredung zum Singen\, bei der der Spaß im Vordergrund stehen soll: der Spaß am gemeinsamen Singen\, der Spaß am Ausprobieren und Experimentieren und auch der Spaß am gemeinsamen Scheitern. Gesungen wird ohne Noten\, der Text auf eine Leinwand projiziert. \nJetzt Tickets sichern \nPatrick Bopp alias Memphis war Gründungsmitglied der Stuttgarter Vocal-Comedy-Gruppe „Füenf “ und gibt den musikalischen Moderator. Er singt vor\, dirigiert\, motiviert\, bietet Begleitstimmen und begleitet am Klavier. Es wird gesungen\, was sich singen lässt: von Rock- und Popsongs\, Schlager jedweder Coleur\, Volkslied\, Kinderlied\, Rap\, Ska bis hin zu Jodler. Alles ist möglich: von ABBA\, den Ärzten\, über Heino\, Elvis\, Rio Reiser bis hin zu Ed Sheeran und aktuellen Interpret*innen.\nEin humorvoller\, ungezwungener Abend\, bei dem alle mit einem entspannten Grinsen im Gesicht rausgehen und dieses für ein paar Tage beibehalten!
URL:https://www.livemacher.de/event/mitsingkonzert-aus-voller-kehle-fuer-die-seele-in-tamm-kulturzentrum-buergersaal-2/
LOCATION:Tamm\, Kulturzentrum Bürgersaal\, Bissinger Straße 8\, Tamm\, Baden-Württemberg\, 71732\, Deutschland
CATEGORIES:Kultur
ATTACH;FMTTYPE=image/jpeg:https://www.livemacher.de/wp-content/uploads/2024/10/Patrick_Bopp_MSK.jpg
ORGANIZER;CN="Livemacher GmbH":MAILTO:info@livemacher.de
GEO:48.9226;9.1222
X-APPLE-STRUCTURED-LOCATION;VALUE=URI;X-ADDRESS=Tamm Kulturzentrum Bürgersaal Bissinger Straße 8 Tamm Baden-Württemberg 71732 Deutschland;X-APPLE-RADIUS=500;X-TITLE=Bissinger Straße 8:geo:9.1222,48.9226
END:VEVENT
BEGIN:VEVENT
DTSTART;TZID=Europe/Berlin:20261016T193000
DTEND;TZID=Europe/Berlin:20261016T223000
DTSTAMP:20260422T185733
CREATED:20260115T150623Z
LAST-MODIFIED:20260115T151419Z
UID:10053210-1792179000-1792189800@www.livemacher.de
SUMMARY:Willy Astor - "Reimart und Lachkunde" in Bad Rappenau\, Kurhaus
DESCRIPTION:Reimart und Lachkunde\nPrädikat Wortvoll \nIn einer Welt in der kaum mehr was easy ist in Brindisi und nix mehr im Lack am Skagerak\, sich das Universum über und unter uns auch nicht mehr an die Regeln hält\, kommt Musikkomödiant Willy Astor mit neuen Ideen aus seinem Einfallsreich. Als Wolfgang Amadeus Notarzt rettet er nicht nur manchen Abend sondern lässt im besten Fall so manchen Kummer des Alltags vergessen.\nAlso warum unterm Rollkragen Groll tragen!? \nJetzt Tickets sichern! \nLiederniederschreiber Astor schafft ein neues Munterbewusstsein\, er ist ein zukunftsfähiges Auslaufmodell\, seit rund 4 Jahrzehnten auf der Bühne und somit ein Klassiker\, den man immer wieder gesehn und gehört haben muss!\nDas Allroundtalent versteht es wie kein anderer\, Sinn und Klang von Wörtern zu verdrehen\, daß dabei etwas völlig neues und ultra-komisches herauskommt.\nUnd das Publikum bekommt dabei natürlich Humor direkt vom Erzeuger. Der Künstler erscheint an diesem Abend wieder persönlich\, allein stehend und selbst redend. \n 
URL:https://www.livemacher.de/event/willy-astor-reimart-und-lachkunde-in-bad-rappenau-kurhaus/
LOCATION:Bad Rappenau\, Kurhaus\, Fritz-Hagner-Promenade 2\, Bad Rappenau\, Baden-Württemberg\, 74906\, Deutschland
CATEGORIES:Kultur
ATTACH;FMTTYPE=image/jpeg:https://www.livemacher.de/wp-content/uploads/2026/01/Artwork_Willy_Astor_800x800px.jpg
ORGANIZER;CN="Livemacher GmbH":MAILTO:info@livemacher.de
GEO:49.2403513;9.1078422
X-APPLE-STRUCTURED-LOCATION;VALUE=URI;X-ADDRESS=Bad Rappenau Kurhaus Fritz-Hagner-Promenade 2 Bad Rappenau Baden-Württemberg 74906 Deutschland;X-APPLE-RADIUS=500;X-TITLE=Fritz-Hagner-Promenade 2:geo:9.1078422,49.2403513
END:VEVENT
BEGIN:VEVENT
DTSTART;TZID=Europe/Berlin:20261018T190000
DTEND;TZID=Europe/Berlin:20261018T220000
DTSTAMP:20260422T185733
CREATED:20260115T151128Z
LAST-MODIFIED:20260115T151354Z
UID:10053211-1792350000-1792360800@www.livemacher.de
SUMMARY:Willy Astor - "Reimart und Lachkunde" in Freiberg am Neckar\, PRISMA
DESCRIPTION:Reimart und Lachkunde\nPrädikat Wortvoll \nIn einer Welt in der kaum mehr was easy ist in Brindisi und nix mehr im Lack am Skagerak\, sich das Universum über und unter uns auch nicht mehr an die Regeln hält\, kommt Musikkomödiant Willy Astor mit neuen Ideen aus seinem Einfallsreich. Als Wolfgang Amadeus Notarzt rettet er nicht nur manchen Abend sondern lässt im besten Fall so manchen Kummer des Alltags vergessen.\nAlso warum unterm Rollkragen Groll tragen!? \nJetzt Tickets sichern! \nLiederniederschreiber Astor schafft ein neues Munterbewusstsein\, er ist ein zukunftsfähiges Auslaufmodell\, seit rund 4 Jahrzehnten auf der Bühne und somit ein Klassiker\, den man immer wieder gesehn und gehört haben muss!\nDas Allroundtalent versteht es wie kein anderer\, Sinn und Klang von Wörtern zu verdrehen\, daß dabei etwas völlig neues und ultra-komisches herauskommt.\nUnd das Publikum bekommt dabei natürlich Humor direkt vom Erzeuger. Der Künstler erscheint an diesem Abend wieder persönlich\, allein stehend und selbst redend.
URL:https://www.livemacher.de/event/willy-astor-reimart-und-lachkunde-in-freiberg-am-neckar-prisma/
LOCATION:Freiberg am Neckar\, PRISMA\, Marktplatz 22\, Freiberg am Neckar\, Baden-Württemberg\, 71691\, Deutschland
CATEGORIES:Kultur
ATTACH;FMTTYPE=image/jpeg:https://www.livemacher.de/wp-content/uploads/2026/01/Artwork_Willy_Astor_800x800px.jpg
ORGANIZER;CN="Livemacher GmbH":MAILTO:info@livemacher.de
GEO:48.93591;9.19215
X-APPLE-STRUCTURED-LOCATION;VALUE=URI;X-ADDRESS=Freiberg am Neckar PRISMA Marktplatz 22 Freiberg am Neckar Baden-Württemberg 71691 Deutschland;X-APPLE-RADIUS=500;X-TITLE=Marktplatz 22:geo:9.19215,48.93591
END:VEVENT
BEGIN:VEVENT
DTSTART;TZID=Europe/Berlin:20261030T200000
DTEND;TZID=Europe/Berlin:20261030T200000
DTSTAMP:20260422T185733
CREATED:20260123T125436Z
LAST-MODIFIED:20260218T124112Z
UID:10053215-1793390400-1793390400@www.livemacher.de
SUMMARY:Doris Reichenauer - "Jetzt hat's gschnacklt..." in Tamm\, Kulturzentrum Bürgersaal
DESCRIPTION:Doris Reichenauer lässt die Lachmuskeln tanzen:\n„Jetzt hat´s gschnacklt…“\nFreche\, authentische Comedy\, die mitten ins Herz trifft! Lachen\, bis die Tränen fließen – das ist die Spezialität von Doris Reichenauer. Die mit dem Kleinkunstpreis Baden-Württemberg ausgezeichnete Kabarettistin und auch bekannt aus dem Comedy-Duo Dui do on de Sell serviert Doris Reichenauer in ihrem neuen Solo-Programm „Jetzt hat´s gschnacklt…“ Alltagsgeschichten so authentisch und frech\, dass das Publikum in wahre Begeisterungsstürme ausbricht. \nJetzt Tickets sichern! \nVon den kleinen Katastrophen bis zu den großen Triumphen des Lebens – Doris nimmt alles ins Visier und verpasst jedem Thema ihre ganz eigene humorvolle Sicht.\nMit einem charmanten Augenzwinkern bringt sie die Vorfreude auf all die kommenden Abenteuer auf die Bühne. Das Publikum wird sich in vielen Lebenssituationen\nwiedererkennen und sich dabei ertappen\, herzlich über sich selbst zu lachen. Wie wunderbar ist das Gefühl\, wenn man realisiert\, dass das\, was man z.B. als Eltern\nweitergegeben hat\, angekommen ist und Wurzeln geschlagen hat – dann weiß man“ Jetzt hat´s gschnacklt …“\nFans von Doris Reichenauer wissen: Ihr Humor ist so scharf wie ihr Verstand und so frech wie ihre Pointen. „Jetzt hat´s gschnacklt…“ verspricht einen Abend\, bei dem kein Auge trocken\nund kein Zwerchfell untrainiert bleibt.
URL:https://www.livemacher.de/event/doris-reichenauer-jetzt-hats-gschnacklt-in-tamm-kulturzentrum-buergersaal/
LOCATION:Tamm\, Kulturzentrum Bürgersaal\, Bissinger Straße 8\, Tamm\, Baden-Württemberg\, 71732\, Deutschland
CATEGORIES:Kultur
ATTACH;FMTTYPE=image/jpeg:https://www.livemacher.de/wp-content/uploads/2026/01/Gschnacklt2024-Quadrat.jpg
ORGANIZER;CN="Livemacher GmbH":MAILTO:info@livemacher.de
GEO:48.9226;9.1222
X-APPLE-STRUCTURED-LOCATION;VALUE=URI;X-ADDRESS=Tamm Kulturzentrum Bürgersaal Bissinger Straße 8 Tamm Baden-Württemberg 71732 Deutschland;X-APPLE-RADIUS=500;X-TITLE=Bissinger Straße 8:geo:9.1222,48.9226
END:VEVENT
END:VCALENDAR