BEGIN:VCALENDAR
VERSION:2.0
PRODID:-//Livemacher GmbH - ECPv6.15.20//NONSGML v1.0//EN
CALSCALE:GREGORIAN
METHOD:PUBLISH
X-ORIGINAL-URL:https://www.livemacher.de
X-WR-CALDESC:Veranstaltungen für Livemacher GmbH
REFRESH-INTERVAL;VALUE=DURATION:PT1H
X-Robots-Tag:noindex
X-PUBLISHED-TTL:PT1H
BEGIN:VTIMEZONE
TZID:Europe/Berlin
BEGIN:DAYLIGHT
TZOFFSETFROM:+0100
TZOFFSETTO:+0200
TZNAME:CEST
DTSTART:20250330T010000
END:DAYLIGHT
BEGIN:STANDARD
TZOFFSETFROM:+0200
TZOFFSETTO:+0100
TZNAME:CET
DTSTART:20251026T010000
END:STANDARD
BEGIN:DAYLIGHT
TZOFFSETFROM:+0100
TZOFFSETTO:+0200
TZNAME:CEST
DTSTART:20260329T010000
END:DAYLIGHT
BEGIN:STANDARD
TZOFFSETFROM:+0200
TZOFFSETTO:+0100
TZNAME:CET
DTSTART:20261025T010000
END:STANDARD
BEGIN:DAYLIGHT
TZOFFSETFROM:+0100
TZOFFSETTO:+0200
TZNAME:CEST
DTSTART:20270328T010000
END:DAYLIGHT
BEGIN:STANDARD
TZOFFSETFROM:+0200
TZOFFSETTO:+0100
TZNAME:CET
DTSTART:20271031T010000
END:STANDARD
END:VTIMEZONE
BEGIN:VEVENT
DTSTART;TZID=Europe/Berlin:20260509T200000
DTEND;TZID=Europe/Berlin:20260509T200000
DTSTAMP:20260424T135920
CREATED:20250911T105132Z
LAST-MODIFIED:20260325T143248Z
UID:10053206-1778356800-1778356800@www.livemacher.de
SUMMARY:Thomas Kundt - Tatortreiniger - Mord\, Maden\, Tragödien in Tamm\, Kulturzentrum Bürgersaal
DESCRIPTION:Tatortreiniger hautnah – Thomas Kundt öffnet die Türen zu den wahren Horrorgeschichten von nebenan. \nAls wohl bekanntester Tatortreiniger & Desinfektor Deutschlands hat Thomas Kundt schon einiges gesehen: Blut\, Maden und Leichenreste überall – die Tragödien der Toten gehen immer unter die Haut. Es gibt unzählige Todesursachen und selbstverständlich gehören auch Kriminalfälle zu dem blutigen Arbeitsalltag des Tatortreinigers und nirgendwo sonst werden die Abgründe des Verbrechens so greifbar wie am Ort des Geschehens. Thomas Kundt hat bei zahlreichen tragischen Ereignissen die Kehrseite der Realität miterlebt. Auf seiner Tour teilt er einen echten Blick auf unvorstellbare Leichenfundorte\, hinter denen aufwühlende Geschichten mit schaurigen Details stehen. \n\nJetzt Tickets sichern!\n\n\n\nDie meisten Schicksale liegen einer starken sozialen Vereinsamung oder exzessivem Drogenmissbrauch zugrunde. Der Tatortreiniger verdeutlicht Tag für Tag\, wie wichtig es ist\, auf die Menschen im eigenen Umfeld Acht zu geben. Mit den Schicksals-Stories möchte er aufzeigen\, jedem Menschen respektvoll gegenüber zu treten – denn Thomas Kundt sieht „Einsamkeit macht krank“. Die Tour ist nichts für schwache Nerven\, denn Thomas Kundt scheut sich nicht\, die schockierenden Hintergründe auf pietätvolle Art und Weise seinem Publikum greifbar zu machen. \nFür wahre True Crime-Fans bietet “Mord\, Maden\, Tragödien” einen abwechslungsreichen und spannenden Abend mit exklusiven Einblicken in die Tragödien von nebenan. FSK 18.
URL:https://www.livemacher.de/event/thomas-kundt-tatortreiniger-mord-maden-tragoedien-in-tamm-kulturzentrum-buergersaal/
LOCATION:Tamm\, Kulturzentrum Bürgersaal\, Bissinger Straße 8\, Tamm\, Baden-Württemberg\, 71732\, Deutschland
CATEGORIES:Kultur
ATTACH;FMTTYPE=image/png:https://www.livemacher.de/wp-content/uploads/2025/09/Ticketing.png
ORGANIZER;CN="Livemacher GmbH":MAILTO:info@livemacher.de
GEO:48.9226;9.1222
X-APPLE-STRUCTURED-LOCATION;VALUE=URI;X-ADDRESS=Tamm Kulturzentrum Bürgersaal Bissinger Straße 8 Tamm Baden-Württemberg 71732 Deutschland;X-APPLE-RADIUS=500;X-TITLE=Bissinger Straße 8:geo:9.1222,48.9226
END:VEVENT
BEGIN:VEVENT
DTSTART;TZID=Europe/Berlin:20260522T193000
DTEND;TZID=Europe/Berlin:20260522T220000
DTSTAMP:20260424T135920
CREATED:20260116T092502Z
LAST-MODIFIED:20260116T092502Z
UID:10053212-1779478200-1779487200@www.livemacher.de
SUMMARY:Alois & Elsbeth Gscheidle - "Gscheidles TV" in Bad Rappenau\, Kurhaus
DESCRIPTION:Alois & Elsbeth Gscheidle\, das schwäbische Kabarettpaar mit Schlagfertigkeit und Schwertgosch\, spielen seit vielen Jahren auf den Bühnen im Ländle. Sie sind auch regelmäßig vor den Fernsehkameras der ARD und SWR aktiv. Jetzt haben Sie Ihr neues Programm „Gscheidles-TV“ mit den besten Nummern\, die sie im Fernsehen gespielt haben\, gefüllt und bringen sie live auf die Bühne. Das garantiert beste Unterhaltung und Lachen bis zum Schenkelklopfen. \nJetzt Tickets sichern! \nMarcus Neuweiler (Schöntal) spielt nicht nur den Alois. Er schlüpft gerne in verschiedene Kostüme\, Rollen und Dialekte. Birgit Pfeiffer (Fellbach-Schmiden) verkörpert die Elsbeth durch und durch: dominant\, überzeugend und durstig auf ein Weizenbier! Die Gscheidles spielen mit Herzblut und Leidenschaft. Sie inszenieren Ihre schwäbischen Alltagsszenen ganz nah am und teilweise auch mit dem Publikum. Dabei kommt Ihnen ihre Spezialität\, die Spontanität und Improvisation\, zu Gute. Immer wieder überraschen sie damit nicht nur das Publikum sondern auch sich selbst. Deshalb ist jeder Abend bei den Gscheidles immer ein bißchen anders.
URL:https://www.livemacher.de/event/alois-elsbeth-gscheidle-gscheidles-tv-in-bad-rappenau-kurhaus/
LOCATION:Bad Rappenau\, Kurhaus\, Fritz-Hagner-Promenade 2\, Bad Rappenau\, Baden-Württemberg\, 74906\, Deutschland
CATEGORIES:Kultur
ATTACH;FMTTYPE=image/jpeg:https://www.livemacher.de/wp-content/uploads/2025/06/DSC09832.jpg
ORGANIZER;CN="Livemacher GmbH":MAILTO:info@livemacher.de
GEO:49.2403513;9.1078422
X-APPLE-STRUCTURED-LOCATION;VALUE=URI;X-ADDRESS=Bad Rappenau Kurhaus Fritz-Hagner-Promenade 2 Bad Rappenau Baden-Württemberg 74906 Deutschland;X-APPLE-RADIUS=500;X-TITLE=Fritz-Hagner-Promenade 2:geo:9.1078422,49.2403513
END:VEVENT
END:VCALENDAR