BEGIN:VCALENDAR
VERSION:2.0
PRODID:-//Livemacher GmbH - ECPv6.15.20//NONSGML v1.0//EN
CALSCALE:GREGORIAN
METHOD:PUBLISH
X-WR-CALNAME:Livemacher GmbH
X-ORIGINAL-URL:https://www.livemacher.de
X-WR-CALDESC:Veranstaltungen für Livemacher GmbH
REFRESH-INTERVAL;VALUE=DURATION:PT1H
X-Robots-Tag:noindex
X-PUBLISHED-TTL:PT1H
BEGIN:VTIMEZONE
TZID:Europe/Berlin
BEGIN:DAYLIGHT
TZOFFSETFROM:+0100
TZOFFSETTO:+0200
TZNAME:CEST
DTSTART:20250330T010000
END:DAYLIGHT
BEGIN:STANDARD
TZOFFSETFROM:+0200
TZOFFSETTO:+0100
TZNAME:CET
DTSTART:20251026T010000
END:STANDARD
BEGIN:DAYLIGHT
TZOFFSETFROM:+0100
TZOFFSETTO:+0200
TZNAME:CEST
DTSTART:20260329T010000
END:DAYLIGHT
BEGIN:STANDARD
TZOFFSETFROM:+0200
TZOFFSETTO:+0100
TZNAME:CET
DTSTART:20261025T010000
END:STANDARD
BEGIN:DAYLIGHT
TZOFFSETFROM:+0100
TZOFFSETTO:+0200
TZNAME:CEST
DTSTART:20270328T010000
END:DAYLIGHT
BEGIN:STANDARD
TZOFFSETFROM:+0200
TZOFFSETTO:+0100
TZNAME:CET
DTSTART:20271031T010000
END:STANDARD
END:VTIMEZONE
BEGIN:VEVENT
DTSTART;TZID=Europe/Berlin:20260319T193000
DTEND;TZID=Europe/Berlin:20260319T233000
DTSTAMP:20260424T105031
CREATED:20260119T154254Z
LAST-MODIFIED:20260119T154435Z
UID:10053214-1773948600-1773963000@www.livemacher.de
SUMMARY:Spassix Comedy Nacht - Bietigheim - Besigheim - Bönnigheim
DESCRIPTION:Premiere der SPASSIX Comedy Nacht am 19. März:  Erstmals in 3B Bietigheim – Besigheim – Bönnigheim \nJetzt Tickets sichern! \nDie Kombination aus Comedy und Genuss begeisterte schon über 10.000 Gäste in Heilbronn\, Winnenden\, Backnang\, Schwäbisch Hall\, Mosbach und Würzburg. Jetzt kommt die SPASSIX Comedy Nacht erstmals in die 3B Region nach Bietigheim\, Besigheim\, Bönnigheim\, Hessigheim und Löchgau. Das besondere Konzept von SPASSIX: Während die Comedians wechseln und von Lokal zu Lokal ziehen\, bleiben die Gäste in ­ihrem Lokal und genießen dort vier Shows unterschiedlicher Comedians\, allesamt bekannt aus den beliebtesten TV-Formaten. Tuchfühlung und Funkenübersprung ist garantiert – schließlich sitzt man nur wenige Meter vor der Bühne! \nDabei sind Berhane Berhane („Deutscher als Du“)\, Christoph Maul („Live & Ungeprobt“)\, Leibssle („Irgendebber sodd!“)\, Peter Soltau („Kirche und Comedy – Rituale\, Zwischenrufe und Verpflegung“) und Özgür Cebe („natürliche Dummheit oder künstliche Intelligenz“).\nAb 18 Uhr ist Einlass in den Lokalen – so kann man die Küche des ausgewählten Lokals genießen und sich für den Abend stärken. Die Comedians spielen ab 19:30 Uhr jeweils ein Kurzprogramm von circa 25 Minuten\, danach ist eine gleichlange Pause\, in der man ­etwas trinken oder sich unterhalten kann. Die vierte und letzte Show startet um 22 Uhr – ein abendfüllendes und gleichzeitig kurzweiliges Programm ist somit garantiert. \nGetreu dem Motto „Comedy und Genuss“ sind nur TOP-Lokale dabei\, in denen man etwas Leckeres essen kann: Die Alten Kelter Besigheim bietet eine vielfältige regionale Küche mit internationalen Einflüssen\, in der Alte Kelter Löchgau gibt’s bodenständige schwäbische Küche mit regionalen und saisonalen Spezialitäten\, der Schreyerhof in Hessigheim serviert regionale Klassiker\, aber auch mal außergewöhnlichere Gerichte\, im Rossknecht im Schloss in Bietigheim trifft Omas Küche auf Foodie-Innovationen\, als Highlight gibt‘s die selbstgebrauten Biere und die Weinstube zur Fassdaube in Bönnigheim verbindet schwäbische Küche mit erlesenen Weinen der eigenen Kellerei. \nTickets ab 23 Euro gibt es ab sofort als E-Ticket auf der Homepage und nach Weihnachten auch als Hard-Ticket in allen beteiligten Lokalen. Bis 31. Januar kann man mit dem Early Bird Ticket 3 € sparen. Mit dem Gruppenticket (nur als E-Ticket buchbar) kann man ab 5 Personen weitere 2 € sparen – früh dran sein lohnt sich also! Jetzt muss man nur noch sein Lieblingslokal auswählen. \nSPASSIX Comedy-Nacht\nBietigheim – Besigheim – Bönnigheim\nDo. 19. März \nEinlass ab 18 Uhr\, 4 Shows ab 19.30 Uhr\nLetzte Show startet um 22 Uhr \nTicket-Vorverkauf\nEarly-Bird Phase (bis 31.1.26)\n23 € / 25 € Gruppe / Einzel\nRegulär (ab 1.2.26)\n26 € / 28 € Gruppe / Einzel\nE-Ticket auf der Homepage.  Hardtickets ab 23.12. in allen Lokalen
URL:https://www.livemacher.de/event/spassix-comedy-nacht-bietigheim-besigheim-boennigheim/
LOCATION:Baden-Württemberg
CATEGORIES:Comedy
ATTACH;FMTTYPE=image/jpeg:https://www.livemacher.de/wp-content/uploads/2026/01/SPASSIX-BBB-Veranstaltungskachel-Livemacher-1080x1080-25-12.jpg
END:VEVENT
BEGIN:VEVENT
DTSTART;TZID=Europe/Berlin:20260328T200000
DTEND;TZID=Europe/Berlin:20260328T223000
DTSTAMP:20260424T105031
CREATED:20251119T084016Z
LAST-MODIFIED:20260114T142723Z
UID:10053209-1774728000-1774737000@www.livemacher.de
SUMMARY:ABBA World Revival - A tribute Show to ABBA in Freiberg a.N.\, PRISMA
DESCRIPTION:Wenn Sie die Songs von ABBA in höchster Annäherung ans Original hören wollen\, sind Sie hier richtig. Es erwartet Sie eine tolle Bühenshow mit allen Hits von ABBA. Die Darbietung ist zu 100% live. Es werden keinerlei Zuspielungen oder Playback-Techniken verwendet. Das Repertoire von ABBA World Revival umfasst mehr als 30 der bekanntesten Songs der legendären schwedischen Mega-Band der 70er Jahre. \nJetzt Tickets sichern! \n10 Profimusiker haben sich zusammengetan\, um die Musik von ABBA\, die sie alle lieben und bewundern\, zu spielen und zu singen. \nDie Live Show bietet nicht nur höchste Perfektion in musikalischer Hinsicht\, auch die Bühnenshow\, die Kostüme und die Bühnen Choreographie sind auf höchstem Niveau und dem Original perfekt nachempfunden. \nExtravagante Kostüme und eine mit Tanzeinlagen und Lichteffekten angereicherte Bühnenshow\, aber das sind nur schmückende Elemente am Rande. Im Mittelpunkt steht die zeitlose Musik von ABBA\, in allen ihren Facetten von der treibenden Disco-Nummer\, bei der man spontan aufspringt und mittanzt\, bis zur anrührenden Ballade\, die das Publikum mäuschenstill werden und die Feuerzeuge zücken lässt. \nABBA WORLD REVIVAL ist eine Band\, der man anmerkt\, dass sie die Musik von ABBA liebt.
URL:https://www.livemacher.de/event/abba-world-revival-a-tribute-show-to-abba-in-freiberg-a-n-prisma/
LOCATION:Freiberg am Neckar\, PRISMA\, Marktplatz 22\, Freiberg am Neckar\, Baden-Württemberg\, 71691\, Deutschland
CATEGORIES:Kultur
ATTACH;FMTTYPE=image/jpeg:https://www.livemacher.de/wp-content/uploads/2022/12/web-20230415_TAM-ABBA_world_revival_1600x1600.jpg
ORGANIZER;CN="Livemacher GmbH":MAILTO:info@livemacher.de
GEO:48.93591;9.19215
X-APPLE-STRUCTURED-LOCATION;VALUE=URI;X-ADDRESS=Freiberg am Neckar PRISMA Marktplatz 22 Freiberg am Neckar Baden-Württemberg 71691 Deutschland;X-APPLE-RADIUS=500;X-TITLE=Marktplatz 22:geo:9.19215,48.93591
END:VEVENT
END:VCALENDAR