BEGIN:VCALENDAR
VERSION:2.0
PRODID:-//Livemacher GmbH - ECPv6.15.20//NONSGML v1.0//EN
CALSCALE:GREGORIAN
METHOD:PUBLISH
X-WR-CALNAME:Livemacher GmbH
X-ORIGINAL-URL:https://www.livemacher.de
X-WR-CALDESC:Veranstaltungen für Livemacher GmbH
REFRESH-INTERVAL;VALUE=DURATION:PT1H
X-Robots-Tag:noindex
X-PUBLISHED-TTL:PT1H
BEGIN:VTIMEZONE
TZID:Europe/Berlin
BEGIN:DAYLIGHT
TZOFFSETFROM:+0100
TZOFFSETTO:+0200
TZNAME:CEST
DTSTART:20240331T010000
END:DAYLIGHT
BEGIN:STANDARD
TZOFFSETFROM:+0200
TZOFFSETTO:+0100
TZNAME:CET
DTSTART:20241027T010000
END:STANDARD
BEGIN:DAYLIGHT
TZOFFSETFROM:+0100
TZOFFSETTO:+0200
TZNAME:CEST
DTSTART:20250330T010000
END:DAYLIGHT
BEGIN:STANDARD
TZOFFSETFROM:+0200
TZOFFSETTO:+0100
TZNAME:CET
DTSTART:20251026T010000
END:STANDARD
BEGIN:DAYLIGHT
TZOFFSETFROM:+0100
TZOFFSETTO:+0200
TZNAME:CEST
DTSTART:20260329T010000
END:DAYLIGHT
BEGIN:STANDARD
TZOFFSETFROM:+0200
TZOFFSETTO:+0100
TZNAME:CET
DTSTART:20261025T010000
END:STANDARD
END:VTIMEZONE
BEGIN:VEVENT
DTSTART;TZID=Europe/Berlin:20251107T200000
DTEND;TZID=Europe/Berlin:20251107T223000
DTSTAMP:20260424T103720
CREATED:20240123T091248Z
LAST-MODIFIED:20240321T084704Z
UID:10053118-1762545600-1762554600@www.livemacher.de
SUMMARY:Herrn Stumpfes Zieh & Zupf Kapelle in Freiberg am Neckar\, PRISMA
DESCRIPTION:FINALE\nAbschiedstour Herrn Stumpfes Zieh & Zupf Kapelle \nEs ist so weit. Es kann gewagt werden. Sie sind reif.\nSeit wahnwitzigen 32 Jahren sind sie nun unterwegs: Herrn Stumpfes Zieh & Zupf Kapelle mit ihrer „skrupellosen Hausmusik“. Wagemutig stürzten sie sich in so manches Abenteuer und haben währenddessen unzählige Hindernisse aus dem Weg geräumt. In bislang wohl um die 3.616 Konzerten haben sie sich die Qualitäten angeeignet\, die unabdingbar sind\, um den Olymp zu erreichen. Um ins Finale vorzudringen. \nJetzt Tickets sichern \nAnnähernd 676.329 km haben sie auf geteerten Straßen und Schotterpisten absolviert\, haben vor Ort gefühlt 23.528 Wurst- und Käsebrote verspeist\, um hernach gestärkt auf den Bühnen ihre unzähligen Instrumente bravourös zu bedienen und ihre engelsgleichen Stimmen erklingen zu lassen. Nun fühlen sie sich gereift und bereit. Das Finale steht an. Die neue CD und ein Liederbuch sind mit im Gepäck.\nVon Oktober 2024 bis Dezember 2025 wird Herrn Stumpfes Zieh & Zupf Kapelle auf ihrer letzten Tour nochmals alles geben\, wird alte Wirkungsstätten aufsuchen und hoffentlich in viele freudige Gesichter schauen. Mit ungebremster Spielfreude und einer Träne im Knopfloch. Wie es sein muss beim Abschied. Oimol isch rom.\nSie freuen sich mächtig auf Euch – die Stumpfes.
URL:https://www.livemacher.de/event/herrn-stumpfes-zieh-zupf-kapelle-in-freiberg-am-neckar-prisma/
LOCATION:Freiberg am Neckar\, PRISMA\, Marktplatz 22\, Freiberg am Neckar\, Baden-Württemberg\, 71691\, Deutschland
CATEGORIES:Kultur
ATTACH;FMTTYPE=image/jpeg:https://www.livemacher.de/wp-content/uploads/2023/12/20241206_Stumpfes_1600x1600.jpg
ORGANIZER;CN="Livemacher GmbH":MAILTO:info@livemacher.de
GEO:48.93591;9.19215
X-APPLE-STRUCTURED-LOCATION;VALUE=URI;X-ADDRESS=Freiberg am Neckar PRISMA Marktplatz 22 Freiberg am Neckar Baden-Württemberg 71691 Deutschland;X-APPLE-RADIUS=500;X-TITLE=Marktplatz 22:geo:9.19215,48.93591
END:VEVENT
BEGIN:VEVENT
DTSTART;TZID=Europe/Berlin:20251109T200000
DTEND;TZID=Europe/Berlin:20251109T223000
DTSTAMP:20260424T103720
CREATED:20241118T120021Z
LAST-MODIFIED:20250130T101748Z
UID:10053194-1762718400-1762727400@www.livemacher.de
SUMMARY:Mundstuhl - "Wir Kommen!" in Sinsheim\, Dr. - Sieber - Halle
DESCRIPTION:MUNDSTUHL präsentieren mit “WIR KOMMEN!” ihr brandneues und unfassbar lustiges Programm mit einhundertprozentiger Lachtränengarantie!\nDass MUNDSTUHL nach fast 30 Jahren immer noch zur Speerspitze der deutschen Live-Komiker gehören\, hat einen einfachen Grund: Sie sind schlichtweg sauwitzig. Und im neuen Programm “WIR KOMMEN!” packen die beiden Kultkomiker tatsächlich noch eine Schippe drauf und erreichen eine schier unglaubliche Pointendichte. Frisch\, schnell und topaktuell.\nJetzt Tickets sichern! \nLars Niedereichholz und Ande Werner gelten als wandelbarstes und erfolgreichstes Comedyduo Deutschlands und haben nagelneue Geschichten ihrer legendären Bühnenfiguren im Gepäck.\nDie ostdeutschen Bürgergeld-Ikonen Peggy und Sandy\, der cholerische Andi\, die Erfinder der Kanakcomedy Dragan und Alder\, die drucklosen Umweltaktivisten Torben und Malte von No Pressure\, der verrückte Grillschorsch\, die schlechtesten Zauberer der Welt Sickroy und Fried und viele weitere zum Brüllen komische Charaktere geben sich die Klinke in die Hand. “Wir kommen!” ist MUNDSTUHL pur!\nSatirische Spitzen\, die pure Lust am Blödsinn und ansteckende Spielfreude sind die Geheimzutaten des neuen Programms und natürlich nehmen die seit Jahren offen heterosexuell lebenden Ausnahmekomiker auch in Zeiten stets erhobener Zeigefinger kein Blatt vor den Mund. Sie sind der Fels in der Brandung humoristischer Horizonterweiterung. Triggerwarnung: Der Humor von MUNDSTUHL kann von manchen Menschen als zu lustig empfunden werden.
URL:https://www.livemacher.de/event/mundstuhl-wir-kommen-in-sinsheim-dr-sieber-halle/
LOCATION:Sinsheim\, Dr.-Sieber-Halle\, Friedrichstraße 17\, Sinsheim\, Baden-Württemberg\, 74889\, Deutschland
CATEGORIES:Kultur
ATTACH;FMTTYPE=image/jpeg:https://www.livemacher.de/wp-content/uploads/2024/10/Mundstuhl_wir_kommen_1600x1600.jpg
ORGANIZER;CN="Livemacher GmbH":MAILTO:info@livemacher.de
END:VEVENT
BEGIN:VEVENT
DTSTART;TZID=Europe/Berlin:20251121T193000
DTEND;TZID=Europe/Berlin:20251121T220000
DTSTAMP:20260424T103720
CREATED:20240923T092058Z
LAST-MODIFIED:20241014T120346Z
UID:10053189-1763753400-1763762400@www.livemacher.de
SUMMARY:Witz vom Olli in Bad Rappenau\, Kurhaus
DESCRIPTION:Oliver “Olli” Gimber\, der witzigste Malermeister Deutschlands\, bringt als WITZ VOM OLLI mit seinem neuen Programm Comedyfans im ganzen deutschsprachigen Raum zum Lachen.\nÜber YouTube und Facebook erreicht Olli ein Millionenpublikum und ist quasi über Nacht zu einem heimlichen Star der deutschen Comedyszene geworden. Mit seinem neuen Programm „Nach fest kommt ab“ verspricht er\, dass kein Auge trocken bleibt: „Das Publikum erwartet ein Abend voller Witz und verrückter Geschichten aus meinem Leben als Chef\, Unternehmer und Malermeister und darüber hinaus!“ Rund 1000 Witze kann der Pforzheimer aus dem Gedächtnis abrufen und hat im Netz mittlerweile Kultstatus erreicht.\nJetzt Tickets sichern \nZu seinen Fans pflegt Olli eine ganz besondere Verbindung: Schon lange vor Showbeginn ist er vor der Halle zu finden\, macht Selfies\, schüttelt jedem persönlich die Hand. Ein Star auf Augenhöhe\, der alles was er erleben darf nicht als selbstverständlich ansieht und eine Mission hat\, wie er selbst sagt: “Menschen zum Lachen bringen\, denn nicht alle sind so privilegiert wie ich. Und wenn ich Emails von Fans bekomme\, die zum Beispiel an Krebs erkrankt sind und sich bei mir bedanken\, dass ich sie trotz all der Schmerzen zum Lachen bringe\, dann weiß ich wofür ich das ganze mache. Und solange ich solche Emails bekomme\, mache ich immer weiter – mit Vollgas und vollem Körpereinsatz versteht sich.”
URL:https://www.livemacher.de/event/witz-vom-olli-in-bad-rappenau-kurhaus/
LOCATION:Bad Rappenau\, Kurhaus\, Fritz-Hagner-Promenade 2\, Bad Rappenau\, Baden-Württemberg\, 74906\, Deutschland
CATEGORIES:Kultur
ATTACH;FMTTYPE=image/jpeg:https://www.livemacher.de/wp-content/uploads/2024/04/1600x1600_witz_vom_olli.jpg
ORGANIZER;CN="Livemacher GmbH":MAILTO:info@livemacher.de
GEO:49.2403513;9.1078422
X-APPLE-STRUCTURED-LOCATION;VALUE=URI;X-ADDRESS=Bad Rappenau Kurhaus Fritz-Hagner-Promenade 2 Bad Rappenau Baden-Württemberg 74906 Deutschland;X-APPLE-RADIUS=500;X-TITLE=Fritz-Hagner-Promenade 2:geo:9.1078422,49.2403513
END:VEVENT
BEGIN:VEVENT
DTSTART;TZID=Europe/Berlin:20251122T200000
DTEND;TZID=Europe/Berlin:20251122T223000
DTSTAMP:20260424T103720
CREATED:20240923T091906Z
LAST-MODIFIED:20241105T083831Z
UID:10053190-1763841600-1763850600@www.livemacher.de
SUMMARY:Witz vom Olli in Tamm\, Bürgersaal
DESCRIPTION:Oliver “Olli” Gimber\, der witzigste Malermeister Deutschlands\, bringt als WITZ VOM OLLI mit seinem neuen Programm Comedyfans im ganzen deutschsprachigen Raum zum Lachen.\nÜber YouTube und Facebook erreicht Olli ein Millionenpublikum und ist quasi über Nacht zu einem heimlichen Star der deutschen Comedyszene geworden. Mit seinem neuen Programm „Nach fest kommt ab“ verspricht er\, dass kein Auge trocken bleibt: „Das Publikum erwartet ein Abend voller Witz und verrückter Geschichten aus meinem Leben als Chef\, Unternehmer und Malermeister und darüber hinaus!“ Rund 1000 Witze kann der Pforzheimer aus dem Gedächtnis abrufen und hat im Netz mittlerweile Kultstatus erreicht.\nJetzt Tickets sichern \nZu seinen Fans pflegt Olli eine ganz besondere Verbindung: Schon lange vor Showbeginn ist er vor der Halle zu finden\, macht Selfies\, schüttelt jedem persönlich die Hand. Ein Star auf Augenhöhe\, der alles was er erleben darf nicht als selbstverständlich ansieht und eine Mission hat\, wie er selbst sagt: “Menschen zum Lachen bringen\, denn nicht alle sind so privilegiert wie ich. Und wenn ich Emails von Fans bekomme\, die zum Beispiel an Krebs erkrankt sind und sich bei mir bedanken\, dass ich sie trotz all der Schmerzen zum Lachen bringe\, dann weiß ich wofür ich das ganze mache. Und solange ich solche Emails bekomme\, mache ich immer weiter – mit Vollgas und vollem Körpereinsatz versteht sich.”
URL:https://www.livemacher.de/event/witz-vom-olli-in-tamm-buergersaal/
LOCATION:Tamm\, Kulturzentrum Bürgersaal\, Bissinger Straße 8\, Tamm\, Baden-Württemberg\, 71732\, Deutschland
CATEGORIES:Kultur
ATTACH;FMTTYPE=image/jpeg:https://www.livemacher.de/wp-content/uploads/2024/04/1600x1600_witz_vom_olli.jpg
ORGANIZER;CN="Livemacher GmbH":MAILTO:info@livemacher.de
GEO:48.9226;9.1222
X-APPLE-STRUCTURED-LOCATION;VALUE=URI;X-ADDRESS=Tamm Kulturzentrum Bürgersaal Bissinger Straße 8 Tamm Baden-Württemberg 71732 Deutschland;X-APPLE-RADIUS=500;X-TITLE=Bissinger Straße 8:geo:9.1222,48.9226
END:VEVENT
BEGIN:VEVENT
DTSTART;TZID=Europe/Berlin:20251128T193000
DTEND;TZID=Europe/Berlin:20251128T220000
DTSTAMP:20260424T103720
CREATED:20241212T122407Z
LAST-MODIFIED:20241212T122407Z
UID:10053196-1764358200-1764367200@www.livemacher.de
SUMMARY:Mitsingkonzert - Aus voller Kehle für die Seele in Bad Rappenau\, Kurhaus
DESCRIPTION:„Aus voller Kehle für die Seele“ richtet sich an alle Menschen\, die gerne singen!\nEs sind wirklich alle gemeint: Jene\, die denken\, dass sie gar nicht singen können und jene\, die es ein wenig können oder es oft und gerne tun.\nEs ist kein normaler Chor mit regelmäßigen Terminen und Aufführungen. Es ist eigentlich gar kein Chor! Sondern eine Verabredung zum Singen\, bei der der Spaß im Vordergrund stehen soll: der Spaß am gemeinsamen Singen\, der Spaß am Ausprobieren und Experimentieren und auch der Spaß am gemeinsamen Scheitern. Gesungen wird ohne Noten\, der Text auf eine Leinwand projiziert. \nJetzt Tickets sichern \nPatrick Bopp alias Memphis war Gründungsmitglied der Stuttgarter Vocal-Comedy-Gruppe „Füenf “ und gibt den musikalischen Moderator. Er singt vor\, dirigiert\, motiviert\, bietet Begleitstimmen und begleitet am Klavier. Es wird gesungen\, was sich singen lässt: von Rock- und Popsongs\, Schlager jedweder Coleur\, Volkslied\, Kinderlied\, Rap\, Ska bis hin zu Jodler. Alles ist möglich: von ABBA\, den Ärzten\, über Heino\, Elvis\, Rio Reiser bis hin zu Ed Sheeran und aktuellen Interpret*innen.\nEin humorvoller\, ungezwungener Abend\, bei dem alle mit einem entspannten Grinsen im Gesicht rausgehen und dieses für ein paar Tage beibehalten!
URL:https://www.livemacher.de/event/mitsingkonzert-aus-voller-kehle-fuer-die-seele-in-bad-rappenau-kurhaus/
LOCATION:Bad Rappenau\, Kurhaus\, Fritz-Hagner-Promenade 2\, Bad Rappenau\, Baden-Württemberg\, 74906\, Deutschland
CATEGORIES:Kultur
ATTACH;FMTTYPE=image/jpeg:https://www.livemacher.de/wp-content/uploads/2024/10/Patrick_Bopp_MSK.jpg
ORGANIZER;CN="Livemacher GmbH":MAILTO:info@livemacher.de
GEO:49.2403513;9.1078422
X-APPLE-STRUCTURED-LOCATION;VALUE=URI;X-ADDRESS=Bad Rappenau Kurhaus Fritz-Hagner-Promenade 2 Bad Rappenau Baden-Württemberg 74906 Deutschland;X-APPLE-RADIUS=500;X-TITLE=Fritz-Hagner-Promenade 2:geo:9.1078422,49.2403513
END:VEVENT
END:VCALENDAR