BEGIN:VCALENDAR
VERSION:2.0
PRODID:-//Livemacher GmbH - ECPv6.15.20//NONSGML v1.0//EN
CALSCALE:GREGORIAN
METHOD:PUBLISH
X-WR-CALNAME:Livemacher GmbH
X-ORIGINAL-URL:https://www.livemacher.de
X-WR-CALDESC:Veranstaltungen für Livemacher GmbH
REFRESH-INTERVAL;VALUE=DURATION:PT1H
X-Robots-Tag:noindex
X-PUBLISHED-TTL:PT1H
BEGIN:VTIMEZONE
TZID:Europe/Berlin
BEGIN:DAYLIGHT
TZOFFSETFROM:+0100
TZOFFSETTO:+0200
TZNAME:CEST
DTSTART:20240331T010000
END:DAYLIGHT
BEGIN:STANDARD
TZOFFSETFROM:+0200
TZOFFSETTO:+0100
TZNAME:CET
DTSTART:20241027T010000
END:STANDARD
BEGIN:DAYLIGHT
TZOFFSETFROM:+0100
TZOFFSETTO:+0200
TZNAME:CEST
DTSTART:20250330T010000
END:DAYLIGHT
BEGIN:STANDARD
TZOFFSETFROM:+0200
TZOFFSETTO:+0100
TZNAME:CET
DTSTART:20251026T010000
END:STANDARD
BEGIN:DAYLIGHT
TZOFFSETFROM:+0100
TZOFFSETTO:+0200
TZNAME:CEST
DTSTART:20260329T010000
END:DAYLIGHT
BEGIN:STANDARD
TZOFFSETFROM:+0200
TZOFFSETTO:+0100
TZNAME:CET
DTSTART:20261025T010000
END:STANDARD
END:VTIMEZONE
BEGIN:VEVENT
DTSTART;TZID=Europe/Berlin:20250510T200000
DTEND;TZID=Europe/Berlin:20250510T223000
DTSTAMP:20260423T062825
CREATED:20240923T092245Z
LAST-MODIFIED:20241014T120226Z
UID:10053188-1746907200-1746916200@www.livemacher.de
SUMMARY:Witz vom Olli in Marbach\, Stadthalle Schillerhöhe
DESCRIPTION:Oliver “Olli” Gimber\, der witzigste Malermeister Deutschlands\, bringt als WITZ VOM OLLI mit seinem neuen Programm Comedyfans im ganzen deutschsprachigen Raum zum Lachen.\nÜber YouTube und Facebook erreicht Olli ein Millionenpublikum und ist quasi über Nacht zu einem heimlichen Star der deutschen Comedyszene geworden. Mit seinem neuen Programm „Nach fest kommt ab“ verspricht er\, dass kein Auge trocken bleibt: „Das Publikum erwartet ein Abend voller Witz und verrückter Geschichten aus meinem Leben als Chef\, Unternehmer und Malermeister und darüber hinaus!“ Rund 1000 Witze kann der Pforzheimer aus dem Gedächtnis abrufen und hat im Netz mittlerweile Kultstatus erreicht.\nJetzt Tickets sichern \nZu seinen Fans pflegt Olli eine ganz besondere Verbindung: Schon lange vor Showbeginn ist er vor der Halle zu finden\, macht Selfies\, schüttelt jedem persönlich die Hand. Ein Star auf Augenhöhe\, der alles was er erleben darf nicht als selbstverständlich ansieht und eine Mission hat\, wie er selbst sagt: “Menschen zum Lachen bringen\, denn nicht alle sind so privilegiert wie ich. Und wenn ich Emails von Fans bekomme\, die zum Beispiel an Krebs erkrankt sind und sich bei mir bedanken\, dass ich sie trotz all der Schmerzen zum Lachen bringe\, dann weiß ich wofür ich das ganze mache. Und solange ich solche Emails bekomme\, mache ich immer weiter – mit Vollgas und vollem Körpereinsatz versteht sich.”
URL:https://www.livemacher.de/event/witz-vom-olli-in-marbach-stadthalle-schillerhoehe/
LOCATION:Marbach am Neckar\, Stadthalle Schillerhöhe\, Schillerhöhe 12\, Marbach\, Baden-Württemberg\, 71672\, Deutschland
CATEGORIES:Kultur
ATTACH;FMTTYPE=image/jpeg:https://www.livemacher.de/wp-content/uploads/2024/04/1600x1600_witz_vom_olli.jpg
ORGANIZER;CN="Livemacher GmbH":MAILTO:info@livemacher.de
GEO:48.9346878;9.2562195
X-APPLE-STRUCTURED-LOCATION;VALUE=URI;X-ADDRESS=Marbach am Neckar Stadthalle Schillerhöhe Schillerhöhe 12 Marbach Baden-Württemberg 71672 Deutschland;X-APPLE-RADIUS=500;X-TITLE=Schillerhöhe 12:geo:9.2562195,48.9346878
END:VEVENT
END:VCALENDAR