BEGIN:VCALENDAR
VERSION:2.0
PRODID:-//Livemacher GmbH - ECPv6.15.20//NONSGML v1.0//EN
CALSCALE:GREGORIAN
METHOD:PUBLISH
X-ORIGINAL-URL:https://www.livemacher.de
X-WR-CALDESC:Veranstaltungen für Livemacher GmbH
REFRESH-INTERVAL;VALUE=DURATION:PT1H
X-Robots-Tag:noindex
X-PUBLISHED-TTL:PT1H
BEGIN:VTIMEZONE
TZID:Europe/Berlin
BEGIN:DAYLIGHT
TZOFFSETFROM:+0100
TZOFFSETTO:+0200
TZNAME:CEST
DTSTART:20230326T010000
END:DAYLIGHT
BEGIN:STANDARD
TZOFFSETFROM:+0200
TZOFFSETTO:+0100
TZNAME:CET
DTSTART:20231029T010000
END:STANDARD
BEGIN:DAYLIGHT
TZOFFSETFROM:+0100
TZOFFSETTO:+0200
TZNAME:CEST
DTSTART:20240331T010000
END:DAYLIGHT
BEGIN:STANDARD
TZOFFSETFROM:+0200
TZOFFSETTO:+0100
TZNAME:CET
DTSTART:20241027T010000
END:STANDARD
BEGIN:DAYLIGHT
TZOFFSETFROM:+0100
TZOFFSETTO:+0200
TZNAME:CEST
DTSTART:20250330T010000
END:DAYLIGHT
BEGIN:STANDARD
TZOFFSETFROM:+0200
TZOFFSETTO:+0100
TZNAME:CET
DTSTART:20251026T010000
END:STANDARD
END:VTIMEZONE
BEGIN:VEVENT
DTSTART;TZID=Europe/Berlin:20241109T200000
DTEND;TZID=Europe/Berlin:20241109T223000
DTSTAMP:20260423T140041
CREATED:20231220T093222Z
LAST-MODIFIED:20240906T131338Z
UID:10051153-1731182400-1731191400@www.livemacher.de
SUMMARY:La Finesse "GRENZENLOS" in Freiberg\, PRISMA
DESCRIPTION:„GRENZENLOS“\nMusik kennt keine Grenzen. Ihre Sprache ist international und erzählt Geschichten unterschiedlicher Völker und verschiedener Generationen. LA FINESSE befasst sich im neuen Programm genau damit: Grenzen überwinden\, überschreiten\, ja aufheben- GRENZENLOS und ohne Einschränkung zu musizieren. Die Crossover-Konzerte und Shows von LA FINESSE -seit mittlerweile über 10 Jahren- sind genau die richtige Plattform hierfür. \nJetzt Tickets sichern! \n„Was beliebt ist auch erlaubt“\, wusste auch schon Wilhelm Busch. So kreiert das Streichquartett Neues\, indem es die unterschiedlichsten Stile miteinander verbindet – das Markenzeichen von LA FINESSE!\nVergessen Sie die Grenzen von Raum und Zeit und genießen Sie den Moment des GRENZENLOSEN Entstehens\, das fulminante Live Erlebnis und die ausdrucksstarke Kreativität des Teams auf der Bühne.\nSeien Sie gespannt\, wohin Sie die charmanten Virtuosinnen in ihrem Crossover-Konzert mitnehmen werden. Denn auch der Abstand zwischen Bühne und Publikum wird immer GRENZENLOSER!\nWenn Kühe bessere Milch mit Mozart geben\, was passiert mit Ihnen\, wenn Sie einen Reigen von Mozarts berührenden Melodien im Klassik-Rock Stil hören? Kennen Sie Quodlibet? Können Sie sich vorstellen\, dass Beethoven an seinem 250. Geburtstag mit AC/DC auf Konzerttournee geht? Werden sie gemeinsam singen ohne das Lied zu kennen? Sind Sie schon einmal mit den Ohren gereist?\nAll diese Fragen können Sie bald beantworten.\nMusik schafft eine GRENZENLOSE Verbindung zwischen den Menschen.\nLA FINESSE freut sich darauf diese Verbindung mit Ihnen zu knüpfen. \n 
URL:https://www.livemacher.de/event/la-finesse-grenzenlos-in-freiberg-prisma/
LOCATION:Freiberg am Neckar\, PRISMA\, Marktplatz 22\, Freiberg am Neckar\, Baden-Württemberg\, 71691\, Deutschland
CATEGORIES:Kultur
ATTACH;FMTTYPE=image/jpeg:https://www.livemacher.de/wp-content/uploads/2023/12/LaFinesse_1600x1600-1-scaled.jpg
ORGANIZER;CN="Livemacher GmbH":MAILTO:info@livemacher.de
GEO:48.93591;9.19215
X-APPLE-STRUCTURED-LOCATION;VALUE=URI;X-ADDRESS=Freiberg am Neckar PRISMA Marktplatz 22 Freiberg am Neckar Baden-Württemberg 71691 Deutschland;X-APPLE-RADIUS=500;X-TITLE=Marktplatz 22:geo:9.19215,48.93591
END:VEVENT
BEGIN:VEVENT
DTSTART;TZID=Europe/Berlin:20241116T200000
DTEND;TZID=Europe/Berlin:20241116T223000
DTSTAMP:20260423T140041
CREATED:20240226T090020Z
LAST-MODIFIED:20240321T104703Z
UID:10050859-1731787200-1731796200@www.livemacher.de
SUMMARY:Duo Graceland mit Streicherquartett - "A Tribute to Simon & Garfunkel" in Bietigheim\, Kronenzentrum
DESCRIPTION:Mit Liedern wie „The Sound of Silence“ und „Cecilia“ schufen Simon & Garfunkel poetische Hymnen für eine ganze Generation. „Mrs. Robinson“ wurde 1969 weltberühmt durch den US-amerikanischen Spielfilm „Die Reifeprüfung“. 1968 schrieb das US-amerikanische Duo mit „The Boxer“ ein hochemotionales Loblied auf einen Überlebenskünstler. Als Botschaft der Hoffnung ging zwei Jahre später mit „Bridge Over Troubled Water“ eine Komposition von schlichter Schönheit in die Musikgeschichte ein. \nJetzt Tickets sichern! \nSeit einigen Jahren spürt das Duo Graceland dem musikalischen Geist seiner Vorbilder intensiv nach und tourt mit dem Programm „A Tribute to Simon & Garfunkel“ überaus erfolgreich durch die Republik. In ihrem aktuellen Projekt beweisen Thomas Wacker (Paul Simon) und Thorsten Gary (Art Garfunkel) eindrücklich: Die unzähligen Klassiker des wohl erfolgreichsten Folkrock-Duos der Welt harmonieren perfekt mit dem unverkennbaren Klang eines klassischen Streichensembles.
URL:https://www.livemacher.de/event/duo-graceland-mit-streicherquartett-a-tribute-to-simon-garfunkel-in-bietigheim-kronenzentrum/
LOCATION:Bietigheim-Bissingen\, Kronenzentrum\, Mühlwiesenstr. 6\, Bietigheim-Bissingen\, Baden-Württemberg\, 74321\, Deutschland
CATEGORIES:Kultur
ATTACH;FMTTYPE=image/jpeg:https://www.livemacher.de/wp-content/uploads/2018/10/web_20231126_TAM_Graceland_1600x1600_01.jpg
ORGANIZER;CN="Livemacher GmbH":MAILTO:info@livemacher.de
GEO:48.9601213;9.1306374
X-APPLE-STRUCTURED-LOCATION;VALUE=URI;X-ADDRESS=Bietigheim-Bissingen Kronenzentrum Mühlwiesenstr. 6 Bietigheim-Bissingen Baden-Württemberg 74321 Deutschland;X-APPLE-RADIUS=500;X-TITLE=Mühlwiesenstr. 6:geo:9.1306374,48.9601213
END:VEVENT
BEGIN:VEVENT
DTSTART;TZID=Europe/Berlin:20241123T200000
DTEND;TZID=Europe/Berlin:20241123T223000
DTSTAMP:20260423T140041
CREATED:20230509T151228Z
LAST-MODIFIED:20240321T121636Z
UID:10050831-1732392000-1732401000@www.livemacher.de
SUMMARY:Alois & Elsbeth Gscheidle  – „Naseweiß“ in Tamm\, Bürgersaal
DESCRIPTION:Sie gelten bei Vielen als das lustigste Ehepaar des Schwabenlandes: Alois und Elsbeth Gscheidle\, bekannt aus zahlreichen Fernsehauftritten! \nJetzt Tickets sichern! \nSie rücken bei ihren Auftritten nicht nur sich selbst\, sondern auch deren Zuschauer ins Rampenlicht und nennen es deshalb „schwäbisches Kabarett zum Anfassen“! \nDass sie bei ihrem Publikum so gut ankommen\, liegt wohl auch daran\, dass die Gscheidles sich mit ihren Scherzen auch selbst auf den Arm nehmen. Auf liebevolle und charmante Art charakterisieren sie manche Denk- und Lebensweise ihrer Landsleute und treffen dabei oft mitten ins Schwarze! Im neuen Programm „naseweiß“ interessieren sie sich für Alles und Jeden. „Naseweiß“ streifen sie durch den Alltag\, die Straßen und die Reihen der Gäste. Du willst wissen\, was den beiden da wieder aufgefallen ist? Dann komm zu den Gscheidles\, du passt da genau hin\, denn das ist auch schon ganz schön „naseweiß“!
URL:https://www.livemacher.de/event/alois-elsbeth-gscheidle-naseweiss-tamm-buergersaal/
LOCATION:Tamm\, Kulturzentrum Bürgersaal\, Bissinger Straße 8\, Tamm\, Baden-Württemberg\, 71732\, Deutschland
CATEGORIES:Kultur
ATTACH;FMTTYPE=image/jpeg:https://www.livemacher.de/wp-content/uploads/2022/12/web_20230324-RAP-gscheidle-naseweiss-1600x1600-1.jpg
ORGANIZER;CN="Livemacher GmbH":MAILTO:info@livemacher.de
GEO:48.9226;9.1222
X-APPLE-STRUCTURED-LOCATION;VALUE=URI;X-ADDRESS=Tamm Kulturzentrum Bürgersaal Bissinger Straße 8 Tamm Baden-Württemberg 71732 Deutschland;X-APPLE-RADIUS=500;X-TITLE=Bissinger Straße 8:geo:9.1222,48.9226
END:VEVENT
BEGIN:VEVENT
DTSTART;TZID=Europe/Berlin:20241129T193000
DTEND;TZID=Europe/Berlin:20241129T223000
DTSTAMP:20260423T140041
CREATED:20230904T130524Z
LAST-MODIFIED:20240320T140540Z
UID:10050866-1732908600-1732919400@www.livemacher.de
SUMMARY:Christoph Sonntag  – „Ein Tritt frei!“ in Bad Rappenau\, Kurhaus
DESCRIPTION:Christoph Sonntag wendet sich im neuen Programm wieder seiner Kernkompetenz zu: Ihr sollt Tränen lachen. Und gerne mit neuen positiven Impulsen für Euch und die Welt wieder heim kommen. \nDie Zeiten sind schwer. Wirklich? \nWir können die Probleme nicht weglachen\, aber Lachen hilft uns\, sie wieder einordnen zu können. Und irgendwann auch zu lösen. Lasst uns lostreten. Immer schön in die Hinterteile derer\, die uns an der Nase herum führen\, uns gängeln und eigentlich zum Lachen wären.\nWenn sie es nicht so ernst meinen würden. \nJetzt Tickets sichern! \n\n\n\nUnd das sind die Trittgeber im neuen Programm:\n• Der „Freibeuter der Comedy.“ Denn die Piraten haben den Marsch durch die Institutionen hinter sich! Heute sitzen sie\, meist ungeschminkt und ohne Hakenprothese\, aber immer noch der alten Kultur verpflichtet\, in Behörden\, Unternehmen\, Aufsichtsräten\, der Finanzindustrie und in den Parlamenten. Viele von ihnen nennen sich ganz unverschämt Anlagen-Pirater\, Finanz-Pirater\, Unternehmens- Pirater oder einfach nur: Kabarettist.\n• Dr. Friedjof Södfried Schreyvogel\, Ministerpräsident von Baden-Brandenburg\, der die fünf Politikerregeln enttarnt und sich selber damit entlarvt.\n• Prof. Dr. Christoph Friedhelm von Donnersbarsch mit seiner aufsehenerregenden Forschung zu den Spätfolgen der Corona-Infektion\n• Einer mit dem Publikum durchgeführten Volkszählung\n• Spontan-Reimen\n• Mit Albert Einsteins an die Wirklichkeit angepasster „Realitätstheorie“: Ä = m x g2… der Ärger isch meist größer…\n• dem Heiligen Bruder Christophorus Sonntag\n• Hunde\, Opas und viel Musik.\nEin wildes\, buntes Sonntags-Programm wie es noch nie da war. Lebendig\, schnell\, heutig\, zum Totlachen witzig\, aktuell\, musikalisch\, fulminant\, kurz: eine einzigartige Serie von kabarettistischen Tritten\, die man sich nicht entgehen lassen sollte. \n 
URL:https://www.livemacher.de/event/christoph-sonntag-ein-tritt-frei-in-bad-rappenau-kurhaus/
LOCATION:Bad Rappenau\, Kurhaus\, Fritz-Hagner-Promenade 2\, Bad Rappenau\, Baden-Württemberg\, 74906\, Deutschland
CATEGORIES:Kultur
ATTACH;FMTTYPE=image/jpeg:https://www.livemacher.de/wp-content/uploads/2023/05/web_LM_20240127_FRE_Christoph_Sonntag_1600x1600-scaled.jpg
ORGANIZER;CN="Livemacher GmbH":MAILTO:info@livemacher.de
GEO:49.2403513;9.1078422
X-APPLE-STRUCTURED-LOCATION;VALUE=URI;X-ADDRESS=Bad Rappenau Kurhaus Fritz-Hagner-Promenade 2 Bad Rappenau Baden-Württemberg 74906 Deutschland;X-APPLE-RADIUS=500;X-TITLE=Fritz-Hagner-Promenade 2:geo:9.1078422,49.2403513
END:VEVENT
BEGIN:VEVENT
DTSTART;TZID=Europe/Berlin:20241129T200000
DTEND;TZID=Europe/Berlin:20241129T223000
DTSTAMP:20260423T140041
CREATED:20240528T074042Z
LAST-MODIFIED:20240829T074438Z
UID:10053176-1732910400-1732919400@www.livemacher.de
SUMMARY:Witz vom Olli in Besigheim\, Stadthalle Alte Kelter
DESCRIPTION:Oliver “Olli” Gimber\, der witzigste Malermeister Deutschlands\, bringt als WITZ VOM OLLI mit seinem neuen Programm Comedyfans im ganzen deutschsprachigen Raum zum Lachen.\nÜber YouTube und Facebook erreicht Olli ein Millionenpublikum und ist quasi über Nacht zu einem heimlichen Star der deutschen Comedyszene geworden. Mit seinem neuen Programm „Nach fest kommt ab“ verspricht er\, dass kein Auge trocken bleibt: „Das Publikum erwartet ein Abend voller Witz und verrückter Geschichten aus meinem Leben als Chef\, Unternehmer und Malermeister und darüber hinaus!“ Rund 1000 Witze kann der Pforzheimer aus dem Gedächtnis abrufen und hat im Netz mittlerweile Kultstatus erreicht.\nJetzt Tickets sichern \nZu seinen Fans pflegt Olli eine ganz besondere Verbindung: Schon lange vor Showbeginn ist er vor der Halle zu finden\, macht Selfies\, schüttelt jedem persönlich die Hand. Ein Star auf Augenhöhe\, der alles was er erleben darf nicht als selbstverständlich ansieht und eine Mission hat\, wie er selbst sagt: “Menschen zum Lachen bringen\, denn nicht alle sind so privilegiert wie ich. Und wenn ich Emails von Fans bekomme\, die zum Beispiel an Krebs erkrankt sind und sich bei mir bedanken\, dass ich sie trotz all der Schmerzen zum Lachen bringe\, dann weiß ich wofür ich das ganze mache. Und solange ich solche Emails bekomme\, mache ich immer weiter – mit Vollgas und vollem Körpereinsatz versteht sich.”
URL:https://www.livemacher.de/event/witz-vom-olli-in-besigheim-stadthalle-alte-kelter/
LOCATION:Besigheim\, Stadthalle Alte Kelter\, Hauptstraße 57\, Besigheim\, Baden-Württemberg\, 74354\, Deutschland
CATEGORIES:Kultur
ATTACH;FMTTYPE=image/jpeg:https://www.livemacher.de/wp-content/uploads/2024/04/1600x1600_witz_vom_olli.jpg
ORGANIZER;CN="Livemacher GmbH":MAILTO:info@livemacher.de
GEO:49.0007831;9.1395337
X-APPLE-STRUCTURED-LOCATION;VALUE=URI;X-ADDRESS=Besigheim Stadthalle Alte Kelter Hauptstraße 57 Besigheim Baden-Württemberg 74354 Deutschland;X-APPLE-RADIUS=500;X-TITLE=Hauptstraße 57:geo:9.1395337,49.0007831
END:VEVENT
BEGIN:VEVENT
DTSTART;TZID=Europe/Berlin:20241130T200000
DTEND;TZID=Europe/Berlin:20241130T230000
DTSTAMP:20260423T140041
CREATED:20240128T090046Z
LAST-MODIFIED:20240321T090804Z
UID:10050867-1732996800-1733007600@www.livemacher.de
SUMMARY:Christoph Sonntag  – „Ein Tritt frei!“ in Bietigheim-Bissingen\, Kronenzentrum
DESCRIPTION:Christoph Sonntag wendet sich im neuen Programm wieder seiner Kernkompetenz zu: Ihr sollt Tränen lachen. Und gerne mit neuen positiven Impulsen für Euch und die Welt wieder heim kommen. \nDie Zeiten sind schwer. Wirklich? \nWir können die Probleme nicht weglachen\, aber Lachen hilft uns\, sie wieder einordnen zu können. Und irgendwann auch zu lösen. Lasst uns lostreten. Immer schön in die Hinterteile derer\, die uns an der Nase herum führen\, uns gängeln und eigentlich zum Lachen wären.\nWenn sie es nicht so ernst meinen würden. \nJetzt Tickets sichern! \n\n\n\nUnd das sind die Trittgeber im neuen Programm:\n• Der „Freibeuter der Comedy.“ Denn die Piraten haben den Marsch durch die Institutionen hinter sich! Heute sitzen sie\, meist ungeschminkt und ohne Hakenprothese\, aber immer noch der alten Kultur verpflichtet\, in Behörden\, Unternehmen\, Aufsichtsräten\, der Finanzindustrie und in den Parlamenten. Viele von ihnen nennen sich ganz unverschämt Anlagen-Pirater\, Finanz-Pirater\, Unternehmens- Pirater oder einfach nur: Kabarettist.\n• Dr. Friedjof Södfried Schreyvogel\, Ministerpräsident von Baden-Brandenburg\, der die fünf Politikerregeln enttarnt und sich selber damit entlarvt.\n• Prof. Dr. Christoph Friedhelm von Donnersbarsch mit seiner aufsehenerregenden Forschung zu den Spätfolgen der Corona-Infektion\n• Einer mit dem Publikum durchgeführten Volkszählung\n• Spontan-Reimen\n• Mit Albert Einsteins an die Wirklichkeit angepasster „Realitätstheorie“: Ä = m x g2… der Ärger isch meist größer…\n• dem Heiligen Bruder Christophorus Sonntag\n• Hunde\, Opas und viel Musik.\nEin wildes\, buntes Sonntags-Programm wie es noch nie da war. Lebendig\, schnell\, heutig\, zum Totlachen witzig\, aktuell\, musikalisch\, fulminant\, kurz: eine einzigartige Serie von kabarettistischen Tritten\, die man sich nicht entgehen lassen sollte. \n 
URL:https://www.livemacher.de/event/christoph-sonntag-ein-tritt-frei-in-bietigheim-bissingen-kronenzentrum/
LOCATION:Bietigheim-Bissingen\, Kronenzentrum\, Mühlwiesenstr. 6\, Bietigheim-Bissingen\, Baden-Württemberg\, 74321\, Deutschland
CATEGORIES:Kultur
ATTACH;FMTTYPE=image/jpeg:https://www.livemacher.de/wp-content/uploads/2023/05/web_LM_20240127_FRE_Christoph_Sonntag_1600x1600-scaled.jpg
ORGANIZER;CN="Livemacher GmbH":MAILTO:info@livemacher.de
GEO:48.9601213;9.1306374
X-APPLE-STRUCTURED-LOCATION;VALUE=URI;X-ADDRESS=Bietigheim-Bissingen Kronenzentrum Mühlwiesenstr. 6 Bietigheim-Bissingen Baden-Württemberg 74321 Deutschland;X-APPLE-RADIUS=500;X-TITLE=Mühlwiesenstr. 6:geo:9.1306374,48.9601213
END:VEVENT
END:VCALENDAR