BEGIN:VCALENDAR
VERSION:2.0
PRODID:-//Livemacher GmbH - ECPv6.15.20//NONSGML v1.0//EN
CALSCALE:GREGORIAN
METHOD:PUBLISH
X-ORIGINAL-URL:https://www.livemacher.de
X-WR-CALDESC:Veranstaltungen für Livemacher GmbH
REFRESH-INTERVAL;VALUE=DURATION:PT1H
X-Robots-Tag:noindex
X-PUBLISHED-TTL:PT1H
BEGIN:VTIMEZONE
TZID:Europe/Berlin
BEGIN:DAYLIGHT
TZOFFSETFROM:+0100
TZOFFSETTO:+0200
TZNAME:CEST
DTSTART:20230326T010000
END:DAYLIGHT
BEGIN:STANDARD
TZOFFSETFROM:+0200
TZOFFSETTO:+0100
TZNAME:CET
DTSTART:20231029T010000
END:STANDARD
BEGIN:DAYLIGHT
TZOFFSETFROM:+0100
TZOFFSETTO:+0200
TZNAME:CEST
DTSTART:20240331T010000
END:DAYLIGHT
BEGIN:STANDARD
TZOFFSETFROM:+0200
TZOFFSETTO:+0100
TZNAME:CET
DTSTART:20241027T010000
END:STANDARD
BEGIN:DAYLIGHT
TZOFFSETFROM:+0100
TZOFFSETTO:+0200
TZNAME:CEST
DTSTART:20250330T010000
END:DAYLIGHT
BEGIN:STANDARD
TZOFFSETFROM:+0200
TZOFFSETTO:+0100
TZNAME:CET
DTSTART:20251026T010000
END:STANDARD
END:VTIMEZONE
BEGIN:VEVENT
DTSTART;TZID=Europe/Berlin:20241006T190000
DTEND;TZID=Europe/Berlin:20241006T213000
DTSTAMP:20260423T152823
CREATED:20230505T074333Z
LAST-MODIFIED:20240321T121841Z
UID:10050825-1728241200-1728250200@www.livemacher.de
SUMMARY:Doris Reichenauer "I moin's doch bloß gut!" in Rielingshausen\, Gemeindehalle
DESCRIPTION:ACHTUNG Programmänderung!                            \n                            \n                        \n                        \n                        \n                        \n                                                Dui do on de Sell: Gemeinsamer Blick in die Zukunft\n\nSeit über zwei Jahrzehnten stehen Petra Binder und Doris Reichenauer alias Dui do on de Sell gemeinsam erfolgreich auf der Bühne und begeistern das Publikum.\nNun steht das Comedy-Duo vor aufregenden Veränderungen\, die das kommende Kapitel ihrer Reise prägen werden.\n\nLeider müssen wir mitteilen\, dass Petra Binder aufgrund von Gesundheitsgründen pausieren musste\,und ihre Genesung wird länger dauern als ursprünglich angenommen. Petra Binder hat sich entschieden\, mehr Zeit mit ihrer Familie zu verbringen und wird bis auf Weiteres nicht mehr auf die Bühne zurückkehren.\n\nDie gute Nachricht ist jedoch\, dass die Show weitergeht! Doris Reichenauer wird nun als Solokünstlerin mit dem neuen Programm "I moin´s doch bloß gut!" den einzigartigen Spirit von Dui do on de Sell fortführen. Dieses Comedy-Spektakel verspricht ein ganz besonderes Erlebnis voller Lachen und Lebensfreude.\n\nDoris Reichenauers Soloauftritte haben bereits viel positive Resonanz erhalten\, und das Publikum war durchweg begeistert von ihrer unnachahmlichen Energie und ihrem besonderen Humor.\n\nAlle bereits gekauften Tickets für Dui do on de Sell behalten für das Solo-Programm von Doris Reichenauer ihre Gültigkeit.\n\nSollten Sie eine Rückerstattung der bereits gekauften Tickets wünschen\, ist dies bei der Vorverkaufsstelle Ihren Erwerbs möglich! \n                        \n                        \n                        \n                    \n                \n            \n        \n\n    \n    \n\n\n– Ein Comedy-Spektakel voller Lachen und Lebensfreude \nDie Comedy-Bühnen erstrahlen in neuem Glanz\, denn Doris Reichenauer\, vielen bekannt durch das Kabaret-Duo „Dui do on de Sell“\, tritt nun solo auf.\nWenn Doris Reichenauer die Bühne betritt und mit ihrem einzigartigen Humor und ihrer schier endlosen Energie alle Gäste in ihren Bann zieht\, wird der Abend zu einem unvergesslichen Erlebnis voller Lachen und ausgelassener Stimmung. \nJetzt Tickets sichern! \n\nIhre Beobachtungsgabe und ihr Gespür für die Komik des Alltags machen Doris Reichenauer zu einer Meisterin der Unterhaltung. Sie nimmt den Alltag aufs Korn und lässt dabei kein Auge trocken. Der Abend verspricht nicht nur eine herausragende Show\, sondern auch die Gelegenheit\, den Stress des Alltags für ein paar Stunden hinter sich zu lassen. Doris Reichenauer lädt das Publikum ein\, gemeinsam zu lachen und den Abend in entspannter Atmosphäre zu genießen.\nSeien Sie dabei\, wenn Doris Reichenauer mit dem Programm „I moin´s doch bloß gut!“ die Lachmuskeln strapaziert.
URL:https://www.livemacher.de/event/doris-reichenauer-i-moins-doch-bloss-gut-in-rielingshausen-gemeindehalle/
LOCATION:Rielingshausen\, Gemeindehalle\, Backnanger Straße 8\, Marbach\, Baden-Württemberg\, 71672\, Deutschland
CATEGORIES:Kultur
ATTACH;FMTTYPE=image/jpeg:https://www.livemacher.de/wp-content/uploads/2023/05/Doris_Reichenauer_RAP_1600x1600.jpg
ORGANIZER;CN="Livemacher GmbH":MAILTO:info@livemacher.de
GEO:48.962028;9.333137
X-APPLE-STRUCTURED-LOCATION;VALUE=URI;X-ADDRESS=Rielingshausen Gemeindehalle Backnanger Straße 8 Marbach Baden-Württemberg 71672 Deutschland;X-APPLE-RADIUS=500;X-TITLE=Backnanger Straße 8:geo:9.333137,48.962028
END:VEVENT
BEGIN:VEVENT
DTSTART;TZID=Europe/Berlin:20241012T200000
DTEND;TZID=Europe/Berlin:20241012T230000
DTSTAMP:20260423T152823
CREATED:20230905T125646Z
LAST-MODIFIED:20240321T121754Z
UID:10050869-1728763200-1728774000@www.livemacher.de
SUMMARY:Elvis trifft Elvis Vol. 2 - Love Letters from Bempflingen\, in Freiberg\, PRISMA
DESCRIPTION:Bernd Kohlhepp als Herr Hämmerle & ´Deutschlands bestem Elvis-Interpret´ Nils Strassburg \nMan trifft sich immer zweimal.\nErst recht\, wenn man sich so ähnlich ist wie diese Beiden: Herr Hämmerle aus Bempflingen und der King of Rock´n´Roll. Glimpflich kam Herr Hämmerle bei jenem ersten unfreiwilligen Zusammentreffen beim Unfall im Kreisverkehr davon – in Freundschaft\, vereint durch die Musik. \nJetzt Tickets sichern! \nDenn der Schwabe gibt gerne selbst den Elvis. Nachdem Herr Hämmerle zu Besuch in Memphis war\, steht nun der Gegenbesuch an. Eine heikle Angelegenheit – ELVIS sollte nämlich nicht erfahren\, dass Herr Hämmerle sich dazu berufen fühlte\, seine Korrespondenz zu übernehmen und Briefe von Verehrerinnen aus Deutschland eigenmächtig zu beantworten.\nDamit Herrn Hämmerles individuelle Auslegung des Postgeheimnisses nicht ans Licht kommt\, versucht er den King mit einer Sightseeing-Tour durch´s Ländle inklusive Sprachkurs unter Kontrolle zu halten. Die Tour hält nicht nur für Elvis verblüffende Erkenntnisse bereit…\nDoch wie bei ihrer ersten Begegnung kommt es zu einem folgenschweren Zusammenstoß. Da ist nämlich noch Herrn Hämmerles Nachbarin\, die rüstige Rentnerin Frau Schwerdtfeger\, die das ungleiche Duo ordentlich aufmischt!\nBereits mit ihrem ersten Programm „Eine Schicksalhafte Begegnung im Kreisverkehr“ hatte das einzigartige Duo bewiesen: Es sind zwei Meister ihres Faches\nAuf hohem Niveau vereinen sich in der neuen Folge grandioses Kabarett von Bernd Kohlhepp mit einer\nauthentischen Musikperformance von Nils Strassburg\, Frontman der Band THE ROLL AGENTS und Träger des Titels ´Best Elvis Germany´.
URL:https://www.livemacher.de/event/elvis-trifft-elvis-vol-2-love-letters-from-bempflingen-im-prisma-in-freiberg-a-n/
LOCATION:Freiberg am Neckar\, PRISMA\, Marktplatz 22\, Freiberg am Neckar\, Baden-Württemberg\, 71691\, Deutschland
CATEGORIES:Kultur
ATTACH;FMTTYPE=image/jpeg:https://www.livemacher.de/wp-content/uploads/2023/09/20241012_Elvis_Kohlhepp_1600x1600.jpg
ORGANIZER;CN="Livemacher GmbH":MAILTO:info@livemacher.de
GEO:48.93591;9.19215
X-APPLE-STRUCTURED-LOCATION;VALUE=URI;X-ADDRESS=Freiberg am Neckar PRISMA Marktplatz 22 Freiberg am Neckar Baden-Württemberg 71691 Deutschland;X-APPLE-RADIUS=500;X-TITLE=Marktplatz 22:geo:9.19215,48.93591
END:VEVENT
END:VCALENDAR