BEGIN:VCALENDAR
VERSION:2.0
PRODID:-//Livemacher GmbH - ECPv6.15.20//NONSGML v1.0//EN
CALSCALE:GREGORIAN
METHOD:PUBLISH
X-ORIGINAL-URL:https://www.livemacher.de
X-WR-CALDESC:Veranstaltungen für Livemacher GmbH
REFRESH-INTERVAL;VALUE=DURATION:PT1H
X-Robots-Tag:noindex
X-PUBLISHED-TTL:PT1H
BEGIN:VTIMEZONE
TZID:Europe/Berlin
BEGIN:DAYLIGHT
TZOFFSETFROM:+0100
TZOFFSETTO:+0200
TZNAME:CEST
DTSTART:20230326T010000
END:DAYLIGHT
BEGIN:STANDARD
TZOFFSETFROM:+0200
TZOFFSETTO:+0100
TZNAME:CET
DTSTART:20231029T010000
END:STANDARD
BEGIN:DAYLIGHT
TZOFFSETFROM:+0100
TZOFFSETTO:+0200
TZNAME:CEST
DTSTART:20240331T010000
END:DAYLIGHT
BEGIN:STANDARD
TZOFFSETFROM:+0200
TZOFFSETTO:+0100
TZNAME:CET
DTSTART:20241027T010000
END:STANDARD
BEGIN:DAYLIGHT
TZOFFSETFROM:+0100
TZOFFSETTO:+0200
TZNAME:CEST
DTSTART:20250330T010000
END:DAYLIGHT
BEGIN:STANDARD
TZOFFSETFROM:+0200
TZOFFSETTO:+0100
TZNAME:CET
DTSTART:20251026T010000
END:STANDARD
END:VTIMEZONE
BEGIN:VEVENT
DTSTART;TZID=Europe/Berlin:20240921T200000
DTEND;TZID=Europe/Berlin:20240921T230000
DTSTAMP:20260423T164518
CREATED:20230831T145229Z
LAST-MODIFIED:20240314T143837Z
UID:10050861-1726948800-1726959600@www.livemacher.de
SUMMARY:Dodokay "I bin's selber" in Marbach\, Stadthalle Schillerhöhe
DESCRIPTION:Eigentlich ist alles aus Versehen passiert: Erst hat Dominik „Dodokay“ Kuhn auf YouTube & Co. Darth Vader\, Barack Obama\, dem deutschen Bundestag und noch vielen anderen Schwäbisch beigebracht\, und dann ist er 2014 auch noch mit einer eigenen Stand-Up- Comedy-Show auf der Bühne gelandet. \nJetzt Tickets sichern! \nSeitdem rast der Dodokay-Zug weltweit durch ganz Schwaben und hält dabei an so vielen Stationen wie möglich.\nZehn Jahre Dodokay live on stage – des isch doch klar\, dass die neue Show „I bin’s selber“ das Jubiläum feiert! Natürlich gibt es wieder brandneue Synchros auf der mitgebrachten Leinwand\, aber die Tour ist auch ein Anlass\, um auf zehn Jahre Bühne zurückzublicken. Neben Highlights aus dieser Zeit beantwortet Dodokay in seinen berühmt-berüchtigten Stand-Ups auch neue brennende Fragen\, die niemand gestellt hat: Warum sagen Schwaben meistens das Gegenteil von dem\, was sie denken? Was macht eigentlich der SV49? Wer spricht die ganzen Stimmen in den Videos? Isch’s d’r Dodokay selber?\nWer Dodokays Show kennt\, muss auch diese sehen; wer sie nicht kennt\, erst recht. Auf alle Fälle sind bei Dodokay drei Sachen garantiert: Es wird lustig\, er schwätzt schwäbisch und er isches selber. \n 
URL:https://www.livemacher.de/event/dodokay-i-bins-selber-in-marbach-stadthalle-schillerhoehe/
LOCATION:Marbach am Neckar\, Stadthalle Schillerhöhe\, Schillerhöhe 12\, Marbach\, Baden-Württemberg\, 71672\, Deutschland
CATEGORIES:Kultur
ATTACH;FMTTYPE=image/jpeg:https://www.livemacher.de/wp-content/uploads/2023/05/LM_20240203_FRB_Dodokay_I_bins_selber_1600x1600.jpg
ORGANIZER;CN="Livemacher GmbH":MAILTO:info@livemacher.de
GEO:48.9346878;9.2562195
X-APPLE-STRUCTURED-LOCATION;VALUE=URI;X-ADDRESS=Marbach am Neckar Stadthalle Schillerhöhe Schillerhöhe 12 Marbach Baden-Württemberg 71672 Deutschland;X-APPLE-RADIUS=500;X-TITLE=Schillerhöhe 12:geo:9.2562195,48.9346878
END:VEVENT
BEGIN:VEVENT
DTSTART;TZID=Europe/Berlin:20240927T193000
DTEND;TZID=Europe/Berlin:20240927T220000
DTSTAMP:20260423T164518
CREATED:20230614T122339Z
LAST-MODIFIED:20240321T121958Z
UID:10050835-1727465400-1727474400@www.livemacher.de
SUMMARY:Mundstuhl - "Kann Spuren von Nüssen enthalten" in Bad Rappenau\, Kurhaus
DESCRIPTION:Das beste Comedyduo des Universums holt aus zum nächsten Streich! \nUnd ja! Es wird noch lustiger als jemals zuvor. Wer geglaubt hat\, der Gipfel humoristischen Wahnsinns sei nach 25 Jahren MUNDSTUHL bereits erreicht\, wird mit dem Programm KANN SPUREN VON NÜSSEN ENTHALTEN  eines Besseren belehrt. \nJetzt Tickets sichern! \nSo frisch und abwechslungsreich\, so durchgeknallt und schnell\, als hätten sich die beiden symphatischen Echopreisträger eine Adrenalinspritze ins vegetative Humorzentrum gedrückt. In bester Mundstuhlmanier geben sich auf der Bühne liebgewonnene aber auch nagelneue Charaktere die Klinke in die Hand. \nDer psychopathische Grillschorsch\, der cholerische Andi\, die drucklosen Friedensaktivisten Malte und Torben  von No Pressure und als Special Guest Der Dschieses\, der auf Geheiß seines Vaters wieder auf der Erde weilt – alle Mundstuhl-Figuren haben schwer einen an der Klatsche und sind als ins Absurde überdrehte Karikaturen angelegt. \nSo auch die ostdeutschen Hartz-IV-Mütter Peggy und Sandy\,  die schlechtesten Zauberer der Welt Sickroy und Fried und natürlich Dragan und Alder\, die Erfinder der Kanakcomedy\, die den hessischen Kultkomikern vor einem Vierteljahrhundert den Durchbruch bescherten. \nImmer wieder leuchten satirische Spitzen auf\, meist aber geht es um die pure Lust am Blödsinn\, die mit ansteckender Spielfreude präsentiert wird. \nIn Zeiten von stets erhobenen Zeigefingern\, Gendersternchen und Political Correctness machen MUNDSTUHL weiterhin Späße über Alles und Jeden und das Beste ist: Man darf und muss herzhaft darüber lachen. \nDie beiden Comedians und Podcaster Lars Niedereichholz und Ande Werner gelten als das erfolgreichste und wandelbarste Comedy-Doppel Deutschlands und erreichen in ihrem neuen Programm eine geradezu irrwitzige Pointendichte. \nAber Achtung! Dieses Programm  KANN SPUREN VON NÜSSEN ENTHALTEN. \n„Riesenapplaus unter Lachtränen!“ BILD Zeitung\n„MUNDSTUHL sind die AC/DC der Comedy! Zum Kaputtlachen!“ SZ\n„Politisch völlig inkorrekt und zum Brüllen komisch“ Westfälische Allgemeine\n„MUNDSTUHL sind einmalig“ BZ
URL:https://www.livemacher.de/event/mundstuhl-kann-spuren-von-nuessen-enthalten-im-kurhaus-in-bad-rappenau/
LOCATION:Bad Rappenau\, Kurhaus\, Fritz-Hagner-Promenade 2\, Bad Rappenau\, Baden-Württemberg\, 74906\, Deutschland
CATEGORIES:Kultur
ATTACH;FMTTYPE=image/jpeg:https://www.livemacher.de/wp-content/uploads/2023/05/web_LM_20240927_RAP_Mundstuhl_1600x1600.jpg
ORGANIZER;CN="Livemacher GmbH":MAILTO:info@livemacher.de
GEO:49.2403513;9.1078422
X-APPLE-STRUCTURED-LOCATION;VALUE=URI;X-ADDRESS=Bad Rappenau Kurhaus Fritz-Hagner-Promenade 2 Bad Rappenau Baden-Württemberg 74906 Deutschland;X-APPLE-RADIUS=500;X-TITLE=Fritz-Hagner-Promenade 2:geo:9.1078422,49.2403513
END:VEVENT
BEGIN:VEVENT
DTSTART;TZID=Europe/Berlin:20240928T200000
DTEND;TZID=Europe/Berlin:20240928T223000
DTSTAMP:20260423T164518
CREATED:20230614T123216Z
LAST-MODIFIED:20240321T121922Z
UID:10050840-1727553600-1727562600@www.livemacher.de
SUMMARY:Mundstuhl - "Kann Spuren von Nüssen enthalten" in Tamm\, Bürgersaal
DESCRIPTION:Das beste Comedyduo des Universums holt aus zum nächsten Streich! \nUnd ja! Es wird noch lustiger als jemals zuvor. Wer geglaubt hat\, der Gipfel humoristischen Wahnsinns sei nach 25 Jahren MUNDSTUHL bereits erreicht\, wird mit dem Programm KANN SPUREN VON NÜSSEN ENTHALTEN  eines Besseren belehrt. \nJetzt Tickets sichern! \nSo frisch und abwechslungsreich\, so durchgeknallt und schnell\, als hätten sich die beiden symphatischen Echopreisträger eine Adrenalinspritze ins vegetative Humorzentrum gedrückt. In bester Mundstuhlmanier geben sich auf der Bühne liebgewonnene aber auch nagelneue Charaktere die Klinke in die Hand. \nDer psychopathische Grillschorsch\, der cholerische Andi\, die drucklosen Friedensaktivisten Malte und Torben  von No Pressure und als Special Guest Der Dschieses\, der auf Geheiß seines Vaters wieder auf der Erde weilt – alle Mundstuhl-Figuren haben schwer einen an der Klatsche und sind als ins Absurde überdrehte Karikaturen angelegt. \nSo auch die ostdeutschen Hartz-IV-Mütter Peggy und Sandy\,  die schlechtesten Zauberer der Welt Sickroy und Fried und natürlich Dragan und Alder\, die Erfinder der Kanakcomedy\, die den hessischen Kultkomikern vor einem Vierteljahrhundert den Durchbruch bescherten. \nImmer wieder leuchten satirische Spitzen auf\, meist aber geht es um die pure Lust am Blödsinn\, die mit ansteckender Spielfreude präsentiert wird. \nIn Zeiten von stets erhobenen Zeigefingern\, Gendersternchen und Political Correctness machen MUNDSTUHL weiterhin Späße über Alles und Jeden und das Beste ist: Man darf und muss herzhaft darüber lachen. \nDie beiden Comedians und Podcaster Lars Niedereichholz und Ande Werner gelten als das erfolgreichste und wandelbarste Comedy-Doppel Deutschlands und erreichen in ihrem neuen Programm eine geradezu irrwitzige Pointendichte. \nAber Achtung! Dieses Programm  KANN SPUREN VON NÜSSEN ENTHALTEN. \n„Riesenapplaus unter Lachtränen!“ BILD Zeitung\n„MUNDSTUHL sind die AC/DC der Comedy! Zum Kaputtlachen!“ SZ\n„Politisch völlig inkorrekt und zum Brüllen komisch“ Westfälische Allgemeine\n„MUNDSTUHL sind einmalig“ BZ
URL:https://www.livemacher.de/event/mundstuhl-kann-spuren-von-nuessen-enthalten-tamm-buergersaal/
LOCATION:Tamm\, Kulturzentrum Bürgersaal\, Bissinger Straße 8\, Tamm\, Baden-Württemberg\, 71732\, Deutschland
CATEGORIES:Kultur
ATTACH;FMTTYPE=image/jpeg:https://www.livemacher.de/wp-content/uploads/2023/05/web_LM_20240927_RAP_Mundstuhl_1600x1600.jpg
ORGANIZER;CN="Livemacher GmbH":MAILTO:info@livemacher.de
GEO:48.9226;9.1222
X-APPLE-STRUCTURED-LOCATION;VALUE=URI;X-ADDRESS=Tamm Kulturzentrum Bürgersaal Bissinger Straße 8 Tamm Baden-Württemberg 71732 Deutschland;X-APPLE-RADIUS=500;X-TITLE=Bissinger Straße 8:geo:9.1222,48.9226
END:VEVENT
BEGIN:VEVENT
DTSTART;TZID=Europe/Berlin:20240928T200000
DTEND;TZID=Europe/Berlin:20240928T230000
DTSTAMP:20260423T164518
CREATED:20231220T103018Z
LAST-MODIFIED:20240314T151818Z
UID:10051154-1727553600-1727564400@www.livemacher.de
SUMMARY:MICHAEL JACKSON "Tribute Live Experience" in Freiberg\, PRISMA
DESCRIPTION:Erleben Sie noch einmal die größten Hits von Michael Jackson und den Jackson 5 in einer spektakulären und beeindruckenden Bühnenshow.\nSeine Hits sind in der ganzen Welt inzwischen Kult-Songs und werden heute noch in allen Diskotheken dieser Welt gespielt. \nJetzt Tickets sichern… \nAber auch Live-Shows sollen die Musik des King of Pop weiterhin leben lassen. So auch die 2 stündige Show mit großer Band \, Tänzerinnen und einen überragenden Solist – Sascha Pazdera.\nEr gilt als der beste deutsche Live-Tribute Michael Jackson Interpret. So wurde er auch vielfach ausgezeichnet und 2017 zum Künstler des Jahres in Deutschland und der Schweiz gekürt.\nDie Michael Jackson Tribute Show ist die Einzige und originale Show in Deutschland die unter der choreographischen Leitung von La Velle Smith Jr. (Michael Jackson-Choreograph und Dancer für Thriller & Ghost) mit entwickelt wurde.\nGastspiele des Ensembles gab es bereits im Leipziger Gewandhaus\, Berliner Tempodrom \, Circus Krone München\, Meistersingerhalle Nürnberg\, Sylt Meerkabarett\, ZDF Fernsehgarten und sogar bei „Wetten dass ?!“.\nDie Fans dürfen sich freuen auf die Hits des „King of Pop“ mit viel Tanz\, Emotionen und einer spielstarken Band. \n 
URL:https://www.livemacher.de/event/michael-jackson-tribute-live-experience-in-freiberg-prisma/
LOCATION:Freiberg am Neckar\, PRISMA\, Marktplatz 22\, Freiberg am Neckar\, Baden-Württemberg\, 71691\, Deutschland
CATEGORIES:Kultur
ATTACH;FMTTYPE=image/jpeg:https://www.livemacher.de/wp-content/uploads/2023/03/web-20231216-MAR-Michael_Jackson_Tribute-1600x1600-1.jpg
ORGANIZER;CN="Livemacher GmbH":MAILTO:info@livemacher.de
GEO:48.93591;9.19215
X-APPLE-STRUCTURED-LOCATION;VALUE=URI;X-ADDRESS=Freiberg am Neckar PRISMA Marktplatz 22 Freiberg am Neckar Baden-Württemberg 71691 Deutschland;X-APPLE-RADIUS=500;X-TITLE=Marktplatz 22:geo:9.19215,48.93591
END:VEVENT
END:VCALENDAR