BEGIN:VCALENDAR
VERSION:2.0
PRODID:-//Livemacher GmbH - ECPv6.15.20//NONSGML v1.0//EN
CALSCALE:GREGORIAN
METHOD:PUBLISH
X-ORIGINAL-URL:https://www.livemacher.de
X-WR-CALDESC:Veranstaltungen für Livemacher GmbH
REFRESH-INTERVAL;VALUE=DURATION:PT1H
X-Robots-Tag:noindex
X-PUBLISHED-TTL:PT1H
BEGIN:VTIMEZONE
TZID:Europe/Berlin
BEGIN:DAYLIGHT
TZOFFSETFROM:+0100
TZOFFSETTO:+0200
TZNAME:CEST
DTSTART:20230326T010000
END:DAYLIGHT
BEGIN:STANDARD
TZOFFSETFROM:+0200
TZOFFSETTO:+0100
TZNAME:CET
DTSTART:20231029T010000
END:STANDARD
BEGIN:DAYLIGHT
TZOFFSETFROM:+0100
TZOFFSETTO:+0200
TZNAME:CEST
DTSTART:20240331T010000
END:DAYLIGHT
BEGIN:STANDARD
TZOFFSETFROM:+0200
TZOFFSETTO:+0100
TZNAME:CET
DTSTART:20241027T010000
END:STANDARD
BEGIN:DAYLIGHT
TZOFFSETFROM:+0100
TZOFFSETTO:+0200
TZNAME:CEST
DTSTART:20250330T010000
END:DAYLIGHT
BEGIN:STANDARD
TZOFFSETFROM:+0200
TZOFFSETTO:+0100
TZNAME:CET
DTSTART:20251026T010000
END:STANDARD
END:VTIMEZONE
BEGIN:VEVENT
DTSTART;TZID=Europe/Berlin:20240808T200000
DTEND;TZID=Europe/Berlin:20240808T230000
DTSTAMP:20260423T181343
CREATED:20240307T112502Z
LAST-MODIFIED:20240314T102836Z
UID:10053174-1723147200-1723158000@www.livemacher.de
SUMMARY:ABBA World Revival - A tribute Show to ABBA in Tamm\, Rathausplatz "OPEN AIR"
DESCRIPTION:Wenn Sie die Songs von ABBA in höchster Annäherung ans Original hören wollen\, sind Sie hier richtig. Es erwartet Sie eine tolle Bühenshow mit allen Hits von ABBA. Die Darbietung ist zu 100% live. Es werden keinerlei Zuspielungen oder Playback-Techniken verwendet. Das Repertoire von ABBA World Revival umfasst mehr als 30 der bekanntesten Songs der legendären schwedischen Mega-Band der 70er Jahre. \nJetzt Tickets sichern \n10 Profimusiker haben sich zusammengetan\, um die Musik von ABBA\, die sie alle lieben und bewundern\, zu spielen und zu singen. \nDie Live Show bietet nicht nur höchste Perfektion in musikalischer Hinsicht\, auch die Bühnenshow\, die Kostüme und die Bühnen Choreographie sind auf höchstem Niveau und dem Original perfekt nachempfunden. \nExtravagante Kostüme und eine mit Tanzeinlagen und Lichteffekten angereicherte Bühnenshow\, aber das sind nur schmückende Elemente am Rande. Im Mittelpunkt steht die zeitlose Musik von ABBA\, in allen ihren Facetten von der treibenden Disco-Nummer\, bei der man spontan aufspringt und mittanzt\, bis zur anrührenden Ballade\, die das Publikum mäuschenstill werden und die Feuerzeuge zücken lässt. \nABBA WORLD REVIVAL ist eine Band\, der man anmerkt\, dass sie die Musik von ABBA liebt.
URL:https://www.livemacher.de/event/abba-world-revival-a-tribute-show-to-abba-in-tamm-rathausplatz-open-air/
LOCATION:Rathausplatz Tamm (OPENAIR)\, Hauptstraße 100\, Tamm\, Baden-Württemberg\, 71732\, Deutschland
CATEGORIES:Kultur
ATTACH;FMTTYPE=image/jpeg:https://www.livemacher.de/wp-content/uploads/2024/03/Kultur_ABBA_1800x1800px_01-scaled.jpg
ORGANIZER;CN="Livemacher GmbH":MAILTO:info@livemacher.de
END:VEVENT
BEGIN:VEVENT
DTSTART;TZID=Europe/Berlin:20240810T200000
DTEND;TZID=Europe/Berlin:20240810T230000
DTSTAMP:20260423T181343
CREATED:20240307T113712Z
LAST-MODIFIED:20240314T103537Z
UID:10053175-1723320000-1723330800@www.livemacher.de
SUMMARY:Dodokay - I bin's selber in Tamm\, Rathausplatz "OPEN AIR"
DESCRIPTION:Eigentlich ist alles aus Versehen passiert: Erst hat Dominik „Dodokay“ Kuhn auf YouTube & Co. Darth Vader\, Barack Obama\, dem deutschen Bundestag und noch vielen anderen Schwäbisch beigebracht\, und dann ist er 2014 auch noch mit einer eigenen Stand-Up- Comedy-Show auf der Bühne gelandet. \nJetzt Tickets sichern! \nSeitdem rast der Dodokay-Zug weltweit durch ganz Schwaben und hält dabei an so vielen Stationen wie möglich.\nZehn Jahre Dodokay live on stage – des isch doch klar\, dass die neue Show „I bin’s selber“ das Jubiläum feiert! Natürlich gibt es wieder brandneue Synchros auf der mitgebrachten Leinwand\, aber die Tour ist auch ein Anlass\, um auf zehn Jahre Bühne zurückzublicken. Neben Highlights aus dieser Zeit beantwortet Dodokay in seinen berühmt-berüchtigten Stand-Ups auch neue brennende Fragen\, die niemand gestellt hat: Warum sagen Schwaben meistens das Gegenteil von dem\, was sie denken? Was macht eigentlich der SV49? Wer spricht die ganzen Stimmen in den Videos? Isch’s d’r Dodokay selber?\nWer Dodokays Show kennt\, muss auch diese sehen; wer sie nicht kennt\, erst recht. Auf alle Fälle sind bei Dodokay drei Sachen garantiert: Es wird lustig\, er schwätzt schwäbisch und er isches selber.
URL:https://www.livemacher.de/event/dodokay-i-bins-selber-in-tamm-rathausplatz-open-air/
LOCATION:Rathausplatz Tamm (OPENAIR)\, Hauptstraße 100\, Tamm\, Baden-Württemberg\, 71732\, Deutschland
CATEGORIES:Kultur
ATTACH;FMTTYPE=image/jpeg:https://www.livemacher.de/wp-content/uploads/2024/03/Kultur_DODOKAY_1800x1800px_01-scaled.jpg
ORGANIZER;CN="Livemacher GmbH":MAILTO:info@livemacher.de
END:VEVENT
END:VCALENDAR