BEGIN:VCALENDAR
VERSION:2.0
PRODID:-//Livemacher GmbH - ECPv6.15.20//NONSGML v1.0//EN
CALSCALE:GREGORIAN
METHOD:PUBLISH
X-WR-CALNAME:Livemacher GmbH
X-ORIGINAL-URL:https://www.livemacher.de
X-WR-CALDESC:Veranstaltungen für Livemacher GmbH
REFRESH-INTERVAL;VALUE=DURATION:PT1H
X-Robots-Tag:noindex
X-PUBLISHED-TTL:PT1H
BEGIN:VTIMEZONE
TZID:Europe/Berlin
BEGIN:DAYLIGHT
TZOFFSETFROM:+0100
TZOFFSETTO:+0200
TZNAME:CEST
DTSTART:20230326T010000
END:DAYLIGHT
BEGIN:STANDARD
TZOFFSETFROM:+0200
TZOFFSETTO:+0100
TZNAME:CET
DTSTART:20231029T010000
END:STANDARD
BEGIN:DAYLIGHT
TZOFFSETFROM:+0100
TZOFFSETTO:+0200
TZNAME:CEST
DTSTART:20240331T010000
END:DAYLIGHT
BEGIN:STANDARD
TZOFFSETFROM:+0200
TZOFFSETTO:+0100
TZNAME:CET
DTSTART:20241027T010000
END:STANDARD
BEGIN:DAYLIGHT
TZOFFSETFROM:+0100
TZOFFSETTO:+0200
TZNAME:CEST
DTSTART:20250330T010000
END:DAYLIGHT
BEGIN:STANDARD
TZOFFSETFROM:+0200
TZOFFSETTO:+0100
TZNAME:CET
DTSTART:20251026T010000
END:STANDARD
END:VTIMEZONE
BEGIN:VEVENT
DTSTART;TZID=Europe/Berlin:20240405T193000
DTEND;TZID=Europe/Berlin:20240405T220000
DTSTAMP:20260423T232637
CREATED:20230614T130716Z
LAST-MODIFIED:20240314T094239Z
UID:10050841-1712345400-1712354400@www.livemacher.de
SUMMARY:NOCH´N GEDICHT - Heinz-Erhardt-Abend mit Hans-Joachim Heist in Bad Rappenau im Kurhaus
DESCRIPTION:Heinz Erhardt\, dieser Schelm!\nWenn Hans-Joachim Heist die Erhardtbrille aufsetzt\, die Haltung von Heinz Erhardt annimmt und in seiner unverwechselbaren Art spricht\, meint man Heinz Erhardt sei da. \nMit seinen Wortspielereien\, Pointen und Reimen hat Heinz Erhardt ein Millionenpublikum begeistert. Er war verschmitzt\, spitzbübisch und fantasievoll. Erleben Sie an diesem Abend seine besten Gedichte\, Lieder und Conferencen. \nJetzt Tickets sichern! \nHINTERGRUND ZUM ABEND\nDer Schauspieler Hans-Joachim Heist ist auf der Theaterbühne ebenso zu Hause wie in den Fernsehstudios. \nIn über 70 Film- und Fernsehproduktionen hat er in verschiedensten Rollen mitgewirkt\, u.a.: „Diese Drombuschs“\, „Tatort“\, „SOKO Köln“\, SOKO Stuttgart“\, „Löwenzahn“\, „Bettys Diagnose“. Zuletzt zu sehen in zwei großen ARD Spielfilmproduktionen in einer der Hauptrollen: 2018 in „Verliebt in Amsterdam“ und 2019 in „Verliebt auf Island“. \nSeit 2012 ist Heist Botschafter der Deutschen Nierenstiftung. \nZahlreiche Preise und Auszeichnungen. \nAktuell in der ZDF „heute show“ als Kommentator „Gernot Hassknecht“\, immer freitags um 22:30 \n 
URL:https://www.livemacher.de/event/nochn-gedicht-heinz-erhardt-abend-mit-hans-joachim-heist-in-bad-rappenau-im-kurhaus/
LOCATION:Bad Rappenau\, Kurhaus\, Fritz-Hagner-Promenade 2\, Bad Rappenau\, Baden-Württemberg\, 74906\, Deutschland
CATEGORIES:Kultur
ATTACH;FMTTYPE=image/jpeg:https://www.livemacher.de/wp-content/uploads/2023/06/20240405_RAP_heinz-erhardt_1600x1600-scaled.jpg
ORGANIZER;CN="Livemacher GmbH":MAILTO:info@livemacher.de
GEO:49.2403513;9.1078422
X-APPLE-STRUCTURED-LOCATION;VALUE=URI;X-ADDRESS=Bad Rappenau Kurhaus Fritz-Hagner-Promenade 2 Bad Rappenau Baden-Württemberg 74906 Deutschland;X-APPLE-RADIUS=500;X-TITLE=Fritz-Hagner-Promenade 2:geo:9.1078422,49.2403513
END:VEVENT
BEGIN:VEVENT
DTSTART;TZID=Europe/Berlin:20240406T200000
DTEND;TZID=Europe/Berlin:20240406T223000
DTSTAMP:20260423T232637
CREATED:20230614T131642Z
LAST-MODIFIED:20240314T094606Z
UID:10050842-1712433600-1712442600@www.livemacher.de
SUMMARY:NOCH´N GEDICHT - Heinz-Erhardt-Abend mit Hans-Joachim Heist in Marbach\, Stadthalle Schillerhöhe
DESCRIPTION:Heinz Erhardt\, dieser Schelm!\nWenn Hans-Joachim Heist die Erhardtbrille aufsetzt\, die Haltung von Heinz Erhardt annimmt und in seiner unverwechselbaren Art spricht\, meint man Heinz Erhardt sei da. \nMit seinen Wortspielereien\, Pointen und Reimen hat Heinz Erhardt ein Millionenpublikum begeistert. Er war verschmitzt\, spitzbübisch und fantasievoll. Erleben Sie an diesem Abend seine besten Gedichte\, Lieder und Conferencen. \nJetzt Tickets sichern! \nHINTERGRUND ZUM ABEND\nDer Schauspieler Hans-Joachim Heist ist auf der Theaterbühne ebenso zu Hause wie in den Fernsehstudios. \nIn über 70 Film- und Fernsehproduktionen hat er in verschiedensten Rollen mitgewirkt\, u.a.: „Diese Drombuschs“\, „Tatort“\, „SOKO Köln“\, SOKO Stuttgart“\, „Löwenzahn“\, „Bettys Diagnose“. Zuletzt zu sehen in zwei großen ARD Spielfilmproduktionen in einer der Hauptrollen: 2018 in „Verliebt in Amsterdam“ und 2019 in „Verliebt auf Island“. \nSeit 2012 ist Heist Botschafter der Deutschen Nierenstiftung. \nZahlreiche Preise und Auszeichnungen. \nAktuell in der ZDF „heute show“ als Kommentator „Gernot Hassknecht“\, immer freitags um 22:30 \n  \n 
URL:https://www.livemacher.de/event/nochn-gedicht-heinz-erhardt-abend-mit-hans-joachim-heist-in-marbach-stadthalle-schillerhoehe/
LOCATION:Marbach am Neckar\, Stadthalle Schillerhöhe\, Schillerhöhe 12\, Marbach\, Baden-Württemberg\, 71672\, Deutschland
CATEGORIES:Kultur
ATTACH;FMTTYPE=image/jpeg:https://www.livemacher.de/wp-content/uploads/2023/06/20240405_RAP_heinz-erhardt_1600x1600-scaled.jpg
ORGANIZER;CN="Livemacher GmbH":MAILTO:info@livemacher.de
GEO:48.9346878;9.2562195
X-APPLE-STRUCTURED-LOCATION;VALUE=URI;X-ADDRESS=Marbach am Neckar Stadthalle Schillerhöhe Schillerhöhe 12 Marbach Baden-Württemberg 71672 Deutschland;X-APPLE-RADIUS=500;X-TITLE=Schillerhöhe 12:geo:9.2562195,48.9346878
END:VEVENT
BEGIN:VEVENT
DTSTART;TZID=Europe/Berlin:20240414T190000
DTEND;TZID=Europe/Berlin:20240414T190000
DTSTAMP:20260423T232637
CREATED:20220610T113404Z
LAST-MODIFIED:20231208T154827Z
UID:10050665-1713121200-1713121200@www.livemacher.de
SUMMARY:Die grosse 80er Jahre Show in Besigheim\, Stadthalle "Alte Kelter" (Großer Saal)
DESCRIPTION:Termin ersatzlos abgesagt                            \n                            \n                        \n                        \n                        \n                        \n                                                Die Veranstaltung wurde ersatzlos abgesagt. Die für Sonntag\, den 14.04.2024 angesetzte Veranstaltung 'Die grosse 80er Jahre Show' in der Stadthalle „Alte Kelter“ (Großer Saal) in Besigheim\, wurde ersatzlos abgesagt. Die für diese Veranstaltung erworbenen Tickets können bei der Vorverkaufsstelle\, bei der Sie diese Tickets erworben haben\, zurückgegeben werden und Sie bekommen Ihr Geld erstattet. \n\n                        \n                        \n                        \n                                        \n                    \n                \n            \n        \n\n    \n    \n\n\nComedy & Musik mit Olaf Bossi und Markus („Ich will Spaß“) \nIm Stile einer klassischen Late-Night-Show führt der Comedian und Chart Produzent Olaf Bossi durch ein buntes Programm rund um die legendären 80er Jahre. \nABGESAGT \nUnterstützt wird er von Markus\, dem wohl bekanntesten Vertreter der Neuen Deutschen Welle\, dessen unvergessliche Hits „Ich will Spaß“ und „Kleine Taschenlampe brenn’ “ noch heute jeder gerne mitsingt. \nMit dabei sind auch die Sängerin Yvonne König und ein Überraschungs-Comedian\, der mit dem Publikum seine Stories aus den 80er Jahren teilt. \nZusammen mit den Künstlern geht das Publikum auf eine Zeitreise: Olaf Bossi und Markus erzählen lustige und spannende Anekdoten und öffnen die eigenen Alben der Erinnerung. \nNatürlich werden auch die Hits der 80er gemeinsam zelebriert mit einigen tollen Überraschungen. Also\, steigt ein in den DeLorean! Programmiert die Zeitmaschine auf 80er Jahre und fliegt zusammen mit Olaf Bossi\, Markus und Gästen in das g-g-geilste Jahrzehnt seit Erfindung der Schulterpolster! Es erwartet euch ein Abend voller Erinnerungen\, Lacher\, Hits und Haarspray. Freut Euch auf eine großartige Party und feiert mit uns unser magisches Jahrzehnt! \nSo eine Show hat es bisher noch nicht auf deutschen Bühnen gegeben. Freuen Sie sich auf eine großartige Party.
URL:https://www.livemacher.de/event/die-grosse-80er-jahre-show-in-besigheim-stadthalle-alte-kelter-grosser-saal/
LOCATION:Besigheim\, Stadthalle Alte Kelter\, Hauptstraße 57\, Besigheim\, Baden-Württemberg\, 74354\, Deutschland
CATEGORIES:Kultur
ORGANIZER;CN="Livemacher GmbH":MAILTO:info@livemacher.de
GEO:49.0007831;9.1395337
X-APPLE-STRUCTURED-LOCATION;VALUE=URI;X-ADDRESS=Besigheim Stadthalle Alte Kelter Hauptstraße 57 Besigheim Baden-Württemberg 74354 Deutschland;X-APPLE-RADIUS=500;X-TITLE=Hauptstraße 57:geo:9.1395337,49.0007831
END:VEVENT
BEGIN:VEVENT
DTSTART;TZID=Europe/Berlin:20240420T200000
DTEND;TZID=Europe/Berlin:20240420T223000
DTSTAMP:20260423T232637
CREATED:20230504T160730Z
LAST-MODIFIED:20240208T093831Z
UID:10050824-1713643200-1713652200@www.livemacher.de
SUMMARY:Doris Reichenauer - "I moin's doch bloß gut!" in Besigheim\, Alte Kelter
DESCRIPTION:ACHTUNG Programmänderung!                            \n                            \n                        \n                        \n                        \n                        \n                                                Dui do on de Sell: Gemeinsamer Blick in die Zukunft\n\nSeit über zwei Jahrzehnten stehen Petra Binder und Doris Reichenauer alias Dui do on de Sell gemeinsam erfolgreich auf der Bühne und begeistern das Publikum.\nNun steht das Comedy-Duo vor aufregenden Veränderungen\, die das kommende Kapitel ihrer Reise prägen werden.\n\nLeider müssen wir mitteilen\, dass Petra Binder aufgrund von Gesundheitsgründen pausieren musste\,und ihre Genesung wird länger dauern als ursprünglich angenommen. Petra Binder hat sich entschieden\, mehr Zeit mit ihrer Familie zu verbringen und wird bis auf Weiteres nicht mehr auf die Bühne zurückkehren.\n\nDie gute Nachricht ist jedoch\, dass die Show weitergeht! Doris Reichenauer wird nun als Solokünstlerin mit dem neuen Programm "I moin´s doch bloß gut!" den einzigartigen Spirit von Dui do on de Sell fortführen. Dieses Comedy-Spektakel verspricht ein ganz besonderes Erlebnis voller Lachen und Lebensfreude.\n\nDoris Reichenauers Soloauftritte haben bereits viel positive Resonanz erhalten\, und das Publikum war durchweg begeistert von ihrer unnachahmlichen Energie und ihrem besonderen Humor.\n\nAlle bereits gekauften Tickets für Dui do on de Sell behalten für das Solo-Programm von Doris Reichenauer ihre Gültigkeit.\n\nSollten Sie eine Rückerstattung der bereits gekauften Tickets wünschen\, ist dies bei der Vorverkaufsstelle Ihren Erwerbs möglich! \n                        \n                        \n                        \n                    \n                \n            \n        \n\n    \n    \n\n\n– Ein Comedy-Spektakel voller Lachen und Lebensfreude \nDie Comedy-Bühnen erstrahlen in neuem Glanz\, denn Doris Reichenauer\, vielen bekannt durch das Kabaret-Duo „Dui do on de Sell“\, tritt nun solo auf.\nWenn Doris Reichenauer die Bühne betritt und mit ihrem einzigartigen Humor und ihrer schier endlosen Energie alle Gäste in ihren Bann zieht\, wird der Abend zu einem unvergesslichen Erlebnis voller Lachen und ausgelassener Stimmung. \nJetzt Tickets sichern! \nIhre Beobachtungsgabe und ihr Gespür für die Komik des Alltags machen Doris Reichenauer zu einer Meisterin der Unterhaltung. Sie nimmt den Alltag aufs Korn und lässt dabei kein Auge trocken. Der Abend verspricht nicht nur eine herausragende Show\, sondern auch die Gelegenheit\, den Stress des Alltags für ein paar Stunden hinter sich zu lassen. Doris Reichenauer lädt das Publikum ein\, gemeinsam zu lachen und den Abend in entspannter Atmosphäre zu genießen.\nSeien Sie dabei\, wenn Doris Reichenauer mit dem Programm „I moin´s doch bloß gut!“ die Lachmuskeln strapaziert.
URL:https://www.livemacher.de/event/doris-reichenauer-i-moins-doch-bloss-gut-in-besigheim-alte-kelter/
LOCATION:Besigheim\, Stadthalle Alte Kelter\, Hauptstraße 57\, Besigheim\, Baden-Württemberg\, 74354\, Deutschland
CATEGORIES:Kultur
ATTACH;FMTTYPE=image/jpeg:https://www.livemacher.de/wp-content/uploads/2023/05/Doris_Reichenauer_RAP_1600x1600.jpg
ORGANIZER;CN="Livemacher GmbH":MAILTO:info@livemacher.de
GEO:49.0007831;9.1395337
X-APPLE-STRUCTURED-LOCATION;VALUE=URI;X-ADDRESS=Besigheim Stadthalle Alte Kelter Hauptstraße 57 Besigheim Baden-Württemberg 74354 Deutschland;X-APPLE-RADIUS=500;X-TITLE=Hauptstraße 57:geo:9.1395337,49.0007831
END:VEVENT
END:VCALENDAR