BEGIN:VCALENDAR
VERSION:2.0
PRODID:-//Livemacher GmbH - ECPv6.15.20//NONSGML v1.0//EN
CALSCALE:GREGORIAN
METHOD:PUBLISH
X-WR-CALNAME:Livemacher GmbH
X-ORIGINAL-URL:https://www.livemacher.de
X-WR-CALDESC:Veranstaltungen für Livemacher GmbH
REFRESH-INTERVAL;VALUE=DURATION:PT1H
X-Robots-Tag:noindex
X-PUBLISHED-TTL:PT1H
BEGIN:VTIMEZONE
TZID:Europe/Berlin
BEGIN:DAYLIGHT
TZOFFSETFROM:+0100
TZOFFSETTO:+0200
TZNAME:CEST
DTSTART:20230326T010000
END:DAYLIGHT
BEGIN:STANDARD
TZOFFSETFROM:+0200
TZOFFSETTO:+0100
TZNAME:CET
DTSTART:20231029T010000
END:STANDARD
BEGIN:DAYLIGHT
TZOFFSETFROM:+0100
TZOFFSETTO:+0200
TZNAME:CEST
DTSTART:20240331T010000
END:DAYLIGHT
BEGIN:STANDARD
TZOFFSETFROM:+0200
TZOFFSETTO:+0100
TZNAME:CET
DTSTART:20241027T010000
END:STANDARD
BEGIN:DAYLIGHT
TZOFFSETFROM:+0100
TZOFFSETTO:+0200
TZNAME:CEST
DTSTART:20250330T010000
END:DAYLIGHT
BEGIN:STANDARD
TZOFFSETFROM:+0200
TZOFFSETTO:+0100
TZNAME:CET
DTSTART:20251026T010000
END:STANDARD
END:VTIMEZONE
BEGIN:VEVENT
DTSTART;TZID=Europe/Berlin:20240203T200000
DTEND;TZID=Europe/Berlin:20240203T223000
DTSTAMP:20260425T123142
CREATED:20230630T160047Z
LAST-MODIFIED:20231215T082026Z
UID:10050826-1706990400-1706999400@www.livemacher.de
SUMMARY:Dodokay "I bin's selber" Freiberg\, PRISMA
DESCRIPTION:Eigentlich ist alles aus Versehen passiert: Erst hat Dominik „Dodokay“ Kuhn auf YouTube & Co. Darth Vader\, Barack Obama\, dem deutschen Bundestag und noch vielen anderen Schwäbisch beigebracht\, und dann ist er 2014 auch noch mit einer eigenen Stand-Up- Comedy-Show auf der Bühne gelandet. \nJetzt Tickets sichern! \nSeitdem rast der Dodokay-Zug weltweit durch ganz Schwaben und hält dabei an so vielen Stationen wie möglich.\nZehn Jahre Dodokay live on stage – des isch doch klar\, dass die neue Show „I bin’s selber“ das Jubiläum feiert! Natürlich gibt es wieder brandneue Synchros auf der mitgebrachten Leinwand\, aber die Tour ist auch ein Anlass\, um auf zehn Jahre Bühne zurückzublicken. Neben Highlights aus dieser Zeit beantwortet Dodokay in seinen berühmt-berüchtigten Stand-Ups auch neue brennende Fragen\, die niemand gestellt hat: Warum sagen Schwaben meistens das Gegenteil von dem\, was sie denken? Was macht eigentlich der SV49? Wer spricht die ganzen Stimmen in den Videos? Isch’s d’r Dodokay selber?\nWer Dodokays Show kennt\, muss auch diese sehen; wer sie nicht kennt\, erst recht. Auf alle Fälle sind bei Dodokay drei Sachen garantiert: Es wird lustig\, er schwätzt schwäbisch und er isches selber.
URL:https://www.livemacher.de/event/dodokay-neues-programm-tamm-buergersaal/
LOCATION:Freiberg am Neckar\, PRISMA\, Marktplatz 22\, Freiberg am Neckar\, Baden-Württemberg\, 71691\, Deutschland
CATEGORIES:Kultur
ATTACH;FMTTYPE=image/jpeg:https://www.livemacher.de/wp-content/uploads/2023/05/LM_20240203_FRB_Dodokay_I_bins_selber_1600x1600.jpg
ORGANIZER;CN="Livemacher GmbH":MAILTO:info@livemacher.de
GEO:48.93591;9.19215
X-APPLE-STRUCTURED-LOCATION;VALUE=URI;X-ADDRESS=Freiberg am Neckar PRISMA Marktplatz 22 Freiberg am Neckar Baden-Württemberg 71691 Deutschland;X-APPLE-RADIUS=500;X-TITLE=Marktplatz 22:geo:9.19215,48.93591
END:VEVENT
BEGIN:VEVENT
DTSTART;TZID=Europe/Berlin:20240209T193000
DTEND;TZID=Europe/Berlin:20240209T193000
DTSTAMP:20260425T123142
CREATED:20230504T152431Z
LAST-MODIFIED:20231215T081953Z
UID:10050822-1707507000-1707507000@www.livemacher.de
SUMMARY:Doris Reichenauer - „I moin's doch bloß gut!" im Kurhaus in Bad Rappenau
DESCRIPTION:ACHTUNG Programmänderung!                            \n                            \n                        \n                        \n                        \n                        \n                                                Dui do on de Sell: Gemeinsamer Blick in die Zukunft\n\nSeit über zwei Jahrzehnten stehen Petra Binder und Doris Reichenauer alias Dui do on de Sell gemeinsam erfolgreich auf der Bühne und begeistern das Publikum.\nNun steht das Comedy-Duo vor aufregenden Veränderungen\, die das kommende Kapitel ihrer Reise prägen werden.\n\nLeider müssen wir mitteilen\, dass Petra Binder aufgrund von Gesundheitsgründen pausieren musste\,und ihre Genesung wird länger dauern als ursprünglich angenommen. Petra Binder hat sich entschieden\, mehr Zeit mit ihrer Familie zu verbringen und wird bis auf Weiteres nicht mehr auf die Bühne zurückkehren.\n\nDie gute Nachricht ist jedoch\, dass die Show weitergeht! Doris Reichenauer wird nun als Solokünstlerin mit dem neuen Programm "I moin´s doch bloß gut!" den einzigartigen Spirit von Dui do on de Sell fortführen. Dieses Comedy-Spektakel verspricht ein ganz besonderes Erlebnis voller Lachen und Lebensfreude.\n\nDoris Reichenauers Soloauftritte haben bereits viel positive Resonanz erhalten\, und das Publikum war durchweg begeistert von ihrer unnachahmlichen Energie und ihrem besonderen Humor.\n\nAlle bereits gekauften Tickets für Dui do on de Sell behalten für das Solo-Programm von Doris Reichenauer ihre Gültigkeit.\n\nSollten Sie eine Rückerstattung der bereits gekauften Tickets wünschen\, ist dies bei der Vorverkaufsstelle Ihren Erwerbs möglich! \n                        \n                        \n                        \n                    \n                \n            \n        \n\n    \n    \n\n\n– Ein Comedy-Spektakel voller Lachen und Lebensfreude \nDie Comedy-Bühnen erstrahlen in neuem Glanz\, denn Doris Reichenauer\, vielen bekannt durch das Kabaret-Duo „Dui do on de Sell“\, tritt nun solo auf.\nWenn Doris Reichenauer die Bühne betritt und mit ihrem einzigartigen Humor und ihrer schier endlosen Energie alle Gäste in ihren Bann zieht\, wird der Abend zu einem unvergesslichen Erlebnis voller Lachen und ausgelassener Stimmung. \nJetzt Tickets sichern! \nIhre Beobachtungsgabe und ihr Gespür für die Komik des Alltags machen Doris Reichenauer zu einer Meisterin der Unterhaltung. Sie nimmt den Alltag aufs Korn und lässt dabei kein Auge trocken. Der Abend verspricht nicht nur eine herausragende Show\, sondern auch die Gelegenheit\, den Stress des Alltags für ein paar Stunden hinter sich zu lassen. Doris Reichenauer lädt das Publikum ein\, gemeinsam zu lachen und den Abend in entspannter Atmosphäre zu genießen.\nSeien Sie dabei\, wenn Doris Reichenauer mit dem Programm „I moin´s doch bloß gut!“ die Lachmuskeln strapaziert.
URL:https://www.livemacher.de/event/doris-reichenauer-i-moins-doch-bloss-gut-im-kurhaus-in-bad-rappenau-2/
LOCATION:Bad Rappenau\, Kurhaus\, Fritz-Hagner-Promenade 2\, Bad Rappenau\, Baden-Württemberg\, 74906\, Deutschland
CATEGORIES:Kultur
ATTACH;FMTTYPE=image/jpeg:https://www.livemacher.de/wp-content/uploads/2023/05/Doris_Reichenauer_RAP_1600x1600.jpg
ORGANIZER;CN="Livemacher GmbH":MAILTO:info@livemacher.de
GEO:49.2403513;9.1078422
X-APPLE-STRUCTURED-LOCATION;VALUE=URI;X-ADDRESS=Bad Rappenau Kurhaus Fritz-Hagner-Promenade 2 Bad Rappenau Baden-Württemberg 74906 Deutschland;X-APPLE-RADIUS=500;X-TITLE=Fritz-Hagner-Promenade 2:geo:9.1078422,49.2403513
END:VEVENT
BEGIN:VEVENT
DTSTART;TZID=Europe/Berlin:20240215T200000
DTEND;TZID=Europe/Berlin:20240215T223000
DTSTAMP:20260425T123142
CREATED:20230508T100959Z
LAST-MODIFIED:20231215T081820Z
UID:10050828-1708027200-1708036200@www.livemacher.de
SUMMARY:Django Asül "Offenes Visier" Tamm\, Bürgersaal
DESCRIPTION:Offenes Visier \nGanz ohne Scheuklappen und toten Winkel\, sondern mit Weitblick und einer gehörigen Portion purer Gaudi präsentiert Django Asül sein aktuelles Programm \,\,Offenes V¡sie/‘. Ein Power-Programm für Jederfrau und Jedermann\, unheimlich amüsant und unterhaltsam. \nJetzt Tickets sichern! \nUnd nein\, Django Asül beschäftigt sich in diesem Werk nicht mit Parteien und Politikern\, sondern mit den wirklich wichtigen Dingen des Lebens: Solidarität und Nachhaltigkeit. Klingt vielleicht spröde – aber nicht bei Djangol Denn er hat begriffen: Die Realität da draußen hat schon lang nichts mehr mit derWirklichkeit zu tun. Dementsprechend stellt der Kabarettist nicht nur wichtige Fragen\, sondern liefert auch Antworten: Wie können wir in Zeiten sozialer Verunsicherung hilfreiche Zeitgenossen sein? Wie kann man fußläufig spannend Urlaub machen und dabei das Klima schonen? Wie muss man heute leben\, um später der Demenz zu entkommen? Und wieso trifft Django auf Malta Chinesen\, die Griechen sind? Als besonderes Highlight spricht der Niederbayer auch noch über seine erotischen Phantasien. Und\nwarum er regelmäßig kar¡tat¡v ist – als lmmobilienmakler.\nWas Django hier abzieht\, ist hochkonzentrierte Komik als Hilfe zur Selbsthilfe. Wer da nicht hingeht\, demider ist wirklich nicht mehr zu helfen.
URL:https://www.livemacher.de/event/django-asuel-offenes-visier-tamm-buergersaal/
LOCATION:Tamm\, Kulturzentrum Bürgersaal\, Bissinger Straße 8\, Tamm\, Baden-Württemberg\, 71732\, Deutschland
CATEGORIES:Kultur
ATTACH;FMTTYPE=image/jpeg:https://www.livemacher.de/wp-content/uploads/2023/05/web_LM_20240215_TAM_Django-Asuel_1600x1600.jpg
ORGANIZER;CN="Livemacher GmbH":MAILTO:info@livemacher.de
GEO:48.9226;9.1222
X-APPLE-STRUCTURED-LOCATION;VALUE=URI;X-ADDRESS=Tamm Kulturzentrum Bürgersaal Bissinger Straße 8 Tamm Baden-Württemberg 71732 Deutschland;X-APPLE-RADIUS=500;X-TITLE=Bissinger Straße 8:geo:9.1222,48.9226
END:VEVENT
BEGIN:VEVENT
DTSTART;TZID=Europe/Berlin:20240225T190000
DTEND;TZID=Europe/Berlin:20240225T220000
DTSTAMP:20260425T123142
CREATED:20230813T080007Z
LAST-MODIFIED:20240208T093243Z
UID:10050829-1708887600-1708898400@www.livemacher.de
SUMMARY:Duo Graceland mit Streicherquartett - "A Tribute to Simon & Garfunkel"\, im Prisma in Freiberg a.N.
DESCRIPTION:Mit Liedern wie „The Sound of Silence“ und „Cecilia“ schufen Simon & Garfunkel poetische Hymnen für eine ganze Generation. „Mrs. Robinson“ wurde 1969 weltberühmt durch den US-amerikanischen Spielfilm „Die Reifeprüfung“. 1968 schrieb das US-amerikanische Duo mit „The Boxer“ ein hochemotionales Loblied auf einen Überlebenskünstler. Als Botschaft der Hoffnung ging zwei Jahre später mit „Bridge Over Troubled Water“ eine Komposition von schlichter Schönheit in die Musikgeschichte ein. \nJetzt Tickets sichern! \nSeit einigen Jahren spürt das Duo Graceland dem musikalischen Geist seiner Vorbilder intensiv nach und tourt mit dem Programm „A Tribute to Simon & Garfunkel“ überaus erfolgreich durch die Republik. In ihrem aktuellen Projekt beweisen Thomas Wacker (Paul Simon) und Thorsten Gary (Art Garfunkel) eindrücklich: Die unzähligen Klassiker des wohl erfolgreichsten Folkrock-Duos der Welt harmonieren perfekt mit dem unverkennbaren Klang eines klassischen Streichensembles.
URL:https://www.livemacher.de/event/duo-graceland-mit-streicherquartett-a-tribute-to-simon-garfunkel-im-prisma-in-freiberg-a-n/
LOCATION:Freiberg am Neckar\, PRISMA\, Marktplatz 22\, Freiberg am Neckar\, Baden-Württemberg\, 71691\, Deutschland
CATEGORIES:Kultur
ATTACH;FMTTYPE=image/jpeg:https://www.livemacher.de/wp-content/uploads/2018/10/web_20231126_TAM_Graceland_1600x1600_01.jpg
ORGANIZER;CN="Livemacher GmbH":MAILTO:info@livemacher.de
GEO:48.93591;9.19215
X-APPLE-STRUCTURED-LOCATION;VALUE=URI;X-ADDRESS=Freiberg am Neckar PRISMA Marktplatz 22 Freiberg am Neckar Baden-Württemberg 71691 Deutschland;X-APPLE-RADIUS=500;X-TITLE=Marktplatz 22:geo:9.19215,48.93591
END:VEVENT
BEGIN:VEVENT
DTSTART;TZID=Europe/Berlin:20240229T200000
DTEND;TZID=Europe/Berlin:20240229T223000
DTSTAMP:20260425T123142
CREATED:20230519T114153Z
LAST-MODIFIED:20240219T124905Z
UID:10050837-1709236800-1709245800@www.livemacher.de
SUMMARY:die feisten - "jetzt!" in Besigheim\, Alte Kelter
DESCRIPTION:Termin ersatzlos abgesagt                            \n                            \n                        \n                        \n                        \n                        \n                                                Die Veranstaltung wurde ersatzlos abgesagt. Die für Donnerstag\, den 29.02.2024 angesetzte Veranstaltung 'die feisten - jetzt!' in der Stadthalle „Alte Kelter“ (Großer Saal) in Besigheim\, wurde krankeitsbedingt ersatzlos abgesagt. Die für diese Veranstaltung erworbenen Tickets können bei der Vorverkaufsstelle\, bei der Sie diese Tickets erworben haben\, zurückgegeben werden und Sie bekommen Ihr Geld erstattet. \n\n                        \n                        \n                        \n                                        \n                    \n                \n            \n        \n\n    \n    \n\n\nHöchste Zeit für die feisten! Schließlich sollte man nicht verpassen\, wenn Jungs im besten Alter ihren zweiten Frühling feiern. So wie C und Rainer\, die sich seit Äonen kennen und vielleicht genau deshalb jene Momente auf den Punkt bringen können\, die unsere moderne Welt so absurd machen. \nJetzt Tickets sichern! \nOb Junggesellenabschiede mit über 50\, ewige Arschkriecher oder das verloren gegangene Wild West-Feeling des Rauchens: Solange die feisten noch Puls haben\, wollen sie auch unser Ohr. Und das kann sich kaum satt hören an den Geschichtensongs der beiden Liedermacher. \nMit ihrem neuen Programm „jetzt!“ beginnt nun eine neue Ära für die Träger des deutschen Kleinkunstpreises. Lieder für die Ewigkeit gesellen sich zu ganz frischen feisten Songs\, die uns genau dort abholen\, wo wir gerade stehen. Und das nicht irgendwann\, sondern jetzt! \n 
URL:https://www.livemacher.de/event/die-feisten-jetzt-in-besigheim-alte-kelter/
LOCATION:Besigheim\, Stadthalle Alte Kelter\, Hauptstraße 57\, Besigheim\, Baden-Württemberg\, 74354\, Deutschland
CATEGORIES:Kultur
ORGANIZER;CN="Livemacher GmbH":MAILTO:info@livemacher.de
GEO:49.0007831;9.1395337
X-APPLE-STRUCTURED-LOCATION;VALUE=URI;X-ADDRESS=Besigheim Stadthalle Alte Kelter Hauptstraße 57 Besigheim Baden-Württemberg 74354 Deutschland;X-APPLE-RADIUS=500;X-TITLE=Hauptstraße 57:geo:9.1395337,49.0007831
END:VEVENT
BEGIN:VEVENT
DTSTART;TZID=Europe/Berlin:20240229T200000
DTEND;TZID=Europe/Berlin:20240229T230000
DTSTAMP:20260425T123142
CREATED:20231016T080028Z
LAST-MODIFIED:20240201T135935Z
UID:10050872-1709236800-1709247600@www.livemacher.de
SUMMARY:Planet Floyd - The German Pink Floyd Tribute Show in Nürnberg\, Meistersingerhalle
DESCRIPTION:Termin ersatzlos abgesagt                            \n                            \n                        \n                        \n                        \n                        \n                                                Die Veranstaltung wurde ersatzlos abgesagt. Die für Donnerstag\, den 29.02.2024 angesetzte Veranstaltung 'Planet Floyd - The German Pink Floyd Tribute Show' in der Meistersingerhalle in Nürnberg\, wurde ersatzlos abgesagt. Die für diese Veranstaltung erworbenen Tickets können bei der Vorverkaufsstelle\, bei der Sie diese Tickets erworben haben\, zurückgegeben werden und Sie bekommen Ihr Geld erstattet. \n\n                        \n                        \n                        \n                                        \n                    \n                \n            \n        \n\n    \n    \n\n\nPink Floyd\, sie wurden als Giganten des Progressive- bzw. Art-Rock bezeichnet\, sie verknüpften als Erste Musik- und Lightshow sowie eine Videoshow mit auf die Songs zugeschnittenen Filmen zu einem klanggewaltigen\, emotionalen Gesamtkunstwerk. Kritische und gefühlvolle Texte wurden von einer emotionalen Musik getragen. Die Live Shows von Pink Floyd waren Ereignisse\, zu denen Millionen begeisterter Fans pilgerten. Will man das Werk von Syd Barret\, David Gilmour\, Roger Waters\, Nick Mason und Richard Wright beschreiben\, gehen einem die Superlative aus. Dieses umfangreiche und in der Komplexität unerreichte Werk heute live\, authentisch und emotional auf die Bühne zu bringen\, grenzt an ein zum Scheitern verurteiltes Unterfangen. Demzufolge gibt es weltweit auch nur sehr wenige Bands\, die sich dieser Herausforderung stellen. Mit 9 Musikern und 4 eigenen Technikern schafft es die im Großraum Stuttgart und Heilbronn beheimatete Band Planet Floyd bei jedem Konzert aufs Neue\, das Publikum in die magische Welt von Pink Floyd eintauchen zu lassen. \nJetzt Tickets sichern! \nErleben Sie einen Abend mit der Stimmung und den Emotionen der Songs von Pink Floyd Planet Floyd haben passend zu den Songs Videos produziert\, die auf der berühmten runden Leinwand die stimmungsvoll dargebotenen Songs dieser Supergruppe unterstützen. Tauchen Sie ein in den Sound\, schließen Sie die Augen um zu genießen und öffnen Sie sie wieder\, um zu staunen! Erinnerungen an die psychedelischen Konzerte werden wach\, man glaubt den süßlichen Geruch\, der die Konzerte von Pink Floyd immer begleitet hat\, förmlich zu riechen. Gänsehautfeeling bei Titeln wie „Comfortably numb“ oder „The great gig in the sky“. Lassen Sie sich mit „Shine on you crazy diamond“ in Dimensionen fernab vom Alltag entführen. Spüren Sie die Gedanken und die Kritik in den Texten von „Us and them“ und „Pigs“\, die heute fast mehr als damals Aktualität besitzen\, und tauchen Sie bei „Echoes“ ein in 22 Minuten Psychedelic pur. \nEin Kritiker schrieb zur Show: „Zweierlei lösen Planet Floyd ein: Sie leisten ein Wiederhören mit Pink Floyd… und Planet Floyd haben Stil! Bei aller instrumentalen Fertigkeit. Sie dürfen das!“
URL:https://www.livemacher.de/event/planet-floyd-the-german-pink-floyd-tribute-show-in-nuernberg-meistersingerhalle/
LOCATION:Nürnberg\, Meistersingerhalle\, Münchener Str. 21\, Nürnberg\, Bayern\, 90478
CATEGORIES:Kultur
ATTACH;FMTTYPE=image/jpeg:https://www.livemacher.de/wp-content/uploads/2023/10/web_20240302-MAR-Planet-Floyd-1600x1600_abgesagt.jpg
ORGANIZER;CN="Livemacher GmbH":MAILTO:info@livemacher.de
END:VEVENT
END:VCALENDAR