BEGIN:VCALENDAR
VERSION:2.0
PRODID:-//Livemacher GmbH - ECPv6.15.20//NONSGML v1.0//EN
CALSCALE:GREGORIAN
METHOD:PUBLISH
X-ORIGINAL-URL:https://www.livemacher.de
X-WR-CALDESC:Veranstaltungen für Livemacher GmbH
REFRESH-INTERVAL;VALUE=DURATION:PT1H
X-Robots-Tag:noindex
X-PUBLISHED-TTL:PT1H
BEGIN:VTIMEZONE
TZID:Europe/Berlin
BEGIN:DAYLIGHT
TZOFFSETFROM:+0100
TZOFFSETTO:+0200
TZNAME:CEST
DTSTART:20220327T010000
END:DAYLIGHT
BEGIN:STANDARD
TZOFFSETFROM:+0200
TZOFFSETTO:+0100
TZNAME:CET
DTSTART:20221030T010000
END:STANDARD
BEGIN:DAYLIGHT
TZOFFSETFROM:+0100
TZOFFSETTO:+0200
TZNAME:CEST
DTSTART:20230326T010000
END:DAYLIGHT
BEGIN:STANDARD
TZOFFSETFROM:+0200
TZOFFSETTO:+0100
TZNAME:CET
DTSTART:20231029T010000
END:STANDARD
BEGIN:DAYLIGHT
TZOFFSETFROM:+0100
TZOFFSETTO:+0200
TZNAME:CEST
DTSTART:20240331T010000
END:DAYLIGHT
BEGIN:STANDARD
TZOFFSETFROM:+0200
TZOFFSETTO:+0100
TZNAME:CET
DTSTART:20241027T010000
END:STANDARD
END:VTIMEZONE
BEGIN:VEVENT
DTSTART;TZID=Europe/Berlin:20231201T193000
DTEND;TZID=Europe/Berlin:20231201T193000
DTSTAMP:20260425T153334
CREATED:20230317T130350Z
LAST-MODIFIED:20230317T130350Z
UID:10050813-1701459000-1701459000@www.livemacher.de
SUMMARY:Planet Floyd - The German Pink Floyd Tribute Show in Bad Rappenau\, Kurhaus
DESCRIPTION:Pink Floyd\, sie wurden als Giganten des Progressive- bzw. Art-Rock bezeichnet\, sie verknüpften als Erste Musik- und Lightshow sowie eine Videoshow mit auf die Songs zugeschnittenen Filmen zu einem klanggewaltigen\, emotionalen Gesamtkunstwerk. Kritische und gefühlvolle Texte wurden von einer emotionalen Musik getragen. Die Live Shows von Pink Floyd waren Ereignisse\, zu denen Millionen begeisterter Fans pilgerten. Will man das Werk von Syd Barret\, David Gilmour\, Roger Waters\, Nick Mason und Richard Wright beschreiben\, gehen einem die Superlative aus. Dieses umfangreiche und in der Komplexität unerreichte Werk heute live\, authentisch und emotional auf die Bühne zu bringen\, grenzt an ein zum Scheitern verurteiltes Unterfangen. Demzufolge gibt es weltweit auch nur sehr wenige Bands\, die sich dieser Herausforderung stellen. Mit 9 Musikern und 4 eigenen Technikern schafft es die im Großraum Stuttgart und Heilbronn beheimatete Band Planet Floyd bei jedem Konzert aufs Neue\, das Publikum in die magische Welt von Pink Floyd eintauchen zu lassen. \nJetzt Tickets sichern! \nErleben Sie einen Abend mit der Stimmung und den Emotionen der Songs von Pink Floyd Planet Floyd haben passend zu den Songs Videos produziert\, die auf der berühmten runden Leinwand die stimmungsvoll dargebotenen Songs dieser Supergruppe unterstützen. Tauchen Sie ein in den Sound\, schließen Sie die Augen um zu genießen und öffnen Sie sie wieder\, um zu staunen! Erinnerungen an die psychedelischen Konzerte werden wach\, man glaubt den süßlichen Geruch\, der die Konzerte von Pink Floyd immer begleitet hat\, förmlich zu riechen. Gänsehautfeeling bei Titeln wie „Comfortably numb“ oder „The great gig in the sky“. Lassen Sie sich mit „Shine on you crazy diamond“ in Dimensionen fernab vom Alltag entführen. Spüren Sie die Gedanken und die Kritik in den Texten von „Us and them“ und „Pigs“\, die heute fast mehr als damals Aktualität besitzen\, und tauchen Sie bei „Echoes“ ein in 22 Minuten Psychedelic pur. \nEin Kritiker schrieb zur Show: „Zweierlei lösen Planet Floyd ein: Sie leisten ein Wiederhören mit Pink Floyd… und Planet Floyd haben Stil! Bei aller instrumentalen Fertigkeit. Sie dürfen das!“
URL:https://www.livemacher.de/event/planet-floyd-the-german-pink-floyd-tribute-show-in-bad-rappenau-kurhaus/
LOCATION:Bad Rappenau\, Kurhaus\, Fritz-Hagner-Promenade 2\, Bad Rappenau\, Baden-Württemberg\, 74906\, Deutschland
CATEGORIES:Jazz-Pop-Rock
ATTACH;FMTTYPE=image/jpeg:https://www.livemacher.de/wp-content/uploads/2023/03/web_LM_20231201_RAP_Planet-Floyd_1600x1600.jpg
ORGANIZER;CN="Livemacher GmbH":MAILTO:info@livemacher.de
GEO:49.2403513;9.1078422
X-APPLE-STRUCTURED-LOCATION;VALUE=URI;X-ADDRESS=Bad Rappenau Kurhaus Fritz-Hagner-Promenade 2 Bad Rappenau Baden-Württemberg 74906 Deutschland;X-APPLE-RADIUS=500;X-TITLE=Fritz-Hagner-Promenade 2:geo:9.1078422,49.2403513
END:VEVENT
BEGIN:VEVENT
DTSTART;TZID=Europe/Berlin:20231201T200000
DTEND;TZID=Europe/Berlin:20231201T200000
DTSTAMP:20260425T153334
CREATED:20201202T124205Z
LAST-MODIFIED:20231208T160334Z
UID:10050175-1701460800-1701460800@www.livemacher.de
SUMMARY:Mundstuhl - "Kann Spuren von Nüssen enthalten - Das brandneue Programm!" in Heilbronn \, Konzert- und Kongresszentrum Harmonie
DESCRIPTION:Terminverlegung                            \n                            \n                        \n                        \n                        \n                        \n                                                Die Veranstaltung wurde auf Grund einer behördlichen Anordnung verschoben.\nDie für Freitag\, den 17.11.2021 angesetzte Veranstaltung "Mundstuhl – 'FLAMONGOS' " im Konzert- und Kongresszentrum Harmonie in Heilbronn\, wurde aufgrund der aktuellen Situation auf Freitag\, den 01.12.2023 verschoben.\n\nSelbstverständlich behalten alle Tickets ihre Gültigkeit für den neuen Termin.\n\nWir bitten um Ihr Verständnis. Vielen Dank.\n                        \n                        \n                        \n                    \n                \n            \n        \n\n    \n    \n\n\nDas beste Comedyduo des Universums holt aus zum nächsten Streich! \nUnd ja! Es wird noch lustiger als jemals zuvor. Wer geglaubt hat\, der Gipfel humoristischen Wahnsinns sei nach 25 Jahren MUNDSTUHL bereits erreicht\, wird mit dem brandneuen Programm KANN SPUREN VON NÜSSEN ENTHALTEN  eines Besseren belehrt. \nJetzt Tickets sichern! \nSo frisch und abwechslungsreich\, so durchgeknallt und schnell\, als hätten sich die beiden symphatischen Echopreisträger eine Adrenalinspritze ins vegetative Humorzentrum gedrückt. In bester Mundstuhlmanier geben sich auf der Bühne liebgewonnene aber auch nagelneue Charaktere die Klinke in die Hand. \nDer psychopathische Grillschorsch\, der cholerische Andi\, die drucklosen Friedensaktivisten Malte und Torben  von No Pressure und als Special Guest Der Dschieses\, der auf Geheiß seines Vaters wieder auf der Erde weilt – alle Mundstuhl-Figuren haben schwer einen an der Klatsche und sind als ins Absurde überdrehte Karikaturen angelegt. \nSo auch die ostdeutschen Hartz-IV-Mütter Peggy und Sandy\,  die schlechtesten Zauberer der Welt Sickroy und Fried und natürlich Dragan und Alder\, die Erfinder der Kanakcomedy\, die den hessischen Kultkomikern vor einem Vierteljahrhundert den Durchbruch bescherten. \nImmer wieder leuchten satirische Spitzen auf\, meist aber geht es um die pure Lust am Blödsinn\, die mit ansteckender Spielfreude präsentiert wird. \nIn Zeiten von stets erhobenen Zeigefingern\, Gendersternchen und Political Correctness machen MUNDSTUHL weiterhin Späße über Alles und Jeden und das Beste ist: Man darf und muss herzhaft darüber lachen. \nDie beiden Comedians und Podcaster Lars Niedereichholz und Ande Werner gelten als das erfolgreichste und wandelbarste Comedy-Doppel Deutschlands und erreichen in ihrem neuen Programm eine geradezu irrwitzige Pointendichte. \nAber Achtung! Dieses Programm  KANN SPUREN VON NÜSSEN ENTHALTEN. \n„Riesenapplaus unter Lachtränen!“ BILD Zeitung\n„MUNDSTUHL sind die AC/DC der Comedy! Zum Kaputtlachen!“ SZ\n„Politisch völlig inkorrekt und zum Brüllen komisch“ Westfälische Allgemeine\n„MUNDSTUHL sind einmalig“ BZ
URL:https://www.livemacher.de/event/mundstuhl-neues-programm-heilbronn-konzert-und-kongresszentrum-harmonie/
LOCATION:Heilbronn\, Harmonie (Theodor Heuss Saal)\, Allee 28\, Heilbronn\, Baden-Württemberg\, 74072\, Deutschland
CATEGORIES:Kultur
ORGANIZER;CN="Livemacher GmbH":MAILTO:info@livemacher.de
GEO:49.1428686;9.2230322
X-APPLE-STRUCTURED-LOCATION;VALUE=URI;X-ADDRESS=Heilbronn Harmonie (Theodor Heuss Saal) Allee 28 Heilbronn Baden-Württemberg 74072 Deutschland;X-APPLE-RADIUS=500;X-TITLE=Allee 28:geo:9.2230322,49.1428686
END:VEVENT
BEGIN:VEVENT
DTSTART;TZID=Europe/Berlin:20231202T200000
DTEND;TZID=Europe/Berlin:20231202T200000
DTSTAMP:20260425T153334
CREATED:20230317T132959Z
LAST-MODIFIED:20231208T160155Z
UID:10050814-1701547200-1701547200@www.livemacher.de
SUMMARY:INGO APPELT – "Startschuss!" in der Stadthalle 'Schillerhöhe' in Marbach am Neckar
DESCRIPTION:STARTSCHUSS! – Auf die Kacke\, fertig\, los! \nTabufreundlich\, heftig und deftig! Wer Ingo Appelt will\, bekommt auch Ingo Appelt. Klartext eben und nichts für Zartbesaitete. \nJetzt Tickets sichern! \n„Wo sind sie hin\, die guten Jahre? Nichts ist\, wie es war! Alles geht den Bach runter!“ – Wenn alle jammern\, läuft einer zur Höchstform auf und übernimmt das Steuer: Ingo Appelt! Der Letzte\, ja\, der Beste seiner Art\, mit seinem besten Programm aller Zeiten. Vollgedopt mit Ingosteron und einem „Hurra\, uns geht’s schlecht!“ auf den Lippen\, zieht der Ritter des schonungslosen Humors los\, dem allgemeinen Verdruss den Kopf abzuschlagen. Einer muss es ja machen\, hilft ja nix – Appelt schon!\nUnd wie jeder Ritter macht auch er das alles vor allem für die Frauen. Ingo feiert die Frauen und fordert das Matriarchat jetzt! Egal\, was die anderen sagen. Das nimmt er in Kauf\, denn durch Reibung entsteht Wärme. Und die können wir doch gerade jetzt besonders gut gebrauchen! Er schlägt weiter dahin\, wo es vor Lachen weh tut – immer aufs Zwerchfell. Der böse Junge der Comedy ist furchtlos wie eh und je und nimmt dabei kein Blatt vor den Mund. Lieber verliert er einen guten Freund als einen guten Gag. Na\, das kann ja heiter werden\, heiter mit Aussicht auf Shitstorm! Und wenn ihr bei so viel Spaß dennoch unbedingt irgendwen hassen wollt\, dann hasst doch Ingo. Der kommt damit klar. Besser noch – er verschenkt zu jedem gekauften Ticket das Gratis-Seminar „Betreutes Hassen mit Ingo Appelt“. Einlösbar direkt während der Show. \nSTARTSCHUSS – wer das verpasst\, ist nicht zu retten!
URL:https://www.livemacher.de/event/ingo-appelt-der-staats-trainer-in-der-stadthalle-schillerhoehe-in-marbach-am-neckar/
LOCATION:Marbach am Neckar\, Stadthalle Schillerhöhe\, Schillerhöhe 12\, Marbach\, Baden-Württemberg\, 71672\, Deutschland
CATEGORIES:Kultur
ATTACH;FMTTYPE=image/jpeg:https://www.livemacher.de/wp-content/uploads/2023/03/web_20231202-MAR-Ingo_Appelt-1600x1600_neu.jpg
ORGANIZER;CN="Livemacher GmbH":MAILTO:info@livemacher.de
GEO:48.9346878;9.2562195
X-APPLE-STRUCTURED-LOCATION;VALUE=URI;X-ADDRESS=Marbach am Neckar Stadthalle Schillerhöhe Schillerhöhe 12 Marbach Baden-Württemberg 71672 Deutschland;X-APPLE-RADIUS=500;X-TITLE=Schillerhöhe 12:geo:9.2562195,48.9346878
END:VEVENT
BEGIN:VEVENT
DTSTART;TZID=Europe/Berlin:20231216T200000
DTEND;TZID=Europe/Berlin:20231216T200000
DTSTAMP:20260425T153334
CREATED:20230331T120323Z
LAST-MODIFIED:20231215T083854Z
UID:10050817-1702756800-1702756800@www.livemacher.de
SUMMARY:MICHAEL JACKSON "Tribute Live Experience" in Marbach a.N. \, Stadthalle Schillerhöhe
DESCRIPTION:Erleben Sie noch einmal die größten Hits von Michael Jackson und den Jackson 5 in einer spektakulären und beeindruckenden Bühnenshow.\nSeine Hits sind in der ganzen Welt inzwischen Kult-Songs und werden heute noch in allen Diskotheken dieser Welt gespielt. \nJetzt Tickets sichern… \nAber auch Live-Shows sollen die Musik des King of Pop weiterhin leben lassen. So auch die 2 stündige Show mit großer Band \, Tänzerinnen und einen überragenden Solist – Sascha Pazdera.\nEr gilt als der beste deutsche Live-Tribute Michael Jackson Interpret. So wurde er auch vielfach ausgezeichnet und 2017 zum Künstler des Jahres in Deutschland und der Schweiz gekürt.\nDie Michael Jackson Tribute Show ist die Einzige und originale Show in Deutschland die unter der choreographischen Leitung von La Velle Smith Jr. (Michael Jackson-Choreograph und Dancer für Thriller & Ghost) mit entwickelt wurde.\nGastspiele des Ensembles gab es bereits im Leipziger Gewandhaus\, Berliner Tempodrom \, Circus Krone München\, Meistersingerhalle Nürnberg\, Sylt Meerkabarett\, ZDF Fernsehgarten und sogar bei „Wetten dass ?!“.\nDie Fans dürfen sich freuen auf die Hits des „King of Pop“ mit viel Tanz\, Emotionen und einer spielstarken Band. \n\n\n    \n\n            \n        \n        \n\n\n    \n        \n\n            \n            \n            \n            \n                                                \n                            \n        \n\n    \n    \n        \n        \n    \n    \n\n        \n\n            \n    \n\n\n\n\n\n 
URL:https://www.livemacher.de/event/michael-jackson-tribute-live-experience-in-marbach-a-n-stadthalle-schillerhoehe/
LOCATION:Marbach am Neckar\, Stadthalle Schillerhöhe\, Schillerhöhe 12\, Marbach\, Baden-Württemberg\, 71672\, Deutschland
CATEGORIES:Kultur
ATTACH;FMTTYPE=image/jpeg:https://www.livemacher.de/wp-content/uploads/2023/03/web-20231216-MAR-Michael_Jackson_Tribute-1600x1600-1.jpg
ORGANIZER;CN="Livemacher GmbH":MAILTO:info@livemacher.de
GEO:48.9346878;9.2562195
X-APPLE-STRUCTURED-LOCATION;VALUE=URI;X-ADDRESS=Marbach am Neckar Stadthalle Schillerhöhe Schillerhöhe 12 Marbach Baden-Württemberg 71672 Deutschland;X-APPLE-RADIUS=500;X-TITLE=Schillerhöhe 12:geo:9.2562195,48.9346878
END:VEVENT
BEGIN:VEVENT
DTSTART;TZID=Europe/Berlin:20231227T200000
DTEND;TZID=Europe/Berlin:20231227T223000
DTSTAMP:20260425T153334
CREATED:20230705T133057Z
LAST-MODIFIED:20250226T154034Z
UID:10050847-1703707200-1703716200@www.livemacher.de
SUMMARY:Best of Musicals - "Highlights aus über 20 Musicals" Neumünster\, Theater in der Stadthalle
DESCRIPTION:BEST OF MUSICALS. Der Erfolg geht weiter…. \nHerausragende Darsteller mit kraftvollen Stimmen verzaubern die Zuschauer mit den erfolgreichsten Hits der beliebtesten Musicalproduktionen. Mit schillernden Kostümen\, schauspielerischem Talent\, einem Tanzensemble der Spitzenklasse und einem ausgefeilten Licht- und Soundkonzept entführt das Team von BEST OF MUSICALS in die bunte Traumwelt von 50 Jahren Musicalgeschichte. \nJetzt Tickets sichern! \nDas Publikum erlebt einen Streifzug durch gefühlvolle Balladen bei EVITA oder ELISABETH\, mitreißende Hits aus den Musicals GREASE und MAMMA MIA sowie bei WE WILL ROCK YOU. Die Top-Solisten lassen keine Wünsche offen und vereinen auch moderne Stücke wie DIE EISKÖNIGIN\, SISTER ACT und KÖNIG DER LÖWEN zu einem fesselnden Gesamtkunstwerk. Höhepunkte wie die unvergleichbaren Songs von TANZ DER VAMPIRE oder der Klassiker das PHANTOM DER OPER lassen die Besucher innehalten und sorgen für Gänsehautmomente. \nDas Ensemble um den Profi-Entertainer Espen Nowacki liebt das humoristische Zusammenbringen von Publikum und Bühne. Es führt mit Selbstironie und witzig-frivolem Schmiss durch den Abend. Bei BEST OF MUSICALS kommt auch bei weniger hartgesottenen Musical-Fans allerbeste Laune auf. Der immer wieder aufblitzende Humor und Flirt mit dem Publikum während und zwischen den Darbietungen lassen die Gäste und Darsteller für ein paar Stunden zu einer großen Familie werden. Unmöglich sich dieser Stimmung zu entziehen. Erstaunt fragen Zuschauer nach drei Stunden Glanzleistungen: „Wie\, schon vorbei?“ \nEin unvergesslicher Abend mit einem Mix aus gefühlvollen Balladen und rockigen Hits in deutscher Sprache\, eingebettet in ein grandioses Bühnenbild lädt alle Altersgruppen zum Erleben und Genießen ein.
URL:https://www.livemacher.de/event/best-of-musicals-highlights-aus-ueber-20-musicals-neumuenster-theater-in-der-stadthalle/
LOCATION:Neumünster\, Theater in der Stadthalle\, Kleinflecken 1\, Neumünster\, Schleswig-Holstein\, 24534
CATEGORIES:Musical
ATTACH;FMTTYPE=image/jpeg:https://www.livemacher.de/wp-content/uploads/2023/07/1600x1600px_BOM.jpeg
ORGANIZER;CN="Livemacher GmbH":MAILTO:info@livemacher.de
GEO:54.071747821416;9.9822154696515
X-APPLE-STRUCTURED-LOCATION;VALUE=URI;X-ADDRESS=Neumünster Theater in der Stadthalle Kleinflecken 1 Neumünster Schleswig-Holstein 24534;X-APPLE-RADIUS=500;X-TITLE=Kleinflecken 1:geo:9.9822154696515,54.071747821416
END:VEVENT
BEGIN:VEVENT
DTSTART;TZID=Europe/Berlin:20231228T200000
DTEND;TZID=Europe/Berlin:20231228T223000
DTSTAMP:20260425T153334
CREATED:20230705T133339Z
LAST-MODIFIED:20250226T153533Z
UID:10050848-1703793600-1703802600@www.livemacher.de
SUMMARY:Best of Musicals - "Highlights aus über 20 Musicals" Bremen\, Metropol Theater
DESCRIPTION:BEST OF MUSICALS. Der Erfolg geht weiter…. \nHerausragende Darsteller mit kraftvollen Stimmen verzaubern die Zuschauer mit den erfolgreichsten Hits der beliebtesten Musicalproduktionen. Mit schillernden Kostümen\, schauspielerischem Talent\, einem Tanzensemble der Spitzenklasse und einem ausgefeilten Licht- und Soundkonzept entführt das Team von BEST OF MUSICALS in die bunte Traumwelt von 50 Jahren Musicalgeschichte. \nJetzt Tickets sichern! \nDas Publikum erlebt einen Streifzug durch gefühlvolle Balladen bei EVITA oder ELISABETH\, mitreißende Hits aus den Musicals GREASE und MAMMA MIA sowie bei WE WILL ROCK YOU. Die Top-Solisten lassen keine Wünsche offen und vereinen auch moderne Stücke wie DIE EISKÖNIGIN\, SISTER ACT und KÖNIG DER LÖWEN zu einem fesselnden Gesamtkunstwerk. Höhepunkte wie die unvergleichbaren Songs von TANZ DER VAMPIRE oder der Klassiker das PHANTOM DER OPER lassen die Besucher innehalten und sorgen für Gänsehautmomente. \nDas Ensemble um den Profi-Entertainer Espen Nowacki liebt das humoristische Zusammenbringen von Publikum und Bühne. Es führt mit Selbstironie und witzig-frivolem Schmiss durch den Abend. Bei BEST OF MUSICALS kommt auch bei weniger hartgesottenen Musical-Fans allerbeste Laune auf. Der immer wieder aufblitzende Humor und Flirt mit dem Publikum während und zwischen den Darbietungen lassen die Gäste und Darsteller für ein paar Stunden zu einer großen Familie werden. Unmöglich sich dieser Stimmung zu entziehen. Erstaunt fragen Zuschauer nach drei Stunden Glanzleistungen: „Wie\, schon vorbei?“ \nEin unvergesslicher Abend mit einem Mix aus gefühlvollen Balladen und rockigen Hits in deutscher Sprache\, eingebettet in ein grandioses Bühnenbild lädt alle Altersgruppen zum Erleben und Genießen ein.
URL:https://www.livemacher.de/event/best-of-musicals-highlights-aus-ueber-20-musicals-bremen-metropol-theater/
LOCATION:Bremen\, Metropol Theater\, Richtweg 7\, Bremen\, Bremen\, 28195\, Deutschland
CATEGORIES:Musical
ATTACH;FMTTYPE=image/jpeg:https://www.livemacher.de/wp-content/uploads/2023/07/1600x1600px_BOM.jpeg
ORGANIZER;CN="Livemacher GmbH":MAILTO:info@livemacher.de
END:VEVENT
END:VCALENDAR