BEGIN:VCALENDAR
VERSION:2.0
PRODID:-//Livemacher GmbH - ECPv6.15.20//NONSGML v1.0//EN
CALSCALE:GREGORIAN
METHOD:PUBLISH
X-ORIGINAL-URL:https://www.livemacher.de
X-WR-CALDESC:Veranstaltungen für Livemacher GmbH
REFRESH-INTERVAL;VALUE=DURATION:PT1H
X-Robots-Tag:noindex
X-PUBLISHED-TTL:PT1H
BEGIN:VTIMEZONE
TZID:Europe/Berlin
BEGIN:DAYLIGHT
TZOFFSETFROM:+0100
TZOFFSETTO:+0200
TZNAME:CEST
DTSTART:20220327T010000
END:DAYLIGHT
BEGIN:STANDARD
TZOFFSETFROM:+0200
TZOFFSETTO:+0100
TZNAME:CET
DTSTART:20221030T010000
END:STANDARD
BEGIN:DAYLIGHT
TZOFFSETFROM:+0100
TZOFFSETTO:+0200
TZNAME:CEST
DTSTART:20230326T010000
END:DAYLIGHT
BEGIN:STANDARD
TZOFFSETFROM:+0200
TZOFFSETTO:+0100
TZNAME:CET
DTSTART:20231029T010000
END:STANDARD
BEGIN:DAYLIGHT
TZOFFSETFROM:+0100
TZOFFSETTO:+0200
TZNAME:CEST
DTSTART:20240331T010000
END:DAYLIGHT
BEGIN:STANDARD
TZOFFSETFROM:+0200
TZOFFSETTO:+0100
TZNAME:CET
DTSTART:20241027T010000
END:STANDARD
END:VTIMEZONE
BEGIN:VEVENT
DTSTART;TZID=Europe/Berlin:20230929T200000
DTEND;TZID=Europe/Berlin:20230929T200000
DTSTAMP:20260425T201728
CREATED:20221214T164232Z
LAST-MODIFIED:20231216T150305Z
UID:10050805-1696017600-1696017600@www.livemacher.de
SUMMARY:Alois & Elsbeth Gscheidle  – „Naseweiß“ im Prisma in Freiberg a.N.
DESCRIPTION:Sie gelten bei Vielen als das lustigste Ehepaar des Schwabenlandes: Alois und Elsbeth Gscheidle\, bekannt aus zahlreichen Fernsehauftritten! \nJetzt Tickets sichern! \nSie rücken bei ihren Auftritten nicht nur sich selbst\, sondern auch deren Zuschauer ins Rampenlicht und nennen es deshalb „schwäbisches Kabarett zum Anfassen“! \nDass sie bei ihrem Publikum so gut ankommen\, liegt wohl auch daran\, dass die Gscheidles sich mit ihren Scherzen auch selbst auf den Arm nehmen. Auf liebevolle und charmante Art charakterisieren sie manche Denk- und Lebensweise ihrer Landsleute und treffen dabei oft mitten ins Schwarze! Im neuen Programm „naseweiß“ interessieren sie sich für Alles und Jeden. „Naseweiß“ streifen sie durch den Alltag\, die Straßen und die Reihen der Gäste. Du willst wissen\, was den beiden da wieder aufgefallen ist? Dann komm zu den Gscheidles\, du passt da genau hin\, denn das ist auch schon ganz schön „naseweiß“!
URL:https://www.livemacher.de/event/alois-elsbeth-gscheidle-naseweiss-im-prisma-in-freiberg-a-n/
LOCATION:Freiberg am Neckar\, PRISMA\, Marktplatz 22\, Freiberg am Neckar\, Baden-Württemberg\, 71691\, Deutschland
CATEGORIES:Kultur
ATTACH;FMTTYPE=image/jpeg:https://www.livemacher.de/wp-content/uploads/2022/12/web_20230929-FRE-gscheidle-naseweiss-1600x1600-1.jpg
ORGANIZER;CN="Livemacher GmbH":MAILTO:info@livemacher.de
GEO:48.93591;9.19215
X-APPLE-STRUCTURED-LOCATION;VALUE=URI;X-ADDRESS=Freiberg am Neckar PRISMA Marktplatz 22 Freiberg am Neckar Baden-Württemberg 71691 Deutschland;X-APPLE-RADIUS=500;X-TITLE=Marktplatz 22:geo:9.19215,48.93591
END:VEVENT
END:VCALENDAR