BEGIN:VCALENDAR
VERSION:2.0
PRODID:-//Livemacher GmbH - ECPv6.15.20//NONSGML v1.0//EN
CALSCALE:GREGORIAN
METHOD:PUBLISH
X-WR-CALNAME:Livemacher GmbH
X-ORIGINAL-URL:https://www.livemacher.de
X-WR-CALDESC:Veranstaltungen für Livemacher GmbH
REFRESH-INTERVAL;VALUE=DURATION:PT1H
X-Robots-Tag:noindex
X-PUBLISHED-TTL:PT1H
BEGIN:VTIMEZONE
TZID:Europe/Berlin
BEGIN:DAYLIGHT
TZOFFSETFROM:+0100
TZOFFSETTO:+0200
TZNAME:CEST
DTSTART:20220327T010000
END:DAYLIGHT
BEGIN:STANDARD
TZOFFSETFROM:+0200
TZOFFSETTO:+0100
TZNAME:CET
DTSTART:20221030T010000
END:STANDARD
BEGIN:DAYLIGHT
TZOFFSETFROM:+0100
TZOFFSETTO:+0200
TZNAME:CEST
DTSTART:20230326T010000
END:DAYLIGHT
BEGIN:STANDARD
TZOFFSETFROM:+0200
TZOFFSETTO:+0100
TZNAME:CET
DTSTART:20231029T010000
END:STANDARD
BEGIN:DAYLIGHT
TZOFFSETFROM:+0100
TZOFFSETTO:+0200
TZNAME:CEST
DTSTART:20240331T010000
END:DAYLIGHT
BEGIN:STANDARD
TZOFFSETFROM:+0200
TZOFFSETTO:+0100
TZNAME:CET
DTSTART:20241027T010000
END:STANDARD
END:VTIMEZONE
BEGIN:VEVENT
DTSTART;TZID=Europe/Berlin:20230812T200000
DTEND;TZID=Europe/Berlin:20230812T200000
DTSTAMP:20260425T214812
CREATED:20220817T113748Z
LAST-MODIFIED:20230509T120510Z
UID:10050001-1691870400-1691870400@www.livemacher.de
SUMMARY:Duo Graceland mit Streicherquartett - "A Tribute to Simon & Garfunkel" in Tamm\, Rathausplatz "OPEN AIR"
DESCRIPTION:TERMIN VORVERLEGT (OPEN AIR): 12.08.2023                            \n                            \n                        \n                        \n                        \n                        \n                                                TERMIN VORVERLEGT: Open Air in Tamm auf dem Rathausplatz. Die für Sonntag\, den 26.11.2023 angesetzte Veranstaltung 'Duo Graceland mit Streicherquartett – „A Tribute to Simon & Garfunkel“' im Bürgersall in Tamm wurde vorverlegt: NEUER TERMIN: Samstag\, den 12.08.2023.Die breits für die Veranstaltung erworbenen Tickets behalten ihre Gültigekeit! \n\n                        \n                        \n                        \n                                        \n                    \n                \n            \n        \n\n    \n    \n\n\nMit Liedern wie „The Sound of Silence“ und „Cecilia“ schufen Simon & Garfunkel poetische Hymnen für eine ganze Generation. „Mrs. Robinson“ wurde 1969 weltberühmt durch den US-amerikanischen Spielfilm „Die Reifeprüfung“. 1968 schrieb das US-amerikanische Duo mit „The Boxer“ ein hochemotionales Loblied auf einen Überlebenskünstler. Als Botschaft der Hoffnung ging zwei Jahre später mit „Bridge Over Troubled Water“ eine Komposition von schlichter Schönheit in die Musikgeschichte ein. \nJetzt Tickets sichern! \nSeit einigen Jahren spürt das Duo Graceland dem musikalischen Geist seiner Vorbilder intensiv nach und tourt mit dem Programm „A Tribute to Simon & Garfunkel“ überaus erfolgreich durch die Republik. In ihrem aktuellen Projekt beweisen Thomas Wacker (Paul Simon) und Thorsten Gary (Art Garfunkel) eindrücklich: Die unzähligen Klassiker des wohl erfolgreichsten Folkrock-Duos der Welt harmonieren perfekt mit dem unverkennbaren Klang eines klassischen Streichensembles.
URL:https://www.livemacher.de/event/duo-graceland-mit-streicherquartett-a-tribute-to-simon-garfunkel-in-tamm-buergersaal/
LOCATION:Rathausplatz Tamm (OPENAIR)\, Hauptstraße 100\, Tamm\, Baden-Württemberg\, 71732\, Deutschland
CATEGORIES:Folk-Rock,Jazz-Pop-Rock
ORGANIZER;CN="Livemacher GmbH":MAILTO:info@livemacher.de
END:VEVENT
BEGIN:VEVENT
DTSTART;TZID=Europe/Berlin:20230813T200000
DTEND;TZID=Europe/Berlin:20230813T200000
DTSTAMP:20260425T214812
CREATED:20230503T081045Z
LAST-MODIFIED:20230913T141430Z
UID:10050819-1691956800-1691956800@www.livemacher.de
SUMMARY:Dui do on de Sell & Die Schrillen Fehlaperlen in Tamm\, Rathausplatz "OPEN AIR"
DESCRIPTION:7 Schwaben = geballte Ladung Comedy!\nDie schlagfertigen Powerfrauen „Dui do on de Sell“ gehören zu den beliebtesten Kabarett-Stars im Ländle. Bei regelmäßig ausverkauften Veranstaltungen und diversen ARD- und SWR-Sendungen lassen sie ihr Publikum „brüllen“ vor Lachen. In Tamm präsentieren die zwei Schwertgoschen die Lieblings-Szenen ihrer Zuschauer aus 2 Jahrzehnten Kabarett – von ihren ersten Rollen als Putzweiber Karlene und Mariele über das Erfolgsprogramm „Wechseljahre“ bis zu „und du lach’sch halt!“ \nJetzt Tickets sichern! \nDie „Schrillen Fehlaperlen“ begeistern mit Wortwitz\, schrillen Outfits und derb-schwäbischen Liedern\, von denen viele ihr Publikum noch lange danach als absolute Ohrwürmer begleiten. Ihr Hit „mir roichts\, dass i woiß\, dass i kennt\, wenn i wed“ ist in aller Munde und der absolute Erfolgstitel in fast jedem Whatsapp-Archiv. Herzhaft offen und mit viel Selbstironie bringen die vier Damen und der Quotenmann den Rathausplatz zum Beben.\nGemeinsam zünden die sieben Künstler ein geniales schwäbisches Comedy-Feuerwerk\, das schlagfertiger und authentischer nicht sein könnte. Da bleibt kein Auge trocken.
URL:https://www.livemacher.de/event/dui-do-on-de-sell-die-schrillen-fehlaperlen-in-tamm-rathausplatz-open-air/
LOCATION:Rathausplatz Tamm (OPENAIR)\, Hauptstraße 100\, Tamm\, Baden-Württemberg\, 71732\, Deutschland
CATEGORIES:Kabarett/Musik
ATTACH;FMTTYPE=image/jpeg:https://www.livemacher.de/wp-content/uploads/2023/05/LM_20230730_BES_Rolf-Miller_1600x1600-scaled.jpg
ORGANIZER;CN="Livemacher GmbH":MAILTO:info@livemacher.de
END:VEVENT
END:VCALENDAR