BEGIN:VCALENDAR
VERSION:2.0
PRODID:-//Livemacher GmbH - ECPv6.15.20//NONSGML v1.0//EN
CALSCALE:GREGORIAN
METHOD:PUBLISH
X-WR-CALNAME:Livemacher GmbH
X-ORIGINAL-URL:https://www.livemacher.de
X-WR-CALDESC:Veranstaltungen für Livemacher GmbH
REFRESH-INTERVAL;VALUE=DURATION:PT1H
X-Robots-Tag:noindex
X-PUBLISHED-TTL:PT1H
BEGIN:VTIMEZONE
TZID:Europe/Berlin
BEGIN:DAYLIGHT
TZOFFSETFROM:+0100
TZOFFSETTO:+0200
TZNAME:CEST
DTSTART:20220327T010000
END:DAYLIGHT
BEGIN:STANDARD
TZOFFSETFROM:+0200
TZOFFSETTO:+0100
TZNAME:CET
DTSTART:20221030T010000
END:STANDARD
BEGIN:DAYLIGHT
TZOFFSETFROM:+0100
TZOFFSETTO:+0200
TZNAME:CEST
DTSTART:20230326T010000
END:DAYLIGHT
BEGIN:STANDARD
TZOFFSETFROM:+0200
TZOFFSETTO:+0100
TZNAME:CET
DTSTART:20231029T010000
END:STANDARD
BEGIN:DAYLIGHT
TZOFFSETFROM:+0100
TZOFFSETTO:+0200
TZNAME:CEST
DTSTART:20240331T010000
END:DAYLIGHT
BEGIN:STANDARD
TZOFFSETFROM:+0200
TZOFFSETTO:+0100
TZNAME:CET
DTSTART:20241027T010000
END:STANDARD
END:VTIMEZONE
BEGIN:VEVENT
DTSTART;TZID=Europe/Berlin:20230729T200000
DTEND;TZID=Europe/Berlin:20230729T200000
DTSTAMP:20260425T232219
CREATED:20230317T122356Z
LAST-MODIFIED:20231216T150414Z
UID:10050812-1690660800-1690660800@www.livemacher.de
SUMMARY:Die Füenf "ENDLICH! Die Abschiedstour mit den Highlights aus 25 Jahren" in Besigheim\, Alte Kelter
DESCRIPTION:ENDLICH!\nDie Abschiedstour mit Highlights aus 25 Jahren\nENDLICH Schluss mit lustig?\nGeht den Maulhelden ENDLICH mal die Puste aus? Werden diese Kindsköpfe ENDLICH erwachsen? \nJetzt Tickets sichern! \nTja\, scheint so. Wohl auch die geilste Zeit währt nicht ewig. So kommt nun auch die Ära füenf auf die Zielgerade für den Endspott der Besinglichkeiten! \nJetzt aber erst mal runter von der Tränendrüse. So sang- und klanglos machen sie sich nicht vom Acker. Bis für Justice\, Pelvis\, Memphis\, Little Joe und Dottore Basso also ENDLICH der letzte Vorhang fällt\, haben sie nochmals richtig Böcke\, für euch ein musikomisches Freudenfeuer eines Vierteljahrhunderts Sing & Unsing abzufackeln. \nfüenf bedanken sich aufs scherzlichste mit dem Besten\, was ihr bescheidenes Repertoire zu bieten hat – nebst einem allabendlichen Wunschkonzert – ENDLICH bei den treuesten Fans der Welt! \nAlso langer Rede schnurzer Sing: füenf\, halt doch mal die Klappe…na ENDLICH!
URL:https://www.livemacher.de/event/die-fueenf-endlich-die-abschiedstour-mit-den-highlights-aus-25-jahren-in-besigheim-alte-kelter/
LOCATION:Besigheim\, Stadthalle Alte Kelter\, Hauptstraße 57\, Besigheim\, Baden-Württemberg\, 74354\, Deutschland
CATEGORIES:Kultur
ATTACH;FMTTYPE=image/jpeg:https://www.livemacher.de/wp-content/uploads/2023/03/web_LM_20230729_BES_Fuenf_Abschied_1600x1600.jpg
ORGANIZER;CN="Livemacher GmbH":MAILTO:info@livemacher.de
GEO:49.0007831;9.1395337
X-APPLE-STRUCTURED-LOCATION;VALUE=URI;X-ADDRESS=Besigheim Stadthalle Alte Kelter Hauptstraße 57 Besigheim Baden-Württemberg 74354 Deutschland;X-APPLE-RADIUS=500;X-TITLE=Hauptstraße 57:geo:9.1395337,49.0007831
END:VEVENT
BEGIN:VEVENT
DTSTART;TZID=Europe/Berlin:20230730T190000
DTEND;TZID=Europe/Berlin:20230730T190000
DTSTAMP:20260425T232219
CREATED:20230502T120424Z
LAST-MODIFIED:20231216T150334Z
UID:10050818-1690743600-1690743600@www.livemacher.de
SUMMARY:Rolf Miller "WENN NICHT WANN DANN JETZT" Besigheim\, Alte Kelter
DESCRIPTION:WENN NICHT WANN DANN JETZT \nMit „WENN NICHT WANN DANN JETZT“ wird Rolf Miller eines mit Sicherheit erneut schaffen: elegant stolpernd den Elefanten im Raum zu umgehen. \nJetzt Tickets sichern! \nDenn das ist seine Figur: stur wie ein Sack Zement – was nur dank seines Humors erlaubt sein kann. Grandios ignorant\, vital dumpf und komplett halbwissend. Wie immer gibt der Comedian stoisch genau den Fels in der Brandung\, der mit Zuversicht wegschaut\, vollmundig zu wichtigen Themen alles und dabei garantiert nichts sagt; und natürlich alles bemerkt\, nur nicht das eigene Scheitern. Je mehr um ihn herum alles zusammenbricht\, desto mehr können wir nicht fassen\, wie dieser Gockel nicht merkt\, was los ist. „Er merkt’s einfach nicht“\, würde man im echten Leben sagen. \nZum Glück bleibt dieses gemeingefährliche Vehikel auf einer Bühne. „Konträrfaszination“ sagte einst Roger Willemsen dazu: der Betrachter kann herabschauen\, wenn er das Dschungelcamp sieht\, und sich deshalb ergötzen. Konträr zum Täter. Miller gelingt aber der „schmale Spagat“\, wie er es falsch nennen würde; das Vorführen seiner Figur einerseits\, aber auch darin spiegelnd unser eigenes Versagen andererseits\, darzustellen; zum Glück mit seinen Registern der kaum überhöhten Satire\, mit eben genau der Leichtigkeit\, die wir von ihm kennen – und deshalb gar nicht gleich bemerken\, wie er den Elefanten zumindest betäubt:\n„…wenn nicht wann\, äh dann … jetzt … also äh … vom Ding her … praktisch..“ \nEs-genügt-nicht-sich-keine-Gedanken-zu-machen-man-muss-auch-unfähig-sein-sie auszudrücken-Teil 8 !!!
URL:https://www.livemacher.de/event/rolf-miller-wenn-nicht-wann-dann-jetzt-besigheim-alte-kelter/
LOCATION:Besigheim\, Stadthalle Alte Kelter\, Hauptstraße 57\, Besigheim\, Baden-Württemberg\, 74354\, Deutschland
CATEGORIES:Kultur
ATTACH;FMTTYPE=image/jpeg:https://www.livemacher.de/wp-content/uploads/2022/01/LM-20231112_TAM_Rolf-Miller_1600x1600-NEU.jpg
ORGANIZER;CN="Livemacher GmbH":MAILTO:info@livemacher.de
GEO:49.0007831;9.1395337
X-APPLE-STRUCTURED-LOCATION;VALUE=URI;X-ADDRESS=Besigheim Stadthalle Alte Kelter Hauptstraße 57 Besigheim Baden-Württemberg 74354 Deutschland;X-APPLE-RADIUS=500;X-TITLE=Hauptstraße 57:geo:9.1395337,49.0007831
END:VEVENT
END:VCALENDAR