BEGIN:VCALENDAR
VERSION:2.0
PRODID:-//Livemacher GmbH - ECPv6.15.20//NONSGML v1.0//EN
CALSCALE:GREGORIAN
METHOD:PUBLISH
X-WR-CALNAME:Livemacher GmbH
X-ORIGINAL-URL:https://www.livemacher.de
X-WR-CALDESC:Veranstaltungen für Livemacher GmbH
REFRESH-INTERVAL;VALUE=DURATION:PT1H
X-Robots-Tag:noindex
X-PUBLISHED-TTL:PT1H
BEGIN:VTIMEZONE
TZID:Europe/Berlin
BEGIN:DAYLIGHT
TZOFFSETFROM:+0100
TZOFFSETTO:+0200
TZNAME:CEST
DTSTART:20220327T010000
END:DAYLIGHT
BEGIN:STANDARD
TZOFFSETFROM:+0200
TZOFFSETTO:+0100
TZNAME:CET
DTSTART:20221030T010000
END:STANDARD
BEGIN:DAYLIGHT
TZOFFSETFROM:+0100
TZOFFSETTO:+0200
TZNAME:CEST
DTSTART:20230326T010000
END:DAYLIGHT
BEGIN:STANDARD
TZOFFSETFROM:+0200
TZOFFSETTO:+0100
TZNAME:CET
DTSTART:20231029T010000
END:STANDARD
BEGIN:DAYLIGHT
TZOFFSETFROM:+0100
TZOFFSETTO:+0200
TZNAME:CEST
DTSTART:20240331T010000
END:DAYLIGHT
BEGIN:STANDARD
TZOFFSETFROM:+0200
TZOFFSETTO:+0100
TZNAME:CET
DTSTART:20241027T010000
END:STANDARD
END:VTIMEZONE
BEGIN:VEVENT
DTSTART;TZID=Europe/Berlin:20230618T190000
DTEND;TZID=Europe/Berlin:20230618T190000
DTSTAMP:20260426T010153
CREATED:20220114T153516Z
LAST-MODIFIED:20230322T094103Z
UID:10050460-1687114800-1687114800@www.livemacher.de
SUMMARY:Die Füenf "ENDLICH! Die Abschiedstour mit den Highlights aus 25 Jahren" in Mosbach\, Alte Mälzerei
DESCRIPTION:ERSATZTERMIN für krankheitsbedingt abgesagte Veranstaltung vom 19.03.2023                            \n                            \n                        \n                        \n                        \n                        \n                                                Ersatztermin für die krankheitsbedingt abgesagte Veranstaltung . Für die am Sonntag\, den 19.03.2023 angesetzte und krankheitsbedingt abgesagte Veranstaltung 'Die Füenf „ENDLICH! Die Abschiedstour mit den Highlights aus 25 Jahren“' in der Alten Mälzerei in Mosbach wurde nun schnell ein Ersatztermin gefunden: NEUER TERMIN: Sonntag\, den 18.06.2023.Die für die abgesagte Veranstaltung erworbenen Tickets behalten ihre Gültigekeit! \n\n                        \n                        \n                        \n                                        \n                    \n                \n            \n        \n\n    \n    \n\n\nENDLICH!\nDie Abschiedstour mit Highlights aus 25 Jahren\nENDLICH Schluss mit lustig?\nGeht den Maulhelden ENDLICH mal die Puste aus? Werden diese Kindsköpfe ENDLICH erwachsen? \nJetzt Tickets sichern! \nTja\, scheint so. Wohl auch die geilste Zeit währt nicht ewig. So kommt nun auch die Ära füenf auf die Zielgerade für den Endspott der Besinglichkeiten! \nJetzt aber erst mal runter von der Tränendrüse. So sang- und klanglos machen sie sich nicht vom Acker. Bis für Justice\, Pelvis\, Memphis\, Little Joe und Dottore Basso also ENDLICH der letzte Vorhang fällt\, haben sie nochmals richtig Böcke\, für euch ein musikomisches Freudenfeuer eines Vierteljahrhunderts Sing & Unsing abzufackeln. \nfüenf bedanken sich aufs scherzlichste mit dem Besten\, was ihr bescheidenes Repertoire zu bieten hat – nebst einem allabendlichen Wunschkonzert – ENDLICH bei den treuesten Fans der Welt! \nAlso langer Rede schnurzer Sing: füenf\, halt doch mal die Klappe…na ENDLICH!
URL:https://www.livemacher.de/event/die-fueenf-endlich-die-abschiedstour-mit-den-highlights-aus-25-jahren-in-mosbach-alte-maelzerei/
LOCATION:Mosbach\, Alte Mälzerei\, Alte Bergsteige 7\, Mosbach\, Baden-Württemberg\, 74821\, Deutschland
CATEGORIES:Bühne
ORGANIZER;CN="Livemacher GmbH":MAILTO:info@livemacher.de
GEO:49.3526836;9.1488316
X-APPLE-STRUCTURED-LOCATION;VALUE=URI;X-ADDRESS=Mosbach Alte Mälzerei Alte Bergsteige 7 Mosbach Baden-Württemberg 74821 Deutschland;X-APPLE-RADIUS=500;X-TITLE=Alte Bergsteige 7:geo:9.1488316,49.3526836
END:VEVENT
BEGIN:VEVENT
DTSTART;TZID=Europe/Berlin:20230630T200000
DTEND;TZID=Europe/Berlin:20230630T200000
DTSTAMP:20260426T010153
CREATED:20220114T164244Z
LAST-MODIFIED:20231216T150630Z
UID:10050464-1688155200-1688155200@www.livemacher.de
SUMMARY:Wolfgang Trepper Live in Besigheim\, Alte Kelter
DESCRIPTION:Termin krankheitsbedingt kurzfristig abgesagt                            \n                            \n                        \n                        \n                        \n                        \n                                                ERSATZTERMIN für krankheitsbedingt abgesagte Veranstaltung vom 26.05.2023 Für die am Freitag\, den 26.05.2023 angesetzte und krankheitsbedingt abgesagte Veranstaltung von Wolfgang Trepper "Live" in der Alten Kelter in Besigheim wurde nun schnell ein Ersatztermin gefunden: NEUER TERMIN: Freitag\, der 30.06.2023.\n\nDie für die abgesagte Veranstaltung erworbenen Tickets behalten ihre Gültigkeit!\n\nBei voraussichtlicher Nichtwahrnehmung des Ersatztermins können Tickets bei der Vorverkaufsstelle des Erwerbs rückerstattet werden. \n\n                        \n                        \n                        \n                                        \n                    \n                \n            \n        \n\n    \n    \n\n\nWenn Kabarettist Wolfgang Trepper loslegt\, gibt es kein Halten mehr: Er poltert und regt sich auf\, analysiert Politiker und Fernsehmoderatoren\, Serien und Fußballdramen – und natürlich Schlagertexte. Für sein Publikum hat er sich wieder stundenlang vor die Glotze gesetzt\, um einen schnellen Überblick zu geben\, was man alles nicht sehen muss. So kriegen alle ihr Fett weg und ordentlich den Marsch geblasen\, die es sich verdient haben – an Typen und Themen mangelt es da nicht. Neben seiner brachialen Art kann Wolfgang Trepper aber auch die ganz leisen Töne. So erlebt der Besucher alles: Weinen vor Freude und Weinen vor Besinnlichkeit. \nJetzt Tickets sichern!
URL:https://www.livemacher.de/event/wolfgang-trepper-live-in-besigheim-alte-kelter/
LOCATION:Besigheim\, Stadthalle Alte Kelter\, Hauptstraße 57\, Besigheim\, Baden-Württemberg\, 74354\, Deutschland
CATEGORIES:Bühne,Kultur
ORGANIZER;CN="Livemacher GmbH":MAILTO:info@livemacher.de
GEO:49.0007831;9.1395337
X-APPLE-STRUCTURED-LOCATION;VALUE=URI;X-ADDRESS=Besigheim Stadthalle Alte Kelter Hauptstraße 57 Besigheim Baden-Württemberg 74354 Deutschland;X-APPLE-RADIUS=500;X-TITLE=Hauptstraße 57:geo:9.1395337,49.0007831
END:VEVENT
END:VCALENDAR