BEGIN:VCALENDAR
VERSION:2.0
PRODID:-//Livemacher GmbH - ECPv6.15.20//NONSGML v1.0//EN
CALSCALE:GREGORIAN
METHOD:PUBLISH
X-WR-CALNAME:Livemacher GmbH
X-ORIGINAL-URL:https://www.livemacher.de
X-WR-CALDESC:Veranstaltungen für Livemacher GmbH
REFRESH-INTERVAL;VALUE=DURATION:PT1H
X-Robots-Tag:noindex
X-PUBLISHED-TTL:PT1H
BEGIN:VTIMEZONE
TZID:Europe/Berlin
BEGIN:DAYLIGHT
TZOFFSETFROM:+0100
TZOFFSETTO:+0200
TZNAME:CEST
DTSTART:20120325T010000
END:DAYLIGHT
BEGIN:STANDARD
TZOFFSETFROM:+0200
TZOFFSETTO:+0100
TZNAME:CET
DTSTART:20121028T010000
END:STANDARD
BEGIN:DAYLIGHT
TZOFFSETFROM:+0100
TZOFFSETTO:+0200
TZNAME:CEST
DTSTART:20130331T010000
END:DAYLIGHT
BEGIN:STANDARD
TZOFFSETFROM:+0200
TZOFFSETTO:+0100
TZNAME:CET
DTSTART:20131027T010000
END:STANDARD
BEGIN:DAYLIGHT
TZOFFSETFROM:+0100
TZOFFSETTO:+0200
TZNAME:CEST
DTSTART:20140330T010000
END:DAYLIGHT
BEGIN:STANDARD
TZOFFSETFROM:+0200
TZOFFSETTO:+0100
TZNAME:CET
DTSTART:20141026T010000
END:STANDARD
BEGIN:DAYLIGHT
TZOFFSETFROM:+0100
TZOFFSETTO:+0200
TZNAME:CEST
DTSTART:20150329T010000
END:DAYLIGHT
BEGIN:STANDARD
TZOFFSETFROM:+0200
TZOFFSETTO:+0100
TZNAME:CET
DTSTART:20151025T010000
END:STANDARD
END:VTIMEZONE
BEGIN:VEVENT
DTSTART;TZID=Europe/Berlin:20140315T190000
DTEND;TZID=Europe/Berlin:20140315T190000
DTSTAMP:20260425T140642
CREATED:20180201T111753Z
LAST-MODIFIED:20191202T090438Z
UID:10048829-1394910000-1394910000@www.livemacher.de
SUMMARY:Die Mobilés - "Moving Shadow" Besigheim
DESCRIPTION:Die Mobilés mit Moving Shadows  \nDas geheimnisvolle Schattenspiel aus menschlichen Körpern entführt in eine andere Welt. Nach dem einzigartigen preisgekrönten Stück „BeWeGung“ nehmen uns Die Mobilés mit auf eine phantastische Reise. Sensationelle Bewegungsqualitäten werden durch außergewöhnliche Erzählkunst zu einem unvergesslichen Erlebnis. \nMoving Shadows lässt einen nicht enden wollenden Bilderreigen entstehen\, weckt Assoziationen und Emotionen. Mitreißende Musik unterstreicht das fabelhafte Abenteuer. Das virtuose Formenspiel verzaubert durch wundervolle Geschichten mit bildhafter Wucht – poesievoll berührend bis witzig spektakulär. \nNach dem Supertalent Halbfinale in Deutschland wurden Die Mobilés 2012 die verdienten Sieger des „SUPERTALENTS“ in Frankreich
URL:https://www.livemacher.de/event/die-mobiles-moving-shadow-besigheim/
LOCATION:Besigheim\, Stadthalle Alte Kelter\, Hauptstraße 57\, Besigheim\, Baden-Württemberg\, 74354\, Deutschland
CATEGORIES:Show
ATTACH;FMTTYPE=image/jpeg:https://www.livemacher.de/wp-content/uploads/2018/01/Moving-Shadows-Pressefoto-Nr.-D-2MB-pc-Manni-Linke.jpg
ORGANIZER;CN="Livemacher GmbH":MAILTO:info@livemacher.de
GEO:49.0007831;9.1395337
X-APPLE-STRUCTURED-LOCATION;VALUE=URI;X-ADDRESS=Besigheim Stadthalle Alte Kelter Hauptstraße 57 Besigheim Baden-Württemberg 74354 Deutschland;X-APPLE-RADIUS=500;X-TITLE=Hauptstraße 57:geo:9.1395337,49.0007831
END:VEVENT
BEGIN:VEVENT
DTSTART;TZID=Europe/Berlin:20140215T193000
DTEND;TZID=Europe/Berlin:20140215T193000
DTSTAMP:20260425T140642
CREATED:20180201T111622Z
LAST-MODIFIED:20191202T090444Z
UID:10048823-1392492600-1392492600@www.livemacher.de
SUMMARY:Rolf Miller - "Tatsachen" Besigheim
DESCRIPTION:Er weicht aus. Er verschweigt. Er sagt nichts. Und das ist einzigartig. \n„Das sind die Tatsachen“ sagte ein Zuschauer nach der Vorstellung des Erfolgsprogramms „Kein Grund zur Veranlassung“ zu Rolf Miller. Das war die Inititialzündung zum Programm „Tatsachen“\, das die Schraube weiter zudreht im Alltags-Desaster in unser aller Welt. \nWer wissen will\, wie Rolf Miller zu wichtigen Themen wie Atombombe\, Urknall\, Kunst\, Sport\, Frauen\, Kinder\, Achim und Jürgen\, zielsicher den Faden verliert\, ist hier genau richtig. Millers Figur ist genau der Typ\, der dem Planeten irrsinnig auf den Zeiger geht…und es nicht merkt. Und das mit Bravour! \nIm echten Leben ist man das Opfer\, wenn so einer zufällig neben einem sitzt und man mit anhören muss\, was er von sich gibt. Hört man ihm aber auf der Bühne zu\, wird man zum Täter\, übt Rache und darf darüber lachen und zwar auf höchstem Niveau. \nNicht WAS\, sondern WIE lautet die Maxime. Wenn Rolf Miller eine Pause setzt\, tut sich danach mit explosiver Wucht ein grandioser Abgrund auf. „Hinter der Pause lauert die Pointe “ so die Jury des Deutschen Kleinkunstpreises.
URL:https://www.livemacher.de/event/rolf-miller-tatsachen-besigheim/
LOCATION:Besigheim\, Stadthalle Alte Kelter\, Hauptstraße 57\, Besigheim\, Baden-Württemberg\, 74354\, Deutschland
CATEGORIES:Bühne
ATTACH;FMTTYPE=image/jpeg:https://www.livemacher.de/wp-content/uploads/2018/01/RolfM09_02Nsmall-miller.jpg
ORGANIZER;CN="Livemacher GmbH":MAILTO:info@livemacher.de
GEO:49.0007831;9.1395337
X-APPLE-STRUCTURED-LOCATION;VALUE=URI;X-ADDRESS=Besigheim Stadthalle Alte Kelter Hauptstraße 57 Besigheim Baden-Württemberg 74354 Deutschland;X-APPLE-RADIUS=500;X-TITLE=Hauptstraße 57:geo:9.1395337,49.0007831
END:VEVENT
BEGIN:VEVENT
DTSTART;TZID=Europe/Berlin:20140125T190000
DTEND;TZID=Europe/Berlin:20140125T190000
DTSTAMP:20260425T140642
CREATED:20180201T111722Z
LAST-MODIFIED:20191202T090449Z
UID:10048825-1390676400-1390676400@www.livemacher.de
SUMMARY:Torsten Sträter - "Selbstbeherrschung umständehalber abzugeben!" Besigheim
DESCRIPTION:Comedy mit integrierten Lesungselementen: Klingt erst mal wie Reklame für einen Couchtisch\, ist aber nur die nüchterne Beschreibung für eines der lustigsten Stand-up & Sit-down-Lese-Comedy-Kabarett-Programme überhaupt. \nUnd ja\, der Künstler schreibt diesen Text gerade selbst. Das ist meine Heimwerkermentaliät. \nTorsten Stäter hat eine schöne Stimme! Das habe ich auch selbst geschrieben. Ist aber so. \nWas den Inhalt des Programms angeht\, möchte ich nicht zuviel verraten. \nEin paar Stichworte vielleicht: Tiefgefrorene Hunde\, Frauenfußball\, Fleischwurst\, Poesie\, frittiertes Frühstück\, Kinder\, Liebe\, das Ruhrgebiet\, Atomkraft\, meine Mutter … alle sozial relevanten Themen drin. \nLiebe Grüße\, \nTorsten Sträter
URL:https://www.livemacher.de/event/torsten-straeter-selbstbeherrschung-umstaendehalber-abzugeben-besigheim/
LOCATION:Besigheim\, Stadthalle Alte Kelter\, Hauptstraße 57\, Besigheim\, Baden-Württemberg\, 74354\, Deutschland
CATEGORIES:Bühne
ATTACH;FMTTYPE=image/jpeg:https://www.livemacher.de/wp-content/uploads/2018/02/TorstenStraeter32.jpg
ORGANIZER;CN="Livemacher GmbH":MAILTO:info@livemacher.de
GEO:49.0007831;9.1395337
X-APPLE-STRUCTURED-LOCATION;VALUE=URI;X-ADDRESS=Besigheim Stadthalle Alte Kelter Hauptstraße 57 Besigheim Baden-Württemberg 74354 Deutschland;X-APPLE-RADIUS=500;X-TITLE=Hauptstraße 57:geo:9.1395337,49.0007831
END:VEVENT
BEGIN:VEVENT
DTSTART;TZID=Europe/Berlin:20131101T190000
DTEND;TZID=Europe/Berlin:20131101T190000
DTSTAMP:20260425T140642
CREATED:20180201T112113Z
LAST-MODIFIED:20191202T090024Z
UID:10048833-1383332400-1383332400@www.livemacher.de
SUMMARY:Alois Gscheidle - "s'ghert gscheid kehrt" Besigheim
DESCRIPTION:Schwäbisches Kabarett zum Olanga! \n„s’ghert gscheid kehrt“ \nAls Alois Gscheidle wird geschimpft\, gewettert\, siniert\, gegrübelt\, und gschwätzt – gerade so schwäbisch wie ihm der Schnabel gewachsen ist.  “Der Dialekt isch eine überaus erhaltenswerte und förderwürdige Kultureinrichtung.” \nAlois ist ein ganz besonderer Schwabe. Er heißt nicht nur Gscheidle\, er ist auch einer: schwäbisch\, clever und hintersinnig. Der weiß zu allem ebbes. \n– Ein Angriff auf die Lachmuskeln für alle Auswärtsgeborenen und Schwaben –
URL:https://www.livemacher.de/event/alois-gscheidle-sghert-gscheid-kehrt-besigheim/
LOCATION:Besigheim\, Stadthalle Alte Kelter\, Hauptstraße 57\, Besigheim\, Baden-Württemberg\, 74354\, Deutschland
CATEGORIES:Bühne
ATTACH;FMTTYPE=image/jpeg:https://www.livemacher.de/wp-content/uploads/2018/01/Hausmeister.jpg
ORGANIZER;CN="Livemacher GmbH":MAILTO:info@livemacher.de
GEO:49.0007831;9.1395337
X-APPLE-STRUCTURED-LOCATION;VALUE=URI;X-ADDRESS=Besigheim Stadthalle Alte Kelter Hauptstraße 57 Besigheim Baden-Württemberg 74354 Deutschland;X-APPLE-RADIUS=500;X-TITLE=Hauptstraße 57:geo:9.1395337,49.0007831
END:VEVENT
END:VCALENDAR